Workbook
Name nowwa: #REF!
Name nowwa: #REF!
Name nowwa: #REF!
Name nowwa: #REF!
Name nowwa: #REF!
Name Obszar_1093uku: #REF!
Name Obszar_1093uku: #REF!
Name Obszar_1093uku: #REF!
Name Obszar_1093uku: #REF!
Name Obszar_1093uku: #REF!
Name Obszar_1093uku: #REF!
Name Obszar_1093uku: #REF!
Name q: #REF!
Name q: #REF!
Name q: #REF!
Name wydatki: #REF!
Name wydatki: #REF!
Name wydatki: #REF!

Sheet dochody
A1: Zestawienie wykonania planu dochodów województwa (według działów, rozdziałów, paragrafów klasyfikacji budżetowej oraz źródeł pochodzenia i rodzajów dochodów)
H2: w złotych
A3: Dział | B3: Rozdz. | C3: Źródło pochodzenia | D3: Paragraf | E3: Plan wg uchwały budżetowej | F3: Plan po zmianach | G3: Wykonanie | H3: % wykonania (7:6)
A5: 1. | B5: 2. | C5: 3. | D5: 4. | E5: 5. | F5: 6. | G5: 7. | H5: 8.
A6: 010 | C6: ROLNICTWO I ŁOWIECTWO | E6: =SUM(E7,E14,E21,E26,) -> 36583500 | F6: =SUM(F7,F14,F21,F26,) -> 26776567 | G6: =SUM(G7,G14,G21,G26,) -> 42912230 | H6: =G6/F6 -> 1.6026039
B7: 01004 | C7: Biura geodezji i terenów rolnych | E7: =SUM(E8,E12) -> 9855500 | F7: =SUM(F8,F12) -> 5500 | G7: =SUM(G8,G12) -> 9215194.1 | H7: =G7/F7 -> 1675.4898
B8: a) dochody bieżące, w tym: | E8: =SUM(E9:E11) -> 9855500 | F8: =SUM(F9:F11) -> 5500 | G8: =SUM(G9:G11) -> 9148100.6 | H8: =G8/F8 -> 1663.291
C9: Dochody realizowane przez Podkarpackie Biuro Geodezji i Terenów Rolnych w Rzeszowie | D9: 0830 | E9: 9850000 | F9: 0 | G9: 9143666.8
D10: 0940 | E10: 0 | F10: 0 | G10: 805.84
D11: 0970 | E11: 5500 | F11: 5500 | G11: 3627.9 | H11: =G11/F11 -> 0.65961818
B12: b) dochody majątkowe, w tym: | E12: =SUM(E13) -> 0 | F12: =SUM(F13) -> 0 | G12: =SUM(G13) -> 67093.49
C13: Dochody realizowane przez Podkarpackie Biuro Geodezji i Terenów Rolnych w Rzeszowie | D13: 0870 | E13: 0 | F13: 0 | G13: 67093.49
B14: 01041 | C14: Program Rozwoju Obszarów Wiejskich | E14: =SUM(E15,E20) -> 10060000 | F14: =SUM(F15,F20) -> 10060000 | G14: =SUM(G15,G20) -> 10246352 | H14: =G14/F14 -> 1.018524
B15: a) dochody bieżące, w tym: | E15: =SUM(E16:E19) -> 10060000 | F15: =SUM(F16:F19) -> 10060000 | G15: =SUM(G16:G19) -> 10246352 | H15: =G15/F15 -> 1.018524
C16: Dotacja celowa z budżetu państwa na finansowanie wydatków objętych Pomocą Techniczną Programu Rozwoju Obszarów Wiejskich na lata 2014 - 2020 | D16: 2058 | E16: 6401000 | F16: 6401000 | G16: 6277869 | H16: =G16/F16 -> 0.98076379
C17: Dotacja celowa z budżetu państwa na współfinansowanie wydatków objętych Pomocą Techniczną Programu Rozwoju Obszarów Wiejskich na lata 2014 - 2020 | D17: 2059 | E17: 3659000 | F17: 3659000 | G17: 3588349.4 | H17: =G17/F17 -> 0.98069129
C18: Środki otrzymane z Agencji Restrukturyzacji i Modernizacji Rolnictwa jako refundacja wydatków poniesionych ze środków własnych na finansowanie wydatków objętych Pomocą Techniczną Programu Rozwoju Obszarów Wiejskich na lata 2014-2020 | D18: 2708 | E18: 0 | F18: 0 | G18: 241876.59
C19: Środki otrzymane z Agencji Restrukturyzacji i Modernizacji Rolnictwa jako refundacja wydatków poniesionych ze środków własnych na współfinansowanie wydatków objętych Pomocą Techniczną Programu Rozwoju Obszarów Wiejskich na lata 2014-2020 | D19: 2709 | E19: 0 | F19: 0 | G19: 138256.52
B20: b) dochody majątkowe | E20: 0 | F20: 0 | G20: 0
B21: 01042 | C21: Wyłączenie z produkcji gruntów rolnych | E21: =SUM(E25,E22) -> 13000000 | F21: =SUM(F25,F22) -> 13000000 | G21: =SUM(G25,G22) -> 21513483 | H21: =G21/F21 -> 1.6548833
B22: a) dochody bieżące, w tym: | E22: =SUM(E23:E24) -> 13000000 | F22: =SUM(F23:F24) -> 13000000 | G22: =SUM(G23:G24) -> 21513483 | H22: =G22/F22 -> 1.6548833
C23: Wpływy z tytułu opłat za wyłączenie z produkcji gruntów rolnych | D23: 0690 | E23: 13000000 | F23: 13000000 | G23: 21275765 | H23: =G23/F23 -> 1.6365973
C24: Odsetki z tytułu nieterminowej wpłaty opłat za wyłączenie z produkcji gruntów rolnych | D24: 0910 | E24: 0 | F24: 0 | G24: 237717.87
B25: b) dochody majątkowe | E25: 0 | F25: 0 | G25: 0
B26: 01095 | C26: Pozostała działalność | E26: =E27+E31 -> 3668000 | F26: =F27+F31 -> 3711067 | G26: =G27+G31 -> 1937201.4 | H26: =G26/F26 -> 0.52200658
B27: a) dochody bieżące, w tym: | E27: =SUM(E28:E30) -> 3668000 | F27: =SUM(F28:F30) -> 3711067 | G27: =SUM(G28:G30) -> 1937201.4 | H27: =G27/F27 -> 0.52200658
C28: Odsetki od zwrotu dotacji niewykorzystanej, nienależnie pobranej na realizację zadań w ramach Programu "Podkarpacki Naturalny Wypas III" | D28: 0900 | E28: 0 | F28: 0 | G28: 135.18
C29: Dotacje celowe otrzymane z budżetu państwa na zadania bieżące z zakresu administracji rządowej oraz inne zadania zlecone ustawami realizowane przez samorząd województwa | D29: 2210 | E29: 3668000 | F29: 3711067 | G29: 1925238.2 | H29: =G29/F29 -> 0.51878293
C30: Zwrot nienależnie pobranej dotacji na realizację zadania w ramach Programu "Podkarpacki Naturalny Wypas III" | D30: 2910 | E30: 0 | F30: 0 | G30: 11827.99
B31: b) dochody majątkowe | E31: 0 | F31: 0 | G31: 0
A32: 050 | C32: RYBOŁÓWSTWO I RYBACTWO | E32: =SUM(E33) -> 140000 | F32: =SUM(F33) -> 140000 | G32: =SUM(G33) -> 130808.97 | H32: =G32/F32 -> 0.93434979
B33: 05011 | C33: Program Operacyjny Zrównoważony rozwój sektora rybołówstwa i nadbrzeżnych obszarów rybackich 2007 - 2013, Program Operacyjny Rybactwo i Morze 2014 - 2020 oraz Program Fundusze Europejskie dla Rybactwa | E33: =SUM(E34,E37) -> 140000 | F33: =SUM(F34,F37) -> 140000 | G33: =SUM(G34,G37) -> 130808.97 | H33: =G33/F33 -> 0.93434979
B34: a) dochody bieżące, w tym: | E34: =SUM(E35:E36) -> 140000 | F34: =SUM(F35:F36) -> 140000 | G34: =SUM(G35:G36) -> 130808.97 | H34: =G34/F34 -> 0.93434979
C35: Dotacja celowa z budżetu państwa na finansowanie wydatków objętych Pomocą Techniczną Programu Fundusze Europejskie dla Rybactwa 2021-2027 | D35: 2058 | E35: 98000 | F35: 98000 | G35: 91566.06 | H35: =G35/F35 -> 0.93434755
C36: Dotacja celowa z budżetu państwa na współfinansowanie wydatków objętych Pomocą Techniczną Programu Fundusze Europejskie dla Rybactwa 2021-2027 | D36: 2059 | E36: 42000 | F36: 42000 | G36: 39242.91 | H36: =G36/F36 -> 0.934355
B37: b) dochody majątkowe | E37: 0 | F37: 0 | G37: 0
A38: 100 | C38: GÓRNICTWO I KOPALNICTWO | E38: =SUM(E39) -> 2632 | F38: =SUM(F39) -> 2632 | G38: =SUM(G39) -> 3186.77 | H38: =G38/F38 -> 1.2107789
B39: 10095 | C39: Pozostała działalność | E39: =SUM(E42,E40) -> 2632 | F39: =SUM(F42,F40) -> 2632 | G39: =SUM(G42,G40) -> 3186.77 | H39: =G39/F39 -> 1.2107789
B40: a) dochody bieżące, w tym: | E40: =SUM(E41:E41) -> 2632 | F40: =SUM(F41:F41) -> 2632 | G40: =SUM(G41:G41) -> 3186.77 | H40: =G40/F40 -> 1.2107789
C41: 5% dochodów uzyskiwanych na rzecz budżetu państwa w związku z realizacją zadań z zakresu administracji rządowej oraz innych zadań zleconych ustawami | D41: 2360 | E41: 2632 | F41: 2632 | G41: 3186.77 | H41: =G41/F41 -> 1.2107789
B42: b) dochody majątkowe | E42: 0 | F42: 0 | G42: 0
A43: 150 | C43: PRZETWÓRSTWO PRZEMYSŁOWE | E43: =SUM(E44) -> 177729 | F43: =SUM(F44) -> 254479 | G43: =SUM(G44) -> 270837.31 | H43: =G43/F43 -> 1.0642816
B44: 15011 | C44: Rozwój przedsiębiorczości | E44: =SUM(E48,E45) -> 177729 | F44: =SUM(F48,F45) -> 254479 | G44: =SUM(G48,G45) -> 270837.31 | H44: =G44/F44 -> 1.0642816
B45: a) dochody bieżące, w tym: | E45: =SUM(E46:E47) -> 177729 | F45: =SUM(F46:F47) -> 184185 | G45: =SUM(G46:G47) -> 200544.14 | H45: =G45/F45 -> 1.0888191
C46: Środki pochodzące z budżetu Unii Europejskiej jako refundacja wydatków poniesionych ze środków własnych na realizację projektu pn. „Uwolnienie zielonej gospodarki wodorowej dla MŚP w regionach europejskich” w ramach Programu Interreg Europa 2021-2027 | D46: 2058 | E46: 177729 | F46: 177729 | G46: 187641.57 | H46: =G46/F46 -> 1.0557735
C47: Zwrot części niewykorzystanych dotacji przez beneficjentów projektów realizowanych w ramach Regionalnego Programu Operacyjnego Województwa Podkarpackiego na lata 2014-2020 | D47: 2959 | E47: 0 | F47: 6456 | G47: 12902.57 | H47: =G47/F47 -> 1.9985393
B48: b) dochody majątkowe, w tym: | E48: =SUM(E49:E50) -> 0 | F48: =SUM(F49:F50) -> 70294 | G48: =SUM(G49:G50) -> 70293.17 | H48: =G48/F48 -> 0.99998819
C49: Zwrot części dotacji wykorzystanych niezgodnie z przeznaczeniem, pobranych nienależnie lub w nadmiernej wysokości przez beneficjentów projektów realizowanych w ramach Regionalnego Programu Operacyjnego Województwa Podkarpackiego na lata 2007-2013 | D49: 6669 | E49: 0 | F49: 70096 | G49: 70095.7 | H49: =G49/F49 -> 0.99999572
C50: Zwrot części dotacji wykorzystanych niezgodnie z przeznaczeniem, pobranych nienależnie lub w nadmiernej wysokości przez beneficjentów projektów realizowanych w ramach Regionalnego Programu Operacyjnego Województwa Podkarpackiego na lata 2014-2020 | D50: 6669 | E50: 0 | F50: 198 | G50: 197.47 | H50: =G50/F50 -> 0.99732323
A51: 600 | C51: TRANSPORT I ŁĄCZNOŚĆ | E51: =SUM(E52,E64,E71,E77,E82,E116,E112) -> 542455448 | F51: =SUM(F52,F64,F71,F77,F82,F116,F112) -> 384304210 | G51: =SUM(G52,G64,G71,G77,G82,G116,G112) -> 4.8200115e+08 | H51: =G51/F51 -> 1.2542177
B52: 60001 | C52: Krajowe pasażerskie przewozy kolejowe | E52: =SUM(E53,E62) -> 52916356 | F52: =SUM(F53,F62) -> 13085227 | G52: =SUM(G53,G62) -> 1.2357839e+08 | H52: =G52/F52 -> 9.4441152
B53: a) dochody bieżące, w tym: | E53: =SUM(E54:E61) -> 51416356 | F53: =SUM(F54:F61) -> 11585227 | G53: =SUM(G54:G61) -> 1.2207839e+08 | H53: =G53/F53 -> 10.537419
C54: Dzierżawa pojazdów szynowych i symulatora jazdy wraz z halą zaplecza technicznego PKA | D54: 0750 | E54: 41158185 | F54: 0 | G54: 46687670
C55: Zwrot od operatora kolejowego nadpłaty wynikającej z rozliczenia rekompensaty za 2023 r. | D55: 0940 | E55: 0 | F55: 0 | G55: 139710.92
C56: Zwrot podatku VAT od zakupu pojazdów szynowych i symulatora jazdy dostarczonych w 2023 roku | E56: 0 | F56: 0 | G56: 63245038
C57: Wpływ kar umownych za odwołanie pociągów przez przewoźnika oraz za niedotrzymanie współczynnika niezawodności (Wn) pojazdów szynowych wraz z odsetkami | D57: 0920 | E57: 0 | F57: 0 | G57: 146.19
D58: 0950 | E58: 0 | F58: 0 | G58: 420600
C59: Środki otrzymane z państwowych funduszy celowych na realizację zadań bieżących jednostek sektora finansów publicznych | D59: 2170 | E59: 5375000 | F59: 5375000 | G59: 5375000 | H59: =G59/F59 -> 1
C60: Dotacje celowe otrzymane od samorządu województwa na zadania bieżące realizowane na podstawie porozumień (umów) między jednostkami samorządu terytorialnego | D60: 2330 | E60: 0 | F60: 84880 | G60: 84879.1 | H60: =G60/F60 -> 0.9999894
C61: Dotacja celowa otrzymana z tytułu pomocy finansowej udzielanej między jednostkami samorządu terytorialnego na dofinansowanie własnych zadań bieżących | D61: 2710 | E61: 4883171 | F61: 6125347 | G61: 6125347 | H61: =G61/F61 -> 1
B62: b) dochody majątkowe, w tym: | E62: =SUM(E63) -> 1500000 | F62: =SUM(F63) -> 1500000 | G62: =SUM(G63) -> 1500000 | H62: =G62/F62 -> 1
C63: Środki otrzymane z państwowych funduszy celowych na finansowanie lub dofinansowanie kosztów realizacji inwestycji i zakupów inwestycyjnych jednostek sektora finansów publicznych | D63: 6350 | E63: 1500000 | F63: 1500000 | G63: 1500000 | H63: =G63/F63 -> 1
B64: 60002 | C64: Infrastruktura kolejowa | E64: =SUM(E65,E68) -> 63940000 | F64: =SUM(F65,F68) -> 5282412 | G64: =SUM(G65,G68) -> 1237260.6 | H64: =G64/F64 -> 0.23422265
B65: a) dochody bieżące, w tym: | E65: =SUM(E66:E67) -> 63940000 | F65: =SUM(F66:F67) -> 0 | G65: =SUM(G66:G67) -> 142593.48
C66: Wpływ od wykonawcy zaplecza technicznego PKA rozliczenia opłat za energię elektryczną i cieplną | D66: 0830 | E66: 0 | F66: 0 | G66: 142593.48
C67: Zwrot podatku VAT od zakupu pojazdów szynowych i symulatora jazdy zakupionego w 2023 r. | D67: 0970 | E67: 63940000 | F67: 0 | G67: 0
B68: b) dochody majątkowe, w tym: | E68: =SUM(E69:E70) -> 0 | F68: =SUM(F69:F70) -> 5282412 | G68: =SUM(G69:G70) -> 1094667.1 | H68: =G68/F68 -> 0.20722864
C69: Środki pochodzące z budżetu Unii Europejskiej jako refundacja wydatków poniesionych na realizację projektu pn. "Budowa Podmiejskiej Kolei Aglomeracyjnej - PKA: Budowa i modernizacja linii kolejowych oraz infrastruktury przystankowej" w ramach Programu Operacyjnego Infrastruktura i Środowisko na lata 2014 - 2020 | D69: 6207 | E69: 0 | F69: 5282412 | G69: 723792.29 | H69: =G69/F69 -> 0.13701928
C70: Środki pochodzące z budżetu Unii Europejskiej jako refundacja wydatków poniesionych na realizację projektu pn. "Budowa Podmiejskiej Kolei Aglomeracyjnej - PKA": Budowa zaplecza technicznego" w ramach Programu Operacyjnego Infrastruktura i Środowisko na lata 2014 - 2020 | D70: 6257 | E70: 0 | F70: 0 | G70: 370874.79
B71: 60003 | C71: Krajowe pasażerskie przewozy autobusowe | E71: =SUM(E72,E76) -> 61207000 | F71: =SUM(F72,F76) -> 78735527 | G71: =SUM(G72,G76) -> 79036238 | H71: =G71/F71 -> 1.0038193
B72: a) dochody bieżące, w tym: | E72: =SUM(E73:E75) -> 61207000 | F72: =SUM(F73:F75) -> 78735527 | G72: =SUM(G73:G75) -> 79036238 | H72: =G72/F72 -> 1.0038193
C73: Odsetki od zwrotu przez przewoźników autobusowych dotacji wykorzystanych niezgodnie z przeznaczeniem | D73: 0900 | E73: 0 | F73: 0 | G73: 194174.2
C74: Dotacje celowe otrzymane z budżetu państwa na zadania bieżące z zakresu administracji rządowej oraz inne zadania zlecone ustawami realizowane przez samorząd województwa | D74: 2210 | E74: 61207000 | F74: 77560977 | G74: 77560977 | H74: =G74/F74 -> 1
C75: Zwrot przez przewoźników autobusowych dotacji wykorzystanych niezgodnie z przeznaczeniem | D75: 2910 | E75: 0 | F75: 1174550 | G75: 1281086.7 | H75: =G75/F75 -> 1.0907043
B76: b) dochody majątkowe | E76: 0 | F76: 0 | G76: 0
B77: 60004 | C77: Lokalny transport zbiorowy | E77: =SUM(E78) -> 50000 | F77: =SUM(F78) -> 50000 | G77: =SUM(G78) -> 34585.14 | H77: =G77/F77 -> 0.6917028
B78: a) dochody bieżące, w tym: | E78: =SUM(E79:E80) -> 50000 | F78: =SUM(F79:F80) -> 50000 | G78: =SUM(G79:G80) -> 34585.14 | H78: =G78/F78 -> 0.6917028
C79: Opłaty za wydawanie zezwoleń na regularny przewóz osób | D79: 0620 | E79: 50000 | F79: 50000 | G79: 33823.7 | H79: =G79/F79 -> 0.676474
C80: 5% dochodów uzyskiwanych na rzecz budżetu państwa w związku z realizacją zadań z zakresu administracji rządowej oraz innych zadań zleconych ustawami | D80: 2360 | E80: 0 | F80: 0 | G80: 761.44
B81: b) dochody majątkowe | E81: 0 | F81: 0 | G81: 0
B82: 60013 | C82: Drogi publiczne wojewódzkie | E82: =SUM(E99,E83) -> 364011585 | F82: =SUM(F99,F83) -> 286852264 | G82: =SUM(G99,G83) -> 2.7781898e+08 | H82: =G82/F82 -> 0.96850892
B83: a) dochody bieżące, w tym: | E83: =SUM(E84:E98) -> 1450000 | F83: =SUM(F84:F98) -> 5281830 | G83: =SUM(G84:G98) -> 6537808.7 | H83: =G83/F83 -> 1.2377923
C84: Dochody realizowane przez Podkarpacki Zarząd Dróg Wojewódzkich w Rzeszowie | D84: 0570 | E84: 0 | F84: 0 | G84: 86680
D85: 0580 | E85: 0 | F85: 0 | G85: 54715.24
D86: 0620 | E86: 1450000 | F86: 1450000 | G86: 1631434.9 | H86: =G86/F86 -> 1.1251275
D87: 0630 | E87: 0 | F87: 0 | G87: 48522.49
D88: 0640 | E88: 0 | F88: 0 | G88: 54.5
D89: 0750 | E89: 0 | F89: 0 | G89: 518.22
D90: 0830 | E90: 0 | F90: 0 | G90: 431.01
D91: 0920 | E91: 0 | F91: 0 | G91: 2516.25
D92: 0940 | E92: 0 | F92: 0 | G92: 628391.85
D93: 0950 | E93: 0 | F93: 930000 | G93: 1112157.2 | H93: =G93/F93 -> 1.195868
D94: 0970 | F94: 0 | G94: 202964.78
C95: Wpływ odsetek od niewykorzystanej dotacji oraz dotacji wykorzystanej niezgodnie z przeznaczeniem na realizację inwestycji drogowych | D95: 0900 | E95: 0 | F95: 0 | G95: 160.42
C96: Środki pochodzące z budżetu Unii Europejskiej jako refundacja wydatków poniesionych ze środków własnych na realizację zadań drogowych w ramach Programu Interreg Polska – Słowacja 2021-2027 | D96: 2058 | E96: 0 | F96: 0 | G96: 178.93
C97: Środki pozyskane z nadleśnictw na dofinansowanie własnych zadań bieżących Samorządu Województwa | D97: 2700 | E97: 0 | F97: 800000 | G97: 800000 | H97: =G97/F97 -> 1
C98: Wpływ z tytułu pomocy finansowej udzielanej między jednostkami samorządu terytorialnego na dofinansowanie własnych zadań bieżących | D98: 2710 | E98: 0 | F98: 2101830 | G98: 1969082.9 | H98: =G98/F98 -> 0.93684213
B99: b) dochody majątkowe, w tym: | E99: =SUM(E100:E111) -> 362561585 | F99: =SUM(F100:F111) -> 281570434 | G99: =SUM(G100:G111) -> 2.7128117e+08 | H99: =G99/F99 -> 0.96345757
C100: Dochody realizowane przez Podkarpacki Zarząd Dróg Wojewódzkich w Rzeszowie | D100: 0870 | E100: 0 | F100: 0 | G100: 448358.86
C101: Środki pochodzące z budżetu Unii Europejskie na realizację inwestycji drogowych w ramach ramach Programu Współpracy Transgranicznej INTERREG V-A Polska - Słowacja na lata 2014-2020 | D101: 6208 | E101: 0 | F101: 301151 | G101: 288197.94 | H101: =G101/F101 -> 0.95698816
...

Sheet wydatki 
A1: Zestawienie wykonania planu wydatków województwa (według działów, rozdziałów, paragrafów klasyfikacji budżetowej oraz rodzajów wydatków)
H2: w złotych
A3: Dział | B3: Rozdział | C3: Paragraf | D3: Wyszczególnienie | E3: Plan wg uchwały budżetowej | F3: Plan po zmianach | G3: Wykonanie | H3: % wykonania (7:6)
A4: 1. | B4: 2. | C4: 3. | D4: 4. | E4: 5. | F4: 6. | G4: 7. | H4: 8. | U4: RG | V4: WODGIK | W4: PBGITR | X4: OS | Y4: ZPK | Z4: ZKPK | AA4: OW | AB4: DT | AC4: PZDW | AD4: EN | AE4: JO | AF4: DO | AG4: PG | AH4: SI | AI4: NW | AJ4: BI | AK4: BO | AL4: REZERWY | AM4: OBSŁUGA
A5: 010 | D5: Rolnictwo i łowiectwo | E5: =SUM(E6,E44,E75,E90,) -> 60295466 | F5: =SUM(F6,F44,F75,F90,) -> 68080061 | G5: =SUM(G6,G44,G75,G90,) -> 58913545 | H5: =G5/F5 -> 0.86535682
B6: 01004 | D6: Biura geodezji i terenów rolnych | E6: =E7+E41 -> 26937751 | F6: =F7+F41 -> 25251820 | G6: =G7+G41 -> 23951074 | H6: =G6/F6 -> 0.94848902 | J6: KS | K6: KZ | L6: OR | M6: RR | N6: RP | O6: WUP-RP | P6: GR | Q6: WUP-GR | R6: WP | S6: OZ | T6: ROPS
C7: wydatki bieżące: | E7: =E8+E38 -> 22053351 | F7: =F8+F38 -> 21186970 | G7: =G8+G38 -> 20085996 | H7: =G7/F7 -> 0.94803534 | I7: =SUM(J7:AM7) -> 0
C8: wydatki jednostek budżetowych w tym na: | E8: =E9+E17 -> 21887551 | F8: =F9+F17 -> 21039170 | G8: =G9+G17 -> 19959430 | H8: =G8/F8 -> 0.94867955 | I8: =SUM(J8:AM8) -> 0
C9: - wynagrodzenia i składki od nich naliczane | E9: =SUM(E10:E15) -> 16626117 | F9: =SUM(F10:F15) -> 16917407 | G9: =SUM(G10:G15) -> 16694347 | H9: =G9/F9 -> 0.98681474 | I9: =SUM(J9:AM9) -> 0
C10: 4010 | D10: Wynagrodzenia osobowe pracowników | E10: =I10 -> 12692189 | F10: 13221457 | G10: 13116049 | H10: =G10/F10 -> 0.99202751 | I10: =SUM(J10:AM10) -> 12692189 | W10: 12692189
C11: 4040 | D11: Dodatkowe wynagrodzenie roczne | E11: =I11 -> 916964 | F11: 888080 | G11: 888079.85 | H11: =G11/F11 -> 0.99999983 | I11: =SUM(J11:AM11) -> 916964 | W11: 916964
C12: 4110 | D12: Składki na ubezpieczenia społeczne | E12: =I12 -> 2362313 | F12: 2395988 | G12: 2302932.8 | H12: =G12/F12 -> 0.96116207 | I12: =SUM(J12:AM12) -> 2362313 | W12: 2362313
C13: 4120 | D13: Składki na Fundusz Pracy oraz Fundusz Solidarnościowy | E13: =I13 -> 310122 | F13: 314923 | G13: 298855.8 | H13: =G13/F13 -> 0.94898054 | I13: =SUM(J13:AM13) -> 310122 | W13: 310122
C14: 4170 | D14: Wynagrodzenia bezosobowe | E14: =I14 -> 250000 | F14: 0 | G14: 0 | I14: =SUM(J14:AM14) -> 250000 | W14: 250000
C15: 4710 | D15: Wpłaty na PPK finansowane przez podmiot zatrudniający | E15: =I15 -> 94529 | F15: 96959 | G15: 88429.07 | H15: =G15/F15 -> 0.91202539 | I15: =SUM(J15:AM15) -> 94529 | W15: 94529
I16: =SUM(J16:AM16) -> 0
C17: - wydatki związane z realizacją zadań statutowych jednostek budżetowych | E17: =SUM(E18:E36) -> 5261434 | F17: =SUM(F18:F36) -> 4121763 | G17: =SUM(G18:G36) -> 3265083.8 | H17: =G17/F17 -> 0.7921571 | I17: =SUM(J17:AM17) -> 0
C18: 4140 | D18: Wpłaty na Państwowy Fundusz Rehabilitacji Osób Niepełnosprawnych | E18: =I18 -> 200000 | F18: 200000 | G18: 177885 | H18: =G18/F18 -> 0.889425 | I18: =SUM(J18:AM18) -> 200000 | W18: 200000
C19: 4210 | D19: Zakup materiałów i wyposażenia | E19: =I19 -> 1835500 | F19: 1073919 | G19: 800564.38 | H19: =G19/F19 -> 0.74546067 | I19: =SUM(J19:AM19) -> 1835500 | W19: 1835500
C20: 4220 | D20: Zakup środków żywności | E20: =I20 -> 7500 | F20: 7500 | G20: 7221.63 | H20: =G20/F20 -> 0.962884 | I20: =SUM(J20:AM20) -> 7500 | W20: 7500
C21: 4260 | D21: Zakup energii | E21: =I21 -> 641834 | F21: 441834 | G21: 256423.58 | H21: =G21/F21 -> 0.58036181 | I21: =SUM(J21:AM21) -> 641834 | W21: 641834
C22: 4270 | D22: Zakup usług remontowych | E22: =I22 -> 467000 | F22: 367000 | G22: 356896.97 | H22: =G22/F22 -> 0.97247131 | I22: =SUM(J22:AM22) -> 467000 | W22: 467000
C23: 4280 | D23: Zakup usług zdrowotnych | E23: =I23 -> 32000 | F23: 19000 | G23: 14551 | H23: =G23/F23 -> 0.76584211 | I23: =SUM(J23:AM23) -> 32000 | W23: 32000
C24: 4300 | D24: Zakup usług pozostałych | E24: =I24 -> 809200 | F24: 689200 | G24: 586263.5 | H24: =G24/F24 -> 0.8506435 | I24: =SUM(J24:AM24) -> 809200 | W24: 809200
C25: 4360 | D25: Opłaty z tytułu zakupu usług telekomunikacyjnych | E25: =I25 -> 46600 | F25: 46600 | G25: 32207.33 | H25: =G25/F25 -> 0.69114442 | I25: =SUM(J25:AM25) -> 46600 | W25: 46600
C26: 4390 | D26: Zakup usług obejmujących wykonanie ekspertyz, analiz i opinii | E26: =I26 -> 33000 | F26: 33000 | G26: 12526.22 | H26: =G26/F26 -> 0.37958242 | I26: =SUM(J26:AM26) -> 33000 | W26: 33000
C27: 4400 | D27: Opłaty za administrowanie i czynsze za budynki, lokale i pomieszczenia garażowe | E27: =I27 -> 331000 | F27: 331000 | G27: 288934.94 | H27: =G27/F27 -> 0.87291523 | I27: =SUM(J27:AM27) -> 331000 | W27: 331000
C28: 4410 | D28: Podróże służbowe krajowe | E28: =I28 -> 10000 | F28: 10000 | G28: 3899.35 | H28: =G28/F28 -> 0.389935 | I28: =SUM(J28:AM28) -> 10000 | W28: 10000
C29: 4420 | D29: Podróże służbowe zagraniczne | E29: 0 | F29: 1200 | G29: 593.23 | H29: =G29/F29 -> 0.49435833
C30: 4430 | D30: Różne opłaty i składki | E30: =I30 -> 272000 | F30: 262000 | G30: 186631.06 | H30: =G30/F30 -> 0.71233229 | I30: =SUM(J30:AM30) -> 272000 | W30: 272000
C31: 4440 | D31: Odpisy na zakładowy fundusz świadczeń socjalnych | E31: =I31 -> 243000 | F31: 306010 | G31: 294069.25 | H31: =G31/F31 -> 0.96097922 | I31: =SUM(J31:AM31) -> 243000 | W31: 243000
C32: 4480 | D32: Podatek od nieruchomości | E32: =I32 -> 14700 | F32: 14700 | G32: 13329 | H32: =G32/F32 -> 0.90673469 | I32: =SUM(J32:AM32) -> 14700 | W32: 14700
C33: 4520 | D33: Opłaty na rzecz budżetów jednostek samorządu terytorialnego | E33: =I33 -> 4800 | F33: 4800 | G33: 3817.4 | H33: =G33/F33 -> 0.79529167 | I33: =SUM(J33:AM33) -> 4800 | W33: 4800
C34: 4530 | D34: Podatek od towarów i usług (VAT) | E34: =I34 -> 300 | F34: 300 | G34: 216 | H34: =G34/F34 -> 0.72 | I34: =SUM(J34:AM34) -> 300 | W34: 300
C35: 4610 | D35: Koszty postępowania sądowego i prokuratorskiego | E35: 0 | F35: 700 | G35: 500 | H35: =G35/F35 -> 0.71428571
C36: 4700 | D36: Szkolenia pracowników niebędących członkami korpusu służby cywilnej | E36: =I36 -> 313000 | F36: 313000 | G36: 228553.98 | H36: =G36/F36 -> 0.73020441 | I36: =SUM(J36:AM36) -> 313000 | W36: 313000
I37: =SUM(J37:AM37) -> 0
C38: świadczenia na rzecz osób fizycznych: | E38: =SUM(E39) -> 165800 | F38: =SUM(F39) -> 147800 | G38: =SUM(G39) -> 126566 | H38: =G38/F38 -> 0.85633288 | I38: =SUM(J38:AM38) -> 0
C39: 3020 | D39: Wydatki osobowe niezaliczone do wynagrodzeń | E39: =I39 -> 165800 | F39: 147800 | G39: 126566 | H39: =G39/F39 -> 0.85633288 | I39: =SUM(J39:AM39) -> 165800 | W39: 165800
I40: =SUM(J40:AM40) -> 0
C41: wydatki majątkowe: | E41: =SUM(E42) -> 4884400 | F41: =SUM(F42) -> 4064850 | G41: =SUM(G42) -> 3865077.6 | H41: =G41/F41 -> 0.95085368 | I41: =SUM(J41:AM41) -> 0
C42: inwestycje i zakupy inwestycyjne | E42: =SUM(E43) -> 4884400 | F42: =SUM(F43) -> 4064850 | G42: =SUM(G43) -> 3865077.6 | H42: =G42/F42 -> 0.95085368 | I42: =SUM(J42:AM42) -> 0
C43: 6060 | D43: Wydatki na zakupy inwestycyjne jednostek budżetowych | E43: =I43 -> 4884400 | F43: 4064850 | G43: 3865077.6 | H43: =G43/F43 -> 0.95085368 | I43: =SUM(J43:AM43) -> 4884400 | W43: 4884400
B44: 01041 | D44: Program Rozwoju Obszarów Wiejskich | E44: =SUM(E45) -> 10060000 | F44: =SUM(F45) -> 10060000 | G44: =SUM(G45) -> 9866218.4 | H44: =G44/F44 -> 0.98073742 | I44: =SUM(J44:AM44) -> 0
C45: wydatki bieżące: | E45: =SUM(E46) -> 10060000 | F45: =SUM(F46) -> 10060000 | G45: =SUM(G46) -> 9866218.4 | H45: =G45/F45 -> 0.98073742 | I45: =SUM(J45:AM45) -> 0
C46: wydatki na programy finansowane z udziałem środków UE i źródeł zagranicznych | E46: =SUM(E47:E74) -> 10060000 | F46: =SUM(F47:F74) -> 10060000 | G46: =SUM(G47:G74) -> 9866218.4 | H46: =G46/F46 -> 0.98073742 | I46: =SUM(J46:AM46) -> 0
C47: 4018 | D47: Wynagrodzenia osobowe pracowników | E47: =I47 -> 4148499 | F47: 4179677 | G47: 4161696.7 | H47: =G47/F47 -> 0.99569817 | I47: =SUM(J47:AM47) -> 4148499 | AA47: 4148499
C48: 4019 | D48: Wynagrodzenia osobowe pracowników | E48: =I48 -> 2371501 | F48: 2389323 | G48: 2378768.6 | H48: =G48/F48 -> 0.99558267 | I48: =SUM(J48:AM48) -> 2371501 | AA48: 2371501
C49: 4048 | D49: Dodatkowe wynagrodzenie roczne | E49: =I49 -> 286335 | F49: 254774 | G49: 254723.71 | H49: =G49/F49 -> 0.99980261 | I49: =SUM(J49:AM49) -> 286335 | AA49: 286335
C50: 4049 | D50: Dodatkowe wynagrodzenie roczne | E50: =I50 -> 163665 | F50: 145626 | G50: 145596.51 | H50: =G50/F50 -> 0.99979749 | I50: =SUM(J50:AM50) -> 163665 | AA50: 163665
C51: 4118 | D51: Składki na ubezpieczenia społeczne | E51: =I51 -> 699930 | F51: 743199 | G51: 737349.98 | H51: =G51/F51 -> 0.99212994 | I51: =SUM(J51:AM51) -> 699930 | AA51: 699930
C52: 4119 | D52: Składki na ubezpieczenia społeczne | E52: =I52 -> 400070 | F52: 424801 | G52: 421461.43 | H52: =G52/F52 -> 0.99213851 | I52: =SUM(J52:AM52) -> 400070 | AA52: 400070
C53: 4128 | D53: Składki na Fundusz Pracy oraz Fundusz Solidarnościowy | E53: =I53 -> 89082 | F53: 98563 | G53: 94778.07 | H53: =G53/F53 -> 0.96159888 | I53: =SUM(J53:AM53) -> 89082 | AA53: 89082
C54: 4129 | D54: Składki na Fundusz Pracy oraz Fundusz Solidarnościowy | E54: =I54 -> 50918 | F54: 56337 | G54: 54175.69 | H54: =G54/F54 -> 0.96163605 | I54: =SUM(J54:AM54) -> 50918 | AA54: 50918
C55: 4178 | D55: Wynagrodzenia bezosobowe | E55: =I55 -> 6363 | F55: 7636 | G55: 6294.78 | H55: =G55/F55 -> 0.82435568 | I55: =SUM(J55:AM55) -> 6363 | AA55: 6363
C56: 4179 | D56: Wynagrodzenia bezosobowe | E56: =I56 -> 3637 | F56: 4364 | G56: 3598.04 | H56: =G56/F56 -> 0.82448213 | I56: =SUM(J56:AM56) -> 3637 | AA56: 3637
C57: 4198 | D57: Nagrody konkursowe | E57: =I57 -> 63630 | F57: 38814 | G57: 36138.62 | H57: =G57/F57 -> 0.93107178 | I57: =SUM(J57:AM57) -> 63630 | AA57: 63630
C58: 4199 | D58: Nagrody konkursowe | E58: =I58 -> 36370 | F58: 22186 | G58: 20656.38 | H58: =G58/F58 -> 0.93105472 | I58: =SUM(J58:AM58) -> 36370 | AA58: 36370
... C64: 4309 | D64: Zakup usług pozostałych | E64: =I64 -> 372793 | F64: 375412 | G64: 335282.77 | H64: =G64/F64 -> 0.89310616 | I64: =SUM(J64:AM64) -> 372793 | AA64: 372793
C65: 4398 | D65: Zakup usług obejmujących wykonanie ekspertyz, analiz i opinii | E65: =I65 -> 3181 | F65: 0 | G65: 0 | I65: =SUM(J65:AM65) -> 3181 | AA65: 3181
C66: 4399 | D66: Zakup usług obejmujących wykonanie ekspertyz, analiz i opinii | E66: =I66 -> 1819 | F66: 0 | G66: 0 | I66: =SUM(J66:AM66) -> 1819 | AA66: 1819
C67: 4418 | D67: Podróże służbowe krajowe | E67: =I67 -> 7636 | F67: 13999 | G67: 9236.51 | H67: =G67/F67 -> 0.65979784 | I67: =SUM(J67:AM67) -> 7636 | AA67: 7636
C68: 4419 | D68: Podróże służbowe krajowe | E68: =I68 -> 4364 | F68: 8001 | G68: 5279.69 | H68: =G68/F68 -> 0.65987877 | I68: =SUM(J68:AM68) -> 4364 | AA68: 4364
C69: 4438 | D69: Różne opłaty i składki | E69: =I69 -> 6363 | F69: 3181 | G69: 2970.24 | H69: =G69/F69 -> 0.93374411 | I69: =SUM(J69:AM69) -> 6363 | AA69: 6363
C70: 4439 | D70: Różne opłaty i składki | E70: =I70 -> 3637 | F70: 1819 | G70: 1697.76 | H70: =G70/F70 -> 0.93334799 | I70: =SUM(J70:AM70) -> 3637 | AA70: 3637
C71: 4708 | D71: Szkolenia pracowników niebędących członkami korpusu służby cywilnej | E71: =I71 -> 15271 | F71: 15907 | G71: 12678.15 | H71: =G71/F71 -> 0.79701704 | I71: =SUM(J71:AM71) -> 15271 | AA71: 15271
C72: 4709 | D72: Szkolenia pracowników niebędących członkami korpusu służby cywilnej | E72: =I72 -> 8729 | F72: 9093 | G72: 7246.72 | H72: =G72/F72 -> 0.7969559 | I72: =SUM(J72:AM72) -> 8729 | AA72: 8729
C73: 4718 | D73: Wpłaty na PPK finansowane przez podmiot zatrudniający | E73: =I73 -> 25452 | F73: 17626 | G73: 15845.93 | H73: =G73/F73 -> 0.89900885 | I73: =SUM(J73:AM73) -> 25452 | AA73: 25452
C74: 4719 | D74: Wpłaty na PPK finansowane przez podmiot zatrudniający | E74: =I74 -> 14548 | F74: 10074 | G74: 9058.1 | H74: =G74/F74 -> 0.89915624 | I74: =SUM(J74:AM74) -> 14548 | AA74: 14548
B75: 01042 | D75: Wyłączenie z produkcji gruntów rolnych | E75: =SUM(E76,E85) -> 13000000 | F75: =SUM(F76,F85) -> 23168673 | G75: =SUM(G76,G85) -> 17765993 | H75: =G75/F75 -> 0.76681101 | I75: =SUM(J75:AM75) -> 0
C76: wydatki bieżące: | E76: =SUM(E77,E82) -> 4230000 | F76: =SUM(F77,F82) -> 5350851 | G76: =SUM(G77,G82) -> 3838659.8 | H76: =G76/F76 -> 0.71739238 | I76: =SUM(J76:AM76) -> 0
C77: wydatki jednostek budżetowych w tym na: | E77: =SUM(E78) -> 160000 | F77: =SUM(F78) -> 160000 | G77: =SUM(G78) -> 97387.02 | H77: =G77/F77 -> 0.60866887 | I77: =SUM(J77:AM77) -> 0
C78: - wydatki związane z realizacją zadań statutowych jednostek budżetowych | E78: =SUM(E79:E80) -> 160000 | F78: =SUM(F79:F80) -> 160000 | G78: =SUM(G79:G80) -> 97387.02 | H78: =G78/F78 -> 0.60866887 | I78: =SUM(J78:AM78) -> 0
C79: 4210 | D79: Zakup materiałów i wyposażenia | E79: =I79 -> 130000 | F79: 130000 | G79: 97387.02 | H79: =G79/F79 -> 0.74913092 | I79: =SUM(J79:AM79) -> 130000 | U79: 130000
C80: 4300 | D80: Zakup usług pozostałych | E80: =I80 -> 30000 | F80: 30000 | G80: 0 | H80: =G80/F80 -> 0 | I80: =SUM(J80:AM80) -> 30000 | U80: 30000
I81: =SUM(J81:AM81) -> 0
C82: dotacje na zadania bieżące: | E82: =SUM(E83:E84) -> 4070000 | F82: =SUM(F83:F84) -> 5190851 | G82: =SUM(G83:G84) -> 3741272.7 | H82: =G82/F82 -> 0.72074362 | I82: =SUM(J82:AM82) -> 0
C83: 2310 | D83: Dotacja celowa przekazana gminie na zadania bieżące realizowane na podstawie porozumień (umów) między jednostkami samorządu terytorialnego | E83: =I83 -> 4020000 | F83: 5140851 | G83: 3714135.1 | H83: =G83/F83 -> 0.72247477 | I83: =SUM(J83:AM83) -> 4020000 | U83: 4020000
C84: 2320 | D84: Dotacja celowa przekazana dla powiatu na zadania bieżące realizowane na podstawie porozumień (umów) między jednostkami samorządu terytorialnego | E84: =I84 -> 50000 | F84: 50000 | G84: 27137.6 | H84: =G84/F84 -> 0.542752 | I84: =SUM(J84:AM84) -> 50000 | U84: 50000
C85: wydatki majątkowe: | E85: =SUM(E86) -> 8770000 | F85: =SUM(F86) -> 17817822 | G85: =SUM(G86) -> 13927334 | H85: =G85/F85 -> 0.78165186 | I85: =SUM(J85:AM85) -> 0
C86: inwestycje i zakupy inwestycyjne | E86: =SUM(E87:E89) -> 8770000 | F86: =SUM(F87:F89) -> 17817822 | G86: =SUM(G87:G89) -> 13927334 | H86: =G86/F86 -> 0.78165186 | I86: =SUM(J86:AM86) -> 0
C87: 6060 | D87: Wydatki na zakupy inwestycyjne jednostek budżetowych | E87: =I87 -> 440000 | F87: 440000 | G87: 356031.94 | H87: =G87/F87 -> 0.8091635 | I87: =SUM(J87:AM87) -> 440000 | U87: 40000 | W87: 400000
C88: 6610 | D88: Dotacja celowa przekazana gminie na inwestycje i zakupy inwestycyjne realizowane na podstawie porozumień (umów) między jednostkami samorządu terytorialnego | E88: =I88 -> 8300000 | F88: 17347822 | G88: 13554188 | H88: =G88/F88 -> 0.78131928 | I88: =SUM(J88:AM88) -> 8300000 | U88: 8300000
C89: 6620 | D89: Dotacja celowa przekazana dla powiatu na inwestycje i zakupy inwestycyjne realizowane na podstawie porozumień (umów) między jednostkami samorządu terytorialnego | E89: =I89 -> 30000 | F89: 30000 | G89: 17114 | H89: =G89/F89 -> 0.57046667 | I89: =SUM(J89:AM89) -> 30000 | U89: 30000
B90: 01095 | D90: Pozostała działalność | E90: =SUM(E91) -> 10297715 | F90: =SUM(F91) -> 9599568 | G90: =SUM(G91) -> 7330258.9 | H90: =G90/F90 -> 0.763603 | I90: =SUM(J90:AM90) -> 0
C91: wydatki bieżące: | E91: =SUM(E92,E108,E110) -> 10297715 | F91: =SUM(F92,F108,F110) -> 9599568 | G91: =SUM(G92,G108,G110) -> 7330258.9 | H91: =G91/F91 -> 0.763603 | I91: =SUM(J91:AM91) -> 0
C92: wydatki jednostek budżetowych w tym na: | E92: =SUM(E93,E100) -> 6926215 | F92: =SUM(F93,F100) -> 6199433 | G92: =SUM(G93,G100) -> 4038144.1 | H92: =G92/F92 -> 0.65137314 | I92: =SUM(J92:AM92) -> 0
C93: - wynagrodzenia i składki od nich naliczane | E93: =SUM(E94:E98) -> 1685097 | F93: =SUM(F94:F98) -> 2334564 | G93: =SUM(G94:G98) -> 2198433.6 | H93: =G93/F93 -> 0.94168915 | I93: =SUM(J93:AM93) -> 0
C94: 4010 | D94: Wynagrodzenia osobowe pracowników | E94: =I94 -> 1321663 | F94: 1854222 | G94: 1767667.3 | H94: =G94/F94 -> 0.95332022 | I94: =SUM(J94:AM94) -> 1321663 | L94: 1321663
C95: 4040 | D95: Dodatkowe wynagrodzenie roczne | E95: =I95 -> 91888 | F95: 86511 | G95: 86510.19 | H95: =G95/F95 -> 0.99999064 | I95: =SUM(J95:AM95) -> 91888 | L95: 91888
C96: 4110 | D96: Składki na ubezpieczenia społeczne | E96: =I96 -> 226175 | F96: 315040 | G96: 301009.53 | H96: =G96/F96 -> 0.95546448 | I96: =SUM(J96:AM96) -> 226175 | L96: 226175
C97: 4120 | D97: Składki na Fundusz Pracy oraz Fundusz Solidarnościowy | E97: =I97 -> 40406 | F97: 71526 | G97: 38919.52 | H97: =G97/F97 -> 0.54413109 | I97: =SUM(J97:AM97) -> 40406 | L97: 40406
C98: 4710 | D98: Wpłaty na PPK finansowane przez podmiot zatrudniający | E98: =I98 -> 4965 | F98: 7265 | G98: 4327.03 | H98: =G98/F98 -> 0.59559945 | I98: =SUM(J98:AM98) -> 4965 | L98: 4965
I99: =SUM(J99:AM99) -> 0
C100: - wydatki związane z realizacją zadań statutowych jednostek budżetowych | E100: =SUM(E101:E106) -> 5241118 | F100: =SUM(F101:F106) -> 3864869 | G100: =SUM(G101:G106) -> 1839710.5 | H100: =G100/F100 -> 0.4760085 | I100: =SUM(J100:AM100) -> 0
C101: 4190 | D101: Nagrody konkursowe | E101: =I101 -> 23550 | F101: 23550 | G101: 18267.77 | H101: =G101/F101 -> 0.77570149 | I101: =SUM(J101:AM101) -> 23550 | U101: 23550
C102: 4210 | D102: Zakup materiałów i wyposażenia | E102: =I102 -> 135000 | F102: 143500 | G102: 125900 | H102: =G102/F102 -> 0.87735192 | I102: =SUM(J102:AM102) -> 135000 | U102: 135000
C103: 4300 | D103: Zakup usług pozostałych | E103: =I103 -> 1617568 | F103: 261454 | G103: 241164.6 | H103: =G103/F103 -> 0.92239782 | I103: =SUM(J103:AM103) -> 1617568 | U103: 269954 | AA103: 1347614
C104: 4390 | D104: Zakup usług obejmujących wykonanie ekspertyz, analiz i opinii | E104: =I104 -> 193000 | F104: 193000 | G104: 0 | H104: =G104/F104 -> 0 | I104: =SUM(J104:AM104) -> 193000 | U104: 193000
C105: 4590 | D105: Kary i odszkodowania wypłacane na rzecz osób fizycznych | E105: =I105 -> 3267000 | F105: 3238365 | G105: 1453235 | H105: =G105/F105 -> 0.44875577 | I105: =SUM(J105:AM105) -> 3267000 | U105: 3267000
...

Sheet adm.rząd.doch. 
A1: Zestawienie wykonania planu dochodów i wydatków zadań z zakresu administracji rządowej wykonywanych przez samorząd województwa
A2: I. DOCHODY | H2: w złotych
A3: Dział | B3: Rozdział | C3: Paragraf | D3: Nazwa | E3: Plan wg uchwały budżetowej | F3: Plan po zmianach | G3: Wykonanie | H3: % wykonania (7:6)
A4: 1. | B4: 2. | C4: 3. | D4: 4. | E4: 5. | F4: 6. | G4: 7. | H4: 8.
A5: 010 | B5: ROLNICTWO I ŁOWIECTWO | E5: =SUM(E6,E9) -> 3668000 | F5: =SUM(F6,F9) -> 3711067 | G5: =SUM(G6,G9) -> 1925238.2 | H5: =G5/F5 -> 0.51878293
B6: 01078 | C6: Usuwanie skutków klęsk żywiołowych | E6: =SUM(E7:E8) -> 0 | F6: =SUM(F7:F8) -> 0 | G6: =SUM(G7:G8) -> 0 | H6: =G6/F6 -> #DIV/0!
C7: 6510 | E7: 0 | H7: =G7/F7 -> #DIV/0!
C8: 6513 | E8: 0 | H8: =G8/F8 -> #DIV/0!
B9: 01095 | C9: Pozostała działalność | E9: =SUM(E10) -> 3668000 | F9: =SUM(F10) -> 3711067 | G9: =SUM(G10) -> 1925238.2 | H9: =G9/F9 -> 0.51878293
C10: 2210 | E10: 3668000 | F10: 3711067 | G10: 1925238.2 | H10: =G10/F10 -> 0.51878293
A11: 600 | B11: TRANSPORT I ŁĄCZNOŚĆ | E11: =SUM(E12,E14) -> 61527000 | F11: =SUM(F12,F14) -> 77849250 | G11: =SUM(G12,G14) -> 77844440 | H11: =G11/F11 -> 0.99993821
B12: 60003 | C12: Krajowe pasażerskie przewozy autobusowe | E12: =SUM(E13) -> 61207000 | F12: =SUM(F13) -> 77560977 | G12: =SUM(G13) -> 77560977 | H12: =G12/F12 -> 1
C13: 2210 | E13: 61207000 | F13: 77560977 | G13: 77560977 | H13: =G13/F13 -> 1
B14: 60095 | C14: Pozostała działalność | E14: =SUM(E15) -> 320000 | F14: =SUM(F15) -> 288273 | G14: =SUM(G15) -> 283462.86 | H14: =G14/F14 -> 0.98331394
C15: 2210 | E15: 320000 | F15: 288273 | G15: 283462.86 | H15: =G15/F15 -> 0.98331394
A16: 630 | B16: TURYSTYKA | E16: =SUM(E17) -> 64000 | F16: =SUM(F17) -> 71358 | G16: =SUM(G17) -> 71358 | H16: =G16/F16 -> 1
B17: 63095 | C17: Pozostała działalność | E17: =SUM(E18) -> 64000 | F17: =SUM(F18) -> 71358 | G17: =SUM(G18) -> 71358 | H17: =G17/F17 -> 1
C18: 2210 | E18: 64000 | F18: 71358 | G18: 71358 | H18: =G18/F18 -> 1
A19: 710 | B19: DZIAŁALNOŚĆ USŁUGOWA | E19: =SUM(E20) -> 370000 | F19: =SUM(F20) -> 403807 | G19: =SUM(G20) -> 403807 | H19: =G19/F19 -> 1
B20: 71012 | C20: Ośrodki dokumentacji geodezyjnej i kartograficznej | E20: =SUM(E21) -> 370000 | F20: =SUM(F21) -> 403807 | G20: =SUM(G21) -> 403807 | H20: =G20/F20 -> 1
C21: 2210 | E21: 370000 | F21: 403807 | G21: 403807 | H21: =G21/F21 -> 1
A22: 750 | B22: ADMINISTRACJA PUBLICZNA | E22: =SUM(E23,E25,E27) -> 602000 | F22: =SUM(F23,F25,F27) -> 658321 | G22: =SUM(G23,G25,G27) -> 640959.82 | H22: =G22/F22 -> 0.97362809
B23: 75011 | C23: Urzędy wojewódzkie | E23: =SUM(E24) -> 310000 | F23: =SUM(F24) -> 344217 | G23: =SUM(G24) -> 344217 | H23: =G23/F23 -> 1
C24: 2210 | E24: 310000 | F24: 344217 | G24: 344217 | H24: =G24/F24 -> 1
B25: 75046 | C25: Komisje egzaminacyjne | E25: =SUM(E26) -> 20000 | F25: =SUM(F26) -> 20000 | G25: =SUM(G26) -> 2639.96 | H25: =G25/F25 -> 0.131998
C26: 2210 | E26: 20000 | F26: 20000 | G26: 2639.96 | H26: =G26/F26 -> 0.131998
B27: 75084 | C27: Funkcjonowanie wojewódzkich rad dialogu społecznego | E27: =SUM(E28:E28) -> 272000 | F27: =SUM(F28:F28) -> 294104 | G27: =SUM(G28:G28) -> 294102.86 | H27: =G27/F27 -> 0.99999612
C28: 2210 | E28: 272000 | F28: 294104 | G28: 294102.86 | H28: =G28/F28 -> 0.99999612
A29: 751 | B29: URZĘDY NACZELNYCH ORGANÓW WŁADZY PAŃSTWOWEJ, KONTROLI I OCHRONY PRAWA ORAZ SĄDOWNICTWA | E29: =SUM(E30,E35,E37) -> 0 | F29: =F30 -> 2182150 | G29: =G30 -> 1556709.3 | H29: =G29/F29 -> 0.71338326
B30: 75109 | C30: Wybory do rad gmin, rad powiatów i sejmików województw, wybory wójtów, burmistrzów i prezydentów miast oraz referenda gminne, powiatowe i wojewódzkie | E30: =SUM(E31) -> 0 | F30: =SUM(F31) -> 2182150 | G30: =SUM(G31) -> 1556709.3 | H30: =G30/F30 -> 0.71338326
C31: 2210 | E31: 0 | F31: 2182150 | G31: 1556709.3 | H31: =G31/F31 -> 0.71338326
A32: 752 | B32: OBRONA NARODOWA | E32: =SUM(E33,E35,E37) -> 0 | F32: =F33 -> 5000 | G32: =G33 -> 5000 | H32: =G32/F32 -> 1
B33: 75212 | C33: Pozostałe wydatki obronne | E33: =SUM(E34) -> 0 | F33: =SUM(F34) -> 5000 | G33: =SUM(G34) -> 5000 | H33: =G33/F33 -> 1
C34: 2210 | E34: 0 | F34: 5000 | G34: 5000 | H34: =G34/F34 -> 1
A35: 801 | B35: OŚWIATA I WYCHOWANIE | E35: =SUM(E36) -> 0 | F35: =SUM(F36) -> 15088 | G35: =SUM(G36) -> 14870.94 | H35: =G35/F35 -> 0.98561373
B36: 80153 | C36: Zapewnienie uczniom prawa do bezpłatnego dostępu do podręczników, materiałów edukacyjnych lub materiałów ćwiczeniowych | E36: =SUM(E37) -> 0 | F36: =SUM(F37) -> 15088 | G36: =SUM(G37) -> 14870.94 | H36: =G36/F36 -> 0.98561373
C37: 2210 | E37: 0 | F37: 15088 | G37: 14870.94 | H37: =G37/F37 -> 0.98561373
A38: 851 | B38: OCHRONA ZDROWIA | E38: =SUM(E39,E41) -> 27595000 | F38: =SUM(F39,F41) -> 33349968 | G38: =SUM(G39,G41) -> 31808502 | H38: =G38/F38 -> 0.95377908
B39: 85157 | C39: Staże i specjalizacje medyczne | E39: =SUM(E40) -> 27555000 | F39: =SUM(F40) -> 33278368 | G39: =SUM(G40) -> 31742242 | H39: =G39/F39 -> 0.95384009
C40: 2210 | E40: 27555000 | F40: 33278368 | G40: 31742242 | H40: =G40/F40 -> 0.95384009
B41: 85195 | C41: Pozostała działalność | E41: =SUM(E42) -> 40000 | F41: =SUM(F42) -> 71600 | G41: =SUM(G42) -> 66260.29 | H41: =G41/F41 -> 0.92542304
C42: 2210 | E42: 40000 | F42: 71600 | G42: 66260.29 | H42: =G42/F42 -> 0.92542304
A43: 853 | B43: POZOSTAŁE ZADANIA W ZAKRESIE POLITYKI SPOŁECZNEJ | E43: =SUM(E44) -> 1000 | F43: =SUM(F44) -> 1000 | G43: =SUM(G44) -> 1000 | H43: =G43/F43 -> 1
B44: 85332 | C44: Wojewódzkie urzędy pracy | E44: =SUM(E45) -> 1000 | F44: =SUM(F45) -> 1000 | G44: =SUM(G45) -> 1000 | H44: =G44/F44 -> 1
C45: 2210 | E45: 1000 | F45: 1000 | G45: 1000 | H45: =G45/F45 -> 1
A46: 855 | B46: RODZINA | E46: =SUM(E47) -> 1876000 | F46: =SUM(F47) -> 2905712 | G46: =SUM(G47) -> 2893115.9 | H46: =G46/F46 -> 0.99566506
B47: 85509 | C47: Działalność ośrodków adopcyjnych | E47: =SUM(E48:E48) -> 1876000 | F47: =SUM(F48:F48) -> 2905712 | G47: =SUM(G48:G48) -> 2893115.9 | H47: =G47/F47 -> 0.99566506
C48: 2210 | E48: 1876000 | F48: 2905712 | G48: 2893115.9 | H48: =G48/F48 -> 0.99566506
A49: 900 | B49: GOSPODARKA KOMUNALNA I OCHRONA ŚRODOWISKA | E49: =SUM(E50+E52) -> 268000 | F49: =SUM(F50+F52) -> 281000 | G49: =SUM(G50+G52) -> 280100 | H49: =G49/F49 -> 0.99679715
B50: 90005 | C50: Ochrona powietrza atmosferycznego i klimatu | E50: =SUM(E51:E51) -> 202000 | F50: =SUM(F51:F51) -> 215000 | G50: =SUM(G51:G51) -> 215000 | H50: =G50/F50 -> 1
C51: 2210 | E51: 202000 | F51: 215000 | G51: 215000 | H51: =G51/F51 -> 1
B52: 90007 | C52: Zmniejszenie hałasu i wibracji | E52: =SUM(E53:E53) -> 66000 | F52: =SUM(F53:F53) -> 66000 | G52: =SUM(G53:G53) -> 65100 | H52: =G52/F52 -> 0.98636364
C53: 2210 | E53: 66000 | F53: 66000 | G53: 65100 | H53: =G53/F53 -> 0.98636364
A54: DOCHODY OGÓŁEM | E54: =SUM(E46,E38,E22,E19,E11,E5,E35,E43,E16,E49,E29,E32) -> 95971000 | F54: =SUM(F46,F38,F22,F19,F11,F5,F35,F43,F16,F49,F29,F32) -> 121433721 | G54: =SUM(G46,G38,G22,G19,G11,G5,G35,G43,G16,G49,G29,G32) -> 1.174451e+08 | H54: =G54/F54 -> 0.96715393
F55: =adm.rzad.wyd.!F127 -> 121433721 | G55: =adm.rzad.wyd.!G127 -> 1.174451e+08
E56: =E54-adm.rzad.wyd.!E127 -> 0 | F56: =F54-adm.rzad.wyd.!F127 -> 0 | G56: =G54-adm.rzad.wyd.!G127 -> 0
D170: =115000000+12000000 -> 127000000

Sheet adm.rzad.wyd.
A1: II. WYDATKI
N2: w złotych
A3: Dział | B3: Rozdział | C3: Nazwa | D3: Paragraf | E3: Plan wg uchwały budżetowej | F3: Plan po zmianach | G3: Wykonanie | H3: Wydatki bieżące | I3: z tego: | N3: Wydatki majątkowe | O3: % wykonania (7:6)
I4: Wydatki jednostek budżetowych | J4: w tym: | L4: Dotacje na zadania bieżące | M4: Świadczenia na rzecz osób fizycznych
J5: wynagro- dzenia i składki od nich naliczane | K5: wydatki związane z realizacją ich statutowych zadań
A6: 1. | B6: 2. | C6: 3. | D6: 4. | E6: 5. | F6: 6. | G6: 7. | H6: 8. | I6: 9. | J6: 10. | K6: 11. | L6: 12. | M6: 13. | N6: 14. | O6: 15.
A7: 010 | B7: ROLNICTWO I ŁOWIECTWO | E7: =SUM(E8) -> 3668000 | F7: =SUM(F8) -> 3711067 | G7: =SUM(G8) -> 1925238.2 | H7: =SUM(H8) -> 1925238.2 | I7: =SUM(J7:K7) -> 1897302 | J7: =SUM(J8) -> 1897302 | K7: =SUM(K8) -> 0 | L7: 0 | M7: =SUM(M8) -> 27936.22 | N7: =SUM(N8) -> 0 | O7: =G7/F7 -> 0.51878293
B8: 01095 | C8: Pozostała działalność | D8: razem | E8: =SUM(E9:E14) -> 3668000 | F8: =SUM(F9:F14) -> 3711067 | G8: =SUM(H8,N8) -> 1925238.2 | H8: =SUM(I8,L8,M8) -> 1925238.2 | I8: =SUM(J8:K8) -> 1897302 | J8: =SUM(J9:J14) -> 1897302 | K8: =SUM(K9:K14) -> 0 | L8: =SUM(L9:L14) -> 0 | M8: =SUM(M9:M14) -> 27936.22 | N8: =SUM(N9:N14) -> 0 | O8: =G8/F8 -> 0.51878293
D9: 3020 | E9: 0 | F9: 28635 | G9: =H9+N9 -> 27936.22 | H9: =I9+L9+M9 -> 27936.22 | I9: =J9+K9 -> 0 | M9: 27936.22 | O9: =G9/F9 -> 0.975597
D10: 4010 | E10: 331023 | F10: 371205 | G10: =H10+N10 -> 371205 | H10: =I10+L10+M10 -> 371205 | I10: =J10+K10 -> 371205 | J10: 371205 | O10: =G10/F10 -> 1
D11: 4110 | E11: 56902 | F11: 63767 | G11: =H11+N11 -> 63767 | H11: =I11+L11+M11 -> 63767 | I11: =J11+K11 -> 63767 | J11: 63767 | O11: =G11/F11 -> 1
D12: 4120 | E12: 8110 | F12: 9095 | G12: =H12+N12 -> 9095 | H12: =I12+L12+M12 -> 9095 | I12: =J12+K12 -> 9095 | J12: 9095 | O12: =G12/F12 -> 1
D13: 4590 | E13: 3267000 | F13: 3238365 | G13: =H13+N13 -> 1453235 | H13: =I13+L13+M13 -> 1453235 | I13: =J13+K13 -> 1453235 | J13: 1453235 | O13: =G13/F13 -> 0.44875577
D14: 4710 | E14: 4965 | F14: 0 | G14: =H14+N14 -> 0 | H14: =I14+L14+M14 -> 0 | I14: =J14+K14 -> 0 | J14: 0
A15: 600 | B15: TRANSPORT I ŁĄCZNOŚĆ | E15: =SUM(E16,E21) -> 61527000 | F15: =SUM(F16,F21) -> 77849250 | G15: =SUM(G16,G21) -> 77844440 | H15: =SUM(H16,H21) -> 77844440 | I15: =SUM(I16,I21) -> 283462.86 | J15: =J16+J21 -> 283462.86 | K15: =SUM(K16,K21) -> 0 | L15: =SUM(L16,L21) -> 77560977 | M15: 0 | N15: 0 | O15: =G15/F15 -> 0.99993821
B16: 60003 | C16: Krajowe pasażerskie przewozy autobusowe | D16: razem | E16: =SUM(E17:E20) -> 61207000 | F16: =SUM(F17:F20) -> 77560977 | G16: =SUM(H16,N16) -> 77560977 | H16: =SUM(I16,L16,M16) -> 77560977 | I16: 0 | J16: 0 | K16: 0 | L16: =SUM(L17:L20) -> 77560977 | M16: 0 | N16: 0 | O16: =G16/F16 -> 1
D17: 2310 | E17: 700000 | F17: 638344 | G17: =H17+N17 -> 638344.38 | H17: =I17+L17+M17 -> 638344.38 | L17: 638344.38 | O17: =G17/F17 -> 1.0000006
D18: 2320 | E18: 5300000 | F18: 3832695 | G18: =H18+N18 -> 3832694.8 | H18: =I18+L18+M18 -> 3832694.8 | L18: 3832694.8 | O18: =G18/F18 -> 0.99999995
D19: 2630 | E19: 51207000 | F19: 65195685 | G19: =H19+N19 -> 65195686 | H19: =I19+L19+M19 -> 65195686 | L19: 65195686 | O19: =G19/F19 -> 1
D20: 2800 | E20: 4000000 | F20: 7894253 | G20: =H20+N20 -> 7894252.1 | H20: =I20+L20+M20 -> 7894252.1 | L20: 7894252.1 | O20: =G20/F20 -> 0.99999989
B21: 60095 | C21: Pozostała działalność | D21: razem | E21: =SUM(E22:E26) -> 320000 | F21: =SUM(F22:F26) -> 288273 | G21: =SUM(H21,N21) -> 283462.86 | H21: =SUM(I21,L21,M21) -> 283462.86 | I21: =SUM(J21:K21) -> 283462.86 | J21: =SUM(J22:J26) -> 283462.86 | K21: =SUM(K22:K26) -> 0 | L21: 0 | M21: 0 | N21: 0 | O21: =G21/F21 -> 0.98331394
D22: 4010 | E22: 123824 | F22: 139829 | G22: =H22+N22 -> 139829 | H22: =I22+L22+M22 -> 139829 | I22: =J22+K22 -> 139829 | J22: 139829 | O22: =G22/F22 -> 1
D23: 4110 | E23: 21286 | F23: 24018 | G23: =H23+N23 -> 24018 | H23: =I23+L23+M23 -> 24018 | I23: =J23+K23 -> 24018 | J23: 24018 | O23: =G23/F23 -> 1
D24: 4120 | E24: 3033 | F24: 3426 | G24: =H24+N24 -> 3426 | H24: =I24+L24+M24 -> 3426 | I24: =J24+K24 -> 3426 | J24: 3426 | O24: =G24/F24 -> 1
D25: 4300 | E25: 170000 | F25: 121000 | G25: =H25+N25 -> 116189.86 | H25: =I25+L25+M25 -> 116189.86 | I25: =J25+K25 -> 116189.86 | J25: 116189.86 | O25: =G25/F25 -> 0.96024678
D26: 4710 | E26: 1857 | F26: 0
A27: 630 | B27: TURYSTYKA | E27: =SUM(E28) -> 64000 | F27: =SUM(F28) -> 71358 | G27: =SUM(G28) -> 71358 | H27: =SUM(H28) -> 71358 | I27: =SUM(I28) -> 71358 | J27: =SUM(J28) -> 71358 | K27: =SUM(K28) -> 0 | L27: 0 | M27: 0 | N27: 0 | O27: =G27/F27 -> 1
B28: 63095 | C28: Pozostała działalność | D28: razem | E28: =SUM(E29:E32) -> 64000 | F28: =SUM(F29:F32) -> 71358 | G28: =SUM(H28,N28) -> 71358 | H28: =SUM(I28,L28,M28) -> 71358 | I28: =SUM(J28:K28) -> 71358 | J28: =SUM(J29:J32) -> 71358 | K28: =SUM(K29:K32) -> 0 | L28: 0 | M28: 0 | N28: 0 | O28: =G28/F28 -> 1
D29: 4010 | E29: 52832 | F29: 59650 | G29: =H29+N29 -> 59650 | H29: =I29+L29+M29 -> 59650 | I29: =J29+K29 -> 59650 | J29: 59650 | O29: =G29/F29 -> 1
D30: 4110 | E30: 9082 | F30: 10246 | G30: =H30+N30 -> 10246 | H30: =I30+L30+M30 -> 10246 | I30: =J30+K30 -> 10246 | J30: 10246 | O30: =G30/F30 -> 1
D31: 4120 | E31: 1294 | F31: 1462 | G31: =H31+N31 -> 1462 | H31: =I31+L31+M31 -> 1462 | I31: =J31+K31 -> 1462 | J31: 1462 | O31: =G31/F31 -> 1
D32: 4710 | E32: 792 | F32: 0
A33: 710 | B33: DZIAŁALNOŚĆ USŁUGOWA | E33: =E34 -> 370000 | F33: =F34 -> 403807 | G33: =G34 -> 403807 | H33: =H34 -> 403807 | I33: =I34 -> 403807 | J33: =J34 -> 343807 | K33: =K34 -> 60000 | L33: 0 | M33: 0 | N33: =N34 -> 0 | O33: =G33/F33 -> 1
B34: 71012 | C34: Ośrodki dokumentacji geodezyjnej i kartograficznej | D34: razem | E34: =SUM(E35:E38) -> 370000 | F34: =SUM(F35:F38) -> 403807 | G34: =SUM(H34,N34) -> 403807 | H34: =SUM(I34,L34,M34) -> 403807 | I34: =SUM(J34:K34) -> 403807 | J34: =SUM(J35:J38) -> 343807 | K34: =SUM(K35:K38) -> 60000 | L34: 0 | M34: 0 | N34: 0 | O34: =G34/F34 -> 1
D35: 4010 | E35: 257520 | F35: 285650 | G35: =H35+N35 -> 285650 | H35: =I35+L35+M35 -> 285650 | I35: =J35+K35 -> 285650 | J35: 285650 | O35: =G35/F35 -> 1
D36: 4110 | E36: 46170 | F36: 51217 | G36: =H36+N36 -> 51217 | H36: =I36+L36+M36 -> 51217 | I36: =J36+K36 -> 51217 | J36: 51217 | O36: =G36/F36 -> 1
D37: 4120 | E37: 6310 | F37: 6940 | G37: =H37+N37 -> 6940 | H37: =I37+L37+M37 -> 6940 | I37: =J37+K37 -> 6940 | J37: 6940 | O37: =G37/F37 -> 1
D38: 4300 | E38: 60000 | F38: 60000 | G38: =H38+N38 -> 60000 | H38: =I38+L38+M38 -> 60000 | I38: =J38+K38 -> 60000 | K38: 60000 | O38: =G38/F38 -> 1
A39: 750 | B39: ADMINISTRACJA PUBLICZNA | E39: =SUM(E40,E45,E51) -> 602000 | F39: =SUM(F40,F45,F51) -> 658321 | G39: =SUM(G40,G45,G51) -> 640959.82 | H39: =SUM(H40,H45,H51) -> 640959.82 | I39: =SUM(I40,I45,I51) -> 632376.22 | J39: =SUM(J40,J45,J51) -> 596527 | K39: =SUM(K40,K45,K51) -> 35849.22 | L39: 0 | M39: =SUM(M40,M45,M51) -> 8583.6 | N39: =SUM(N40,N45,N51) -> 0 | O39: =G39/F39 -> 0.97362809
B40: 75011 | C40: Urzędy wojewódzkie | D40: razem | E40: =SUM(E41:E44) -> 310000 | F40: =SUM(F41:F44) -> 344217 | G40: =SUM(H40,N40) -> 344217 | H40: =SUM(I40,L40,M40) -> 344217 | I40: =SUM(J40:K40) -> 344217 | J40: =SUM(J41:J44) -> 344217 | K40: =SUM(K42:K44) -> 0 | L40: 0 | M40: 0 | N40: 0 | O40: =SUM(G40/F40) -> 1
D41: 4010 | E41: 255903 | F41: 287740 | G41: =H41+N41 -> 287740 | H41: =I41+L41+M41 -> 287740 | I41: =J41+K41 -> 287740 | J41: 287740 | O41: =SUM(G41/F41) -> 1
D42: 4110 | E42: 43990 | F42: 49427 | G42: =H42+N42 -> 49427 | H42: =I42+L42+M42 -> 49427 | I42: =J42+K42 -> 49427 | J42: 49427 | O42: =SUM(G42/F42) -> 1
D43: 4120 | E43: 6269 | F43: 7050 | G43: =H43+N43 -> 7050 | H43: =I43+L43+M43 -> 7050 | I43: =J43+K43 -> 7050 | J43: 7050 | O43: =SUM(G43/F43) -> 1
D44: 4710 | E44: 3838 | F44: 0
A45: 750 | B45: 75046 | C45: Komisje egzaminacyjne | D45: razem | E45: =SUM(E46:E50) -> 20000 | F45: =SUM(F46:F50) -> 20000 | G45: =SUM(H45,N45) -> 2639.96 | H45: =SUM(I45,L45,M45) -> 2639.96 | I45: =SUM(J45:K45) -> 2639.96 | J45: =SUM(J46:J50) -> 0 | K45: =SUM(K46:K50) -> 2639.96 | L45: 0 | M45: 0 | N45: 0 | O45: =SUM(G45/F45) -> 0.131998
D46: 4110 | E46: 700 | F46: 700 | G46: =H46+N46 -> 0 | H46: =I46+L46+M46 -> 0 | I46: =J46+K46 -> 0 | J46: 0 | O46: =SUM(G46/F46) -> 0
D47: 4120 | E47: 140 | F47: 140 | G47: =H47+N47 -> 0 | H47: =I47+L47+M47 -> 0 | I47: =J47+K47 -> 0 | J47: 0 | O47: =SUM(G47/F47) -> 0
D48: 4170 | E48: 10430 | F48: 10430 | G48: =H48+N48 -> 0 | H48: =I48+L48+M48 -> 0 | I48: =J48+K48 -> 0 | J48: 0 | O48: =SUM(G48/F48) -> 0
D49: 4210 | E49: 3500 | F49: 3500 | G49: =H49+N49 -> 1828.16 | H49: =I49+L49+M49 -> 1828.16 | I49: =J49+K49 -> 1828.16 | K49: 1828.16 | O49: =SUM(G49/F49) -> 0.52233143
D50: 4300 | E50: 5230 | F50: 5230 | G50: =H50+N50 -> 811.8 | H50: =I50+L50+M50 -> 811.8 | I50: =J50+K50 -> 811.8 | K50: 811.8 | O50: =SUM(G50/F50) -> 0.15521989
B51: 75084 | C51: Funkcjonowanie wojewódzkich rad dialogu społecznego | D51: razem | E51: =SUM(E52:E62) -> 272000 | F51: =SUM(F52:F62) -> 294104 | G51: =SUM(H51,N51) -> 294102.86 | H51: =SUM(I51,L51,M51) -> 294102.86 | I51: =SUM(J51:K51) -> 285519.26 | J51: =SUM(J52:J62) -> 252310 | K51: =SUM(K52:K62) -> 33209.26 | L51: 0 | M51: =SUM(M52:M62) -> 8583.6 | N51: =SUM(N53:N62) -> 0 | O51: =SUM(G51/F51) -> 0.99999612
D52: 3030 | E52: 7000 | F52: 8584 | G52: =H52+N52 -> 8583.6 | H52: =I52+L52+M52 -> 8583.6 | M52: 8583.6 | O52: =SUM(G52/F52) -> 0.9999534
D53: 4010 | E53: 163826 | F53: 211472 | G53: =H53+N53 -> 211472 | H53: =I53+L53+M53 -> 211472 | I53: =J53+K53 -> 211472 | J53: 211472 | O53: =SUM(G53/F53) -> 1
D54: 4110 | E54: 28161 | F54: 35696 | G54: =H54+N54 -> 35696 | H54: =I54+L54+M54 -> 35696 | I54: =J54+K54 -> 35696 | J54: 35696 | O54: =SUM(G54/F54) -> 1
D55: 4120 | E55: 4013 | F55: 5142 | G55: =H55+N55 -> 5142 | H55: =I55+L55+M55 -> 5142 | I55: =J55+K55 -> 5142 | J55: 5142 | O55: =SUM(G55/F55) -> 1
D56: 4170 | E56: 2000 | F56: 0
D57: 4210 | E57: 30000 | F57: 20321 | G57: =H57+N57 -> 20320.26 | H57: =I57+L57+M57 -> 20320.26 | I57: =J57+K57 -> 20320.26 | K57: 20320.26 | O57: =SUM(G57/F57) -> 0.99996358
D58: 4220 | E58: 1000 | F58: 1000 | G58: =H58+N58 -> 1000 | H58: =I58+L58+M58 -> 1000 | I58: =J58+K58 -> 1000 | K58: 1000 | O58: =SUM(G58/F58) -> 1
D59: 4300 | E59: 30000 | F59: 10869 | G59: =H59+N59 -> 10869 | H59: =I59+L59+M59 -> 10869 | I59: =J59+K59 -> 10869 | K59: 10869 | O59: =SUM(G59/F59) -> 1
D60: 4390 | E60: 2000 | F60: 0
D61: 4410 | E61: 2000 | F61: 0
D62: 4700 | E62: 2000 | F62: 1020 | G62: =H62+N62 -> 1020 | H62: =I62+L62+M62 -> 1020 | I62: =J62+K62 -> 1020 | K62: 1020 | O62: =SUM(G62/F62) -> 1
A63: 751 | B63: URZĘDY NACZELNYCH ORGANÓW WŁADZY PAŃSTWOWEJ, KONTROLI I OCHRONY PRAWA ORAZ SĄDOWNICTWA | E63: =SUM(E64) -> 0 | F63: =SUM(F64) -> 2182150 | G63: =H63+N63 -> 1556709.3 | H63: =I63+L63+M63 -> 1556709.3 | I63: =J63+K63 -> 1536195.1 | J63: =SUM(J64) -> 829621.94 | K63: =SUM(K64) -> 706573.21 | L63: 0 | M63: =SUM(M64) -> 20514.14 | N63: 0 | O63: =G63/F63 -> 0.71338326
B64: 75109 | C64: Wybory do rad gmin, rad powiatów i sejmików województw, wybory wójtów, burmistrzów i prezydentów miast oraz referenda gminne, powiatowe i wojewódzkie | D64: razem | E64: =SUM(E65:E72) -> 0 | F64: =SUM(F65:F72) -> 2182150 | G64: =SUM(G65:G72) -> 1556709.3 | H64: =SUM(H65:H72) -> 1556709.3 | I64: =J64+K64 -> 1536195.1 | J64: =SUM(J65:J72) -> 829621.94 | K64: =SUM(K65:K72) -> 706573.21 | L64: =SUM(L65:L72) -> 0 | M64: =SUM(M65:M72) -> 20514.14 | N64: =SUM(N65:N72) -> 0 | O64: =G64/F64 -> 0.71338326
D65: 3020 | E65: 0 | F65: 21100 | G65: =H65+N65 -> 20514.14 | H65: =I65+L65+M65 -> 20514.14 | M65: 20514.14 | O65: =G65/F65 -> 0.97223412
D66: 4110 | E66: 0 | F66: 199000 | G66: =H66+N66 -> 117494.2 | H66: =I66+L66+M66 -> 117494.2 | I66: =J66+K66 -> 117494.2 | J66: 117494.2 | O66: =G66/F66 -> 0.59042312
D67: 4120 | E67: 0 | F67: 29000 | G67: =H67+N67 -> 14748.99 | H67: =I67+L67+M67 -> 14748.99 | I67: =J67+K67 -> 14748.99 | J67: 14748.99 | O67: =G67/F67 -> 0.50858586
D68: 4170 | E68: 0 | F68: 1170050 | G68: =H68+N68 -> 694000 | H68: =I68+L68+M68 -> 694000 | I68: =J68+K68 -> 694000 | J68: 694000 | O68: =G68/F68 -> 0.59313705
D69: 4210 | E69: 0 | F69: 13000 | G69: =H69+N69 -> 225.8 | H69: =I69+L69+M69 -> 225.8 | I69: =J69+K69 -> 225.8 | K69: 225.8 | O69: =G69/F69 -> 0.017369231
D70: 4220 | E70: 0 | F70: 10000 | G70: =H70+N70 -> 848 | H70: =I70+L70+M70 -> 848 | I70: =J70+K70 -> 848 | K70: 848 | O70: =G70/F70 -> 0.0848
D71: 4300 | E71: 0 | F71: 720000 | G71: =H71+N71 -> 705499.41 | H71: =I71+L71+M71 -> 705499.41 | I71: =J71+K71 -> 705499.41 | K71: 705499.41 | O71: =G71/F71 -> 0.97986029
D72: 4710 | E72: 0 | F72: 20000 | G72: =H72+N72 -> 3378.75 | H72: =I72+L72+M72 -> 3378.75 | I72: =J72+K72 -> 3378.75 | J72: 3378.75 | O72: =G72/F72 -> 0.1689375
A73: 752 | B73: OBRONA NARODOWA | E73: =SUM(E74) -> 0 | F73: =SUM(F74) -> 5000 | G73: =SUM(G74) -> 5000 | H73: =SUM(H74) -> 5000 | I73: =SUM(I74) -> 5000 | J73: =SUM(J74) -> 0 | K73: =SUM(K74) -> 5000 | L73: 0 | M73: =SUM(M74) -> 0 | N73: =SUM(N74) -> 0 | O73: =G73/F73 -> 1
B74: 75212 | C74: Pozostałe wydatki obronne | D74: razem | E74: =SUM(E75:E78) -> 0 | F74: =SUM(F75:F76) -> 5000 | G74: =SUM(H74,N74) -> 5000 | H74: =SUM(I74,L74,M74) -> 5000 | I74: =SUM(J74:K74) -> 5000 | J74: =SUM(J75:J78) -> 0 | K74: =SUM(K75:K76) -> 5000 | L74: 0 | M74: 0 | N74: 0 | O74: =SUM(G74/F74) -> 1
D75: 4210 | E75: 0 | F75: 1190 | G75: =H75+N75 -> 1190 | H75: =I75+L75+M75 -> 1190 | I75: =J75+K75 -> 1190 | K75: 1190 | O75: =SUM(G75/F75) -> 1
D76: 4220 | E76: 0 | F76: 3810 | G76: =H76+N76 -> 3810 | H76: =I76+L76+M76 -> 3810 | I76: =J76+K76 -> 3810 | K76: 3810 | O76: =SUM(G76/F76) -> 1
A77: 801 | B77: OŚWIATA I WYCHOWANIE | E77: =SUM(E78) -> 0 | F77: =SUM(F78) -> 15088 | G77: =SUM(G78) -> 14870.94 | H77: =SUM(H78) -> 14870.94 | I77: =SUM(I78) -> 14870.94 | J77: 0 | K77: =SUM(K78) -> 14870.94 | L77: 0 | M77: 0 | N77: 0 | O77: =G77/F77 -> 0.98561373
B78: 80153 | C78: Zapewnienie uczniom prawa do bezpłatnego dostępu do podręczników, materiałów edukacyjnych lub materiałów ćwiczeniowych | D78: razem | E78: =SUM(E79:E79) -> 0 | F78: =SUM(F79:F79) -> 15088 | G78: =SUM(H78,N78) -> 14870.94 | H78: =SUM(I78,L78,M78) -> 14870.94 | I78: =SUM(J78:K78) -> 14870.94 | J78: 0 | K78: =SUM(K79:K79) -> 14870.94 | L78: 0 | M78: 0 | N78: 0 | O78: =SUM(G78/F78) -> 0.98561373
D79: 4240 | E79: 0 | F79: 15088 | G79: =H79+N79 -> 14870.94 | H79: =I79+L79+M79 -> 14870.94 | I79: =J79+K79 -> 14870.94 | K79: 14870.94 | O79: =SUM(G79/F79) -> 0.98561373
A80: 851 | B80: OCHRONA ZDROWIA | E80: =E87+E81 -> 27595000 | F80: =F87+F81 -> 33349968 | G80: =G87+G81 -> 31808502 | H80: =H87+H81 -> 31808502 | I80: =I87+I81 -> 31808502 | J80: =J87+J81 -> 70860 | K80: =K87+K81 -> 31737642 | L80: =L87+L81 -> 0 | ... N80: =N87+N81 -> 0 | O80: =G80/F80 -> 0.95377908
B81: 85157 | C81: Staże i specjalizacje medyczne | D81: razem | E81: =SUM(E82:E86) -> 27555000 | F81: =SUM(F82:F86) -> 33278368 | G81: =SUM(H81,N81) -> 31742242 | H81: =SUM(I81,L81,M81) -> 31742242 | I81: =SUM(J81:K81) -> 31742242 | J81: =SUM(J82:J86) -> 27060 | K81: =SUM(K82:K86) -> 31715182 | L81: =SUM(L82:L85) -> 0 | M81: 0 | N81: =SUM(N82:N85) -> 0 | O81: =G81/F81 -> 0.95384009
D82: 4010 | E82: 0 | F82: 22526 | G82: =H82+N82 -> 22526 | H82: =I82+L82+M82 -> 22526 | I82: =J82+K82 -> 22526 | J82: 22526 | O82: =G82/F82 -> 1
D83: 4110 | E83: 0 | F83: 3814 | G83: =H83+N83 -> 3814 | H83: =I83+L83+M83 -> 3814 | I83: =J83+K83 -> 3814 | J83: 3814 | O83: =G83/F83 -> 1
D84: 4120 | E84: 0 | F84: 552 | G84: =H84+N84 -> 552 | H84: =I84+L84+M84 -> 552 | I84: =J84+K84 -> 552 | J84: 552 | O84: =G84/F84 -> 1
D85: 4320 | E85: 27555000 | F85: 33251308 | G85: =H85+N85 -> 31715182 | H85: =I85+L85+M85 -> 31715182 | I85: =J85+K85 -> 31715182 | K85: 31715182 | O85: =G85/F85 -> 0.95380252
D86: 4710 | E86: 0 | F86: 168 | G86: =H86+N86 -> 168 | H86: =I86+L86+M86 -> 168 | I86: =J86+K86 -> 168 | J86: 168 | O86: =G86/F86 -> 1
B87: 85195 | C87: Pozostała działalność | D87: razem | E87: =SUM(E88:E89) -> 40000 | F87: =SUM(F88:F89) -> 71600 | G87: =SUM(H87,N87) -> 66260.29 | H87: =SUM(I87,L87,M87) -> 66260.29 | I87: =SUM(J87:K87) -> 66260.29 | J87: =SUM(J88:J89) -> 43800 | K87: =SUM(K88:K89) -> 22460.29 | L87: 0 | M87: 0 | N87: 0 | O87: =G87/F87 -> 0.92542304
D88: 4170 | E88: 27200 | F88: 43800 | G88: =H88+N88 -> 43800 | H88: =I88+L88+M88 -> 43800 | I88: =J88+K88 -> 43800 | J88: 43800 | O88: =G88/F88 -> 1
D89: 4300 | E89: 12800 | F89: 27800 | G89: =H89+N89 -> 22460.29 | H89: =I89+L89+M89 -> 22460.29 | I89: =J89+K89 -> 22460.29 | K89: 22460.29 | O89: =G89/F89 -> 0.8079241
A90: 853 | B90: POZOSTAŁE ZADANIA W ZAKRESIE POLITYKI SPOŁECZNEJ | E90: =SUM(E91) -> 1000 | F90: =F91 -> 1000 | G90: =SUM(G91) -> 1000 | H90: =SUM(H91) -> 1000 | I90: =SUM(I91) -> 1000 | J90: =SUM(J91) -> 1000 | K90: =SUM(K91) -> 0 | L90: =SUM(L91) -> 0 | M90: =SUM(M91) -> 0 | N90: 0 | O90: =G90/F90 -> 1
B91: 85332 | C91: Wojewódzkie urzędy pracy | D91: razem | E91: =SUM(E92:E93) -> 1000 | F91: =SUM(F92:F93) -> 1000 | G91: =SUM(G92:G93) -> 1000 | H91: =SUM(H92:H93) -> 1000 | I91: =SUM(I92:I93) -> 1000 | J91: =SUM(J92:J93) -> 1000 | K91: =SUM(K92:K93) -> 0 | L91: =SUM(L92:L93) -> 0 | M91: =SUM(M92:M93) -> 0 | N91: 0 | O91: =G91/F91 -> 1
D92: 3030 | E92: 100 | F92: 0
D93: 4170 | E93: 900 | F93: 1000 | G93: =H93+N93 -> 1000 | H93: =I93+L93+M93 -> 1000 | I93: =J93+K93 -> 1000 | J93: 1000 | O93: =G93/F93 -> 1
A94: 855 | B94: RODZINA | E94: =SUM(E95) -> 1876000 | F94: =SUM(F95) -> 2905712 | G94: =H94+N94 -> 2893115.9 | H94: =I94+L94+M94 -> 2893115.9 | I94: =J94+K94 -> 2882715.9 | J94: =SUM(J95) -> 2585904.4 | K94: =SUM(K95) -> 296811.54 | L94: 0 | M94: =SUM(M95) -> 10400 | N94: 0 | O94: =G94/F94 -> 0.99566506
B95: 85509 | C95: Działalność ośrodków adopcyjnych | D95: razem | E95: =SUM(E96:E118) -> 1876000 | F95: =SUM(F96:F118) -> 2905712 | G95: =SUM(H95,N95) -> 2893115.9 | H95: =SUM(I95,L95,M95) -> 2893115.9 | I95: =SUM(J95:K95) -> 2882715.9 | J95: =SUM(J96:J118) -> 2585904.4 | K95: =SUM(K96:K118) -> 296811.54 | L95: 0 | M95: =SUM(M96:M118) -> 10400 | N95: 0 | O95: =G95/F95 -> 0.99566506
D96: 3020 | E96: 19345 | F96: 10400 | G96: =H96+N96 -> 10400 | H96: =I96+L96+M96 -> 10400 | M96: 10400 | O96: =G96/F96 -> 1
D97: 4010 | E97: 1144230 | F97: 2052232 | G97: =H97+N97 -> 2042430.7 | H97: =I97+L97+M97 -> 2042430.7 | I97: =J97+K97 -> 2042430.7 | J97: 2042430.7 | O97: =G97/F97 -> 0.99522406
D98: 4040 | E98: 123102 | F98: 119862 | G98: =H98+N98 -> 119861.17 | H98: =I98+L98+M98 -> 119861.17 | I98: =J98+K98 -> 119861.17 | J98: 119861.17 | O98: =G98/F98 -> 0.99999308
D99: 4110 | E99: 214969 | F99: 365912 | G99: =H99+N99 -> 364218.46 | H99: =I99+L99+M99 -> 364218.46 | I99: =J99+K99 -> 364218.46 | J99: 364218.46 | O99: =G99/F99 -> 0.99537173
D100: 4120 | E100: 30497 | F100: 40957 | G100: =H100+N100 -> 39901.68 | H100: =I100+L100+M100 -> 39901.68 | I100: =J100+K100 -> 39901.68 | J100: 39901.68 | O100: =G100/F100 -> 0.97423346
...

Sheet ustawy szczegól.
A2: Zestawienie wykonania planu dochodów i wydatków związanych ze szczególnymi zasadami wykonywania budżetu województwa wynikającymi z odrębnych ustaw
L3: w złotych
A4: Dział | B4: Rozdział | C4: Nazwa | D4: Paragraf | E4: Dochody | G4: Paragraf | H4: Wydatki | L4: Ustawa
H5: Plan po zmianach | I5: Wykonanie | J5: w tym wydatki:
E6: Plan po zmianach | F6: Wykonanie | J6: bieżące | K6: majątkowe
A7: 010 | C7: ROLNICTWO I ŁOWIECTWO | E7: =SUM(E8) -> 13000000 | F7: =SUM(F8) -> 21513483 | H7: =SUM(H8) -> 23168673 | I7: =SUM(I8) -> 17765993 | J7: =SUM(J8) -> 3838659.8 | K7: =SUM(K8) -> 13927334 | L7: Ustawa z dnia 3 lutego 1995r. o ochronie gruntów rolnych i leśnych (z późn. zm.)
B8: 01042 | C8: Wyłączenie z produkcji gruntów rolnych | E8: =SUM(E9:E15) -> 13000000 | F8: =SUM(F9:F15) -> 21513483 | H8: =SUM(H9:H15) -> 23168673 | I8: =SUM(I9:I15) -> 17765993 | J8: =SUM(J9:J15) -> 3838659.8 | K8: =SUM(K9:K15) -> 13927334
D9: 0690 | E9: 13000000 | F9: 21275765 | G9: 2310 | H9: 5140851 | I9: =J9+K9 -> 3714135.1 | J9: 3714135.1
D10: 0910 | E10: 0 | F10: 237717.87 | G10: 2320 | H10: 50000 | I10: =J10+K10 -> 27137.6 | J10: 27137.6
G11: 4210 | H11: 130000 | I11: =J11+K11 -> 97387.02 | J11: 97387.02
G12: 4300 | H12: 30000 | I12: =J12+K12 -> 0 | J12: 0
G13: 6060 | H13: 440000 | I13: =J13+K13 -> 356031.94 | K13: 356031.94
G14: 6610 | H14: 17347822 | I14: =J14+K14 -> 13554188 | K14: 13554188
G15: 6620 | H15: 30000 | I15: =J15+K15 -> 17114 | K15: 17114
A16: 600 | C16: TRANSPORT I ŁĄCZNOŚĆ | E16: =SUM(E17,E21) -> 6875000 | F16: =SUM(F17,F21) -> 6875000 | H16: =SUM(H17,H21) -> 16703847 | I16: =SUM(I17,I21) -> 12883904 | J16: =SUM(J17,J21) -> 11545723 | K16: =SUM(K17,K21) -> 1338181 | L16: Ustawa z dnia 16 grudnia 2005r. o Funduszu Kolejowym
B17: 60001 | C17: Krajowe pasażerskie przewozy kolejowe | E17: =SUM(E18:E19) -> 6875000 | F17: =SUM(F18:F19) -> 6875000 | H17: =SUM(H18:H20) -> 15677666 | I17: =SUM(I18:I20) -> 11857723 | J17: =SUM(J18:J20) -> 11545723 | K17: =SUM(K18:K20) -> 312000
D18: 2170 | E18: 5375000 | F18: 5375000 | G18: 2830 | H18: 3830000 | I18: =J18+K18 -> 3830000 | J18: 3830000
D19: 6350 | E19: 1500000 | F19: 1500000 | G19: 4270 | H19: 11463906 | I19: =J19+K19 -> 7715723 | J19: 7715723
G20: 6060 | H20: 383760 | I20: =J20+K20 -> 312000 | K20: 312000
B21: 60013 | C21: Drogi publiczne wojewódzkie | E21: =SUM(E23:E23) -> 0 | F21: =SUM(F23:F23) -> 0 | H21: =SUM(H22:H23) -> 1026181 | I21: =SUM(I22:I23) -> 1026181 | J21: =SUM(J23) -> 0 | K21: =SUM(K22:K23) -> 1026181 | L21: Ustawa z dnia 31 marca 2020 r. o zmianie ustawy o szczególnych rozwiązaniach związanych z zapobieganiem, przeciwdziałaniem i zwalczaniem COVID-19, innych chorób zakaźnych oraz wywołanych nimi sytuacji kryzysowych oraz niektórych innych ustaw (z późn. zm.)
E22: 0 | G22: 6050 | H22: 135046 | I22: =SUM(J22:K22) -> 135046 | K22: 135046
E23: 0 | G23: 6100 | H23: 891135 | I23: =SUM(J23:K23) -> 891135 | K23: 891135
A24: 756 | C24: DOCHODY OD OSÓB PRAWNYCH, OD OSÓB FIZYCZNYCH I OD INNYCH JEDNOSTEK NIEPOSIADAJĄCYCH OSOBOWOŚCI PRAWNEJ ORAZ WYDATKI ZWIĄZANE Z ICH POBOREM | E24: =SUM(E25) -> 1105000 | F24: =SUM(F25) -> 5619000 | H24: =SUM(H25) -> 0 | I24: =SUM(I25) -> 0 | J24: =SUM(J25) -> 0 | K24: =SUM(K25) -> 0 | L24: Ustawa z dnia 26 października 1982 r. o wychowaniu w trzeźwości i przeciwdziałaniu alkoholizmowi (z późn. zm.)
B25: 75618 | C25: Wpływy z innych opłat stanowiących dochody jednostek samorządu terytorialnego na podstawie ustaw | E25: =SUM(E26:E26) -> 1105000 | F25: =SUM(F26:F26) -> 5619000 | H25: =SUM(H26:H26) -> 0 | I25: =SUM(I26:I26) -> 0 | J25: =SUM(J26:J26) -> 0 | K25: =SUM(K26:K26) -> 0
D26: 0480 | E26: 1105000 | F26: 5619000
D27: 0690 | E27: 0 | F27: 40
A28: 758 | C28: RÓŻNE ROZLICZENIA | E28: =SUM(E29) -> 940433 | F28: =SUM(F29) -> 1227894.5 | H28: =SUM(H29) -> 0 | I28: =SUM(I29) -> 0 | J28: =SUM(J29) -> 0 | K28: =SUM(K29) -> 0 | L28: Ustawa z dnia 31 marca 2020 r. o zmianie ustawy o szczególnych rozwiązaniach związanych z zapobieganiem, przeciwdziałaniem i zwalczaniem COVID-19, innych chorób zakaźnych oraz wywołanych nimi sytuacji kryzysowych oraz niektórych innych ustaw (z późn. zm.)
B29: 75814 | C29: Różne rozliczenia finansowe | E29: =SUM(E30:E30) -> 940433 | F29: =SUM(F30:F30) -> 1227894.5 | H29: =SUM(H30:H30) -> 0 | I29: =SUM(I30:I30) -> 0 | J29: =SUM(J30:J30) -> 0 | K29: =SUM(K30:K30) -> 0
D30: 0920 | E30: 940433 | F30: 1227894.5
A31: 851 | C31: OCHRONA ZDROWIA | E31: =E37+E39+E32 -> 0 | F31: =F37+F39+F32 -> 461 | H31: =H37+H39+H32+H35 -> 7129042 | I31: =I37+I39+I32+I35 -> 7056817 | J31: =J37+J39+J32 -> 879101.43 | K31: =SUM(K39,K37,K35,K32) -> 6174040.3
B32: 85111 | C32: Szpitale ogólne | E32: =SUM(E34:E34) -> 0 | F32: =SUM(F34:F34) -> 0 | H32: =SUM(H33:H34) -> 995378 | I32: =SUM(I33:I34) -> 995377.16 | J32: =SUM(J33:J34) -> 0 | K32: =SUM(K33:K34) -> 995377.16
G33: 6220 | H33: 937366 | I33: 937365.28 | K33: 937365.28
G34: 6750 | H34: 58012 | I34: 58011.88 | K34: 58011.88
B35: 85112 | C35: Szpitale kliniczne | E35: =SUM(E36:E36) -> 0 | F35: =SUM(F36:F36) -> 0 | H35: =H36 -> 5178664 | I35: =I36 -> 5178663.2 | J35: =SUM(J36) -> 0 | K35: =K36 -> 5178663.2
G36: 6750 | H36: 5178664 | I36: 5178663.2 | K36: 5178663.2
B37: 85153 | C37: Zwalczanie narkomanii | E37: =SUM(E38:E38) -> 0 | F37: =SUM(F38:F38) -> 461 | H37: =SUM(H38:H38) -> 250000 | I37: =SUM(I38:I38) -> 208045.45 | J37: =SUM(J38:J38) -> 208045.45 | K37: =SUM(K38:K38) -> 0 | L37: Ustawa z dnia 26 października 1982 r. o wychowaniu w trzeźwości i przeciwdziałaniu alkoholizmowi (z późn. zm.)
D38: 0920 | E38: 0 | F38: 461 | G38: 2360 | H38: 250000 | I38: 208045.45 | J38: 208045.45
B39: 85154 | C39: Przeciwdziałanie alkoholizmowi | E39: =SUM(E40:E43) -> 0 | F39: =SUM(F40:F43) -> 0 | H39: =SUM(H40:H43) -> 705000 | I39: =SUM(I40:I43) -> 674731.18 | J39: =SUM(J40:J43) -> 671055.98 | K39: =SUM(K40:K43) -> 0
G40: 2360 | H40: 640000 | I40: 632986.88 | J40: 632986.88
G41: 4190 | H41: 42000 | I41: 31020.6 | J41: 31020.6
G42: 4210 | H42: 10000 | I42: 3048.5 | J42: 3048.5
G43: 4300 | H43: 13000 | I43: 7675.2 | J43: 4000
A44: 852 | C44: POMOC SPOŁECZNA | E44: =SUM(E45) -> 0 | F44: =SUM(F45) -> 1127.19 | H44: =SUM(H45) -> 150000 | I44: =SUM(I45) -> 149539.27 | J44: =SUM(J45) -> 149539.27 | K44: =SUM(K45) -> 0
B45: 85205 | C45: Zadania w zakresie przeciwdziałania przemocy domowej | E45: =SUM(E48:E48) -> 0 | F45: =SUM(F46:F48) -> 1127.19 | H45: =SUM(H48:H48) -> 150000 | I45: =SUM(I48:I48) -> 149539.27 | J45: =SUM(J48:J48) -> 149539.27 | K45: =SUM(K48:K48) -> 0
D46: 0900 | E46: 0 | F46: 74
D47: 0920 | E47: 0 | F47: 0.53
D48: 2910 | E48: 0 | F48: 1052.66 | G48: 2360 | H48: 150000 | I48: 149539.27 | J48: 149539.27
A49: 900 | C49: GOSPODARKA KOMUNALNA I OCHRONA ŚRODOWISKA | E49: =SUM(E50,E55,E60,E65) -> 624700 | F49: =SUM(F50,F55,F60,F65) -> 911795.91 | H49: =SUM(H50,H55,H60,H65) -> 1036615 | I49: =SUM(I50,I55,I60,I65) -> 990315 | J49: =SUM(J50,J55,J60,J65) -> 990315 | K49: =SUM(K50,K55,K60,K65) -> 0
B50: 90019 | C50: Wpływy i wydatki związane z gromadzeniem środków z opłat i kar za korzystanie ze środowiska | E50: =SUM(E51:E53) -> 400000 | F50: =SUM(F51:F53) -> 458967.73 | H50: =SUM(H51:H54) -> 478569 | I50: =SUM(I51:I54) -> 453569 | J50: =SUM(J51:J54) -> 453569 | K50: =SUM(K51:K54) -> 0 | L50: Ustawa z dnia 27 kwietnia 2001 r. Prawo ochrony środowiska (z późn. zm.)
D51: 0570 | E51: 0 | F51: 53.24 | G51: 4010 | H51: 379118 | I51: =J51+K51 -> 379118 | J51: 379118
D52: 0580 | E52: 0 | F52: 1191.52 | G52: 4110 | H52: 65170 | I52: =J52+K52 -> 65170 | J52: 65170
D53: 0690 | E53: 400000 | F53: =2137.56+455585.41 -> 457722.97 | G53: 4120 | H53: 9281 | I53: =J53+K53 -> 9281 | J53: 9281
G54: 4700 | H54: 25000 | I54: =J54+K54 -> 0 | J54: 0
B55: 90020 | C55: Wpływy i wydatki związane z gromadzeniem środków z opłat produktowych | E55: =SUM(E56:E59) -> 73400 | F55: =SUM(F56:F59) -> 172211.83 | H55: =SUM(H56:H59) -> 190170 | I55: =SUM(I56:I59) -> 185170 | J55: =SUM(J56:J59) -> 185170 | K55: =SUM(K56:K59) -> 0 | L55: Ustawa z dnia 11 maja 2001 r. o obowiązkach przedsiębiorców w zakresie gospodarowania niektórymi odpadami oraz o opłacie produktowej, ustawa z dnia 20 stycznia 2005 r. o recyklingu pojazdów wycofanych z eksploatacji, ustawa z dnia 13 czerwca 2013 r. o gospodarce opakowaniami i odpadami opakowaniowymi, ustawa z dnia 11 września 2015 r. o zużytym sprzęcie elektrycznym i elektronicznym (z późn. zm.)
D56: 0240 | E56: 40000 | F56: 78840.24 | G56: 4010 | H56: 154766 | I56: =J56+K56 -> 154766 | J56: 154766
D57: 0400 | E57: 32200 | F57: 90715.83 | G57: 4110 | H57: 26610 | I57: =J57+K57 -> 26610 | J57: 26610
D58: 0530 | E58: 1000 | F58: 2296.33 | G58: 4120 | H58: 3794 | I58: =J58+K58 -> 3794 | J58: 3794
D59: 0970 | E59: 200 | F59: 359.43 | G59: 4700 | H59: 5000 | I59: =J59+K59 -> 0 | J59: 0
B60: 90024 | C60: Wpływy i wydatki związane z wprowadzeniem do obrotu baterii i akumulatorów | E60: =SUM(E61:E63) -> 1300 | F60: =SUM(F61:F63) -> 2466.32 | H60: =SUM(H61:H64) -> 2302 | I60: =SUM(I61:I64) -> 1002 | J60: =SUM(J61:J64) -> 1002 | K60: =SUM(K61:K63) -> 0 | L60: Ustawa z dnia 24 kwietnia 2009 r. o bateriach i akumulatorach (z późn. zm.)
D61: 0400 | E61: 100 | F61: 460.49 | G61: 4010 | H61: 838 | I61: =J61+K61 -> 838 | J61: 838
D62: 0690 | E62: 1000 | F62: 1600.81 | G62: 4110 | H62: 144 | I62: =J62+K62 -> 144 | J62: 144
D63: 0970 | E63: 200 | F63: 405.02 | G63: 4120 | H63: 20 | I63: =J63+K63 -> 20 | J63: 20
G64: 4700 | H64: 1300 | I64: =J64+K64 -> 0 | J64: 0
B65: 90026 | C65: Pozostałe zadania związane z gospodarką odpadami | E65: =SUM(E66:E70) -> 150000 | F65: =SUM(F66:F70) -> 278150.03 | H65: =SUM(H66:H70) -> 365574 | I65: =SUM(I66:I70) -> 350574 | J65: =SUM(J66:J70) -> 350574 | K65: =SUM(K66:K70) -> 0 | L65: Ustawa z dnia 14 grudnia 2012 r. o odpadach (z późn. zm.)
D66: 0690 | E66: 150000 | F66: 278150.03 | G66: 4010 | H66: 293019 | I66: =J66+K66 -> 293019 | J66: 293019
G67: 4110 | H67: 50371 | I67: =J67+K67 -> 50371 | J67: 50371
G68: 4120 | H68: 7184 | I68: =J68+K68 -> 7184 | J68: 7184
G69: 4210 | H69: 10000 | I69: =J69+K69 -> 0 | J69: 0
G70: 4700 | H70: 5000 | I70: =J70+K70 -> 0 | J70: 0
A71: OGÓŁEM | E71: =SUM(E49,E16,E44,E28,E31,E24,E7) -> 22545133 | F71: =SUM(F49,F16,F44,F28,F31,F24,F7) -> 36148761 | H71: =SUM(H49,H16,H44,H28,H31,H24,H7) -> 48188177 | I71: =SUM(I49,I16,I44,I28,I31,I24,I7) -> 38846569 | J71: =SUM(J49,J16,J44,J28,J31,J24,J7) -> 17403338 | K71: =SUM(K49,K16,K44,K28,K31,K24,K7) -> 21439555

Sheet dotacjena podst. porozumień 
A2: Zestawienie wykonania planu dochodów i wydatków związanych z realizacją zadań wykonywanych w drodze umów lub porozumień między jednostkami samorządu terytorialnego na dofinansowanie własnych zadań bieżących oraz zadań inwestycyjnych i zakupów inwestycyjnych
L3: w złotych
A4: Dział | B4: Rozdział | C4: Nazwa | D4: Paragraf | E4: Dochody - otrzymane dotacje | G4: Paragraf | H4: Wydatki | L4: Przeznaczenie
H5: Plan po zmianach | I5: Wykonanie | J5: w tym wydatki:
E6: Plan po zmianach | F6: Wykonanie | J6: bieżące | K6: majątkowe
A7: 600 | C7: TRANSPORT I ŁĄCZNOŚĆ | E7: =SUM(E8,E11) -> 18136567 | F7: =SUM(F8,F11) -> 16814615 | H7: =SUM(H8,H11) -> 18136567 | I7: =SUM(I8,I11) -> 16814615 | J7: =SUM(J8,J11) -> 8179309 | K7: =SUM(K8,K11) -> 8635305.7
B8: 60001 | C8: Krajowe pasażerskie przewozy kolejowe | E8: =SUM(E9:E10) -> 6210227 | F8: =SUM(F9:F10) -> 6210226.1 | H8: =SUM(H9:H10) -> 6210227 | I8: =SUM(I9:I10) -> 6210226.1 | J8: =SUM(J9:J10) -> 6210226.1 | K8: =SUM(K9:K10) -> 0
D9: 2330 | E9: 84880 | F9: 84879.1 | G9: 2830 | H9: 84880 | I9: =J9 -> 84879.1 | J9: 84879.1 | K9: 0 | L9: Dotacja celowa otrzymana od Województwa Świętokrzyskiego z przeznaczeniem na realizację zadania pn.: "Organizowanie kolejowych przewozów pasażerskich realizowanych w ramach przewozów wojewódzkich".
D10: 2710 | E10: 6125347 | F10: 6125347 | G10: 2830 | H10: 6125347 | I10: =J10 -> 6125347 | J10: 6125347 | K10: 0 | L10: Pomoc finansowa udzielona przez jednostki samorządu terytorialnego z przeznaczeniem na realizację zadania pn.: "Organizowanie kolejowych przewozów pasażerskich realizowanych w ramach Podmiejskiej Kolei Aglomeracyjnej - PKA".
B11: 60013 | C11: Drogi publiczne wojewódzkie | E11: =SUM(E12:E15) -> 11926340 | F11: =SUM(F12:F15) -> 10604389 | H11: =SUM(H12:H15) -> 11926340 | I11: =SUM(I12:I15) -> 10604389 | J11: =SUM(J12:J15) -> 1969082.9 | K11: =SUM(K12:K15) -> 8635305.7
D12: 2710 | E12: 2101830 | F12: 1969082.9 | G12: 4270 | H12: 2101830 | I12: =J12+K12 -> 1969082.9 | J12: 1969082.9 | K12: 0 | L12: Pomoc finansowa udzielona przez: 1) jednostki samorządu terytorialnego w kwocie 1.869.082,89 zł z przeznaczeniem na: 1) remonty chodników przy drogach wojewódzkich w kwocie 698.254,55 zł, 2) odnowy dróg wojewódzkich - 1.170.828,34 zł. Szczegółowy podział pomocy finansowej przedstawiono w objaśnieniach do wykonania wydatków rozdziału 60013. 3) pomoc finansowa udzielona przez Gminę Lubaczów z przeznaczeniem na realizację zadania pn. „Odnowa nawierzchni drogi wojewódzkiej Nr 867 Sieniawa – Wola Mołodycka – Oleszyce – Lubaczów - Podemszczyzna – Werchrata – Hrebenne na odcinku Basznia Dolna – Horyniec Zdrój oraz na odcinku w m. Dobra i w m. Mołodycz" w kwocie 100.000,00 zł.
B13: 60013 | D13: 6300 | E13: 9824510 | F13: 8635305.7 | G13: 6050 | H13: 9824510 | I13: =J13+K13 -> 8635305.7 | J13: 0 | K13: 8635305.7 | L13: Pomoc finansowa udzielona przez: 1) jednostki samorządu terytorialnego w kwocie 6.124.707,82 zł z przeznaczeniem na: a) budowę chodników przy drogach wojewódzkich w kwocie 4.167.484,56 zł, b) przebudowy dróg wojewódzkich w kwocie 1.957.223,26 zł. Szczegółowy podział pomocy finansowej przedstawiono w objaśnieniach do wykonania wydatków rozdziału 60013. 2) jednostki samorządu terytorialnego w kwocie 1.521.666,13 zł, z przeznaczeniem na realizację inwestycji pn. Poprawa bezpieczeństwa niechronionych uczestników ruchu poprzez rozbudowę/przebudowę odcinków dróg wojewódzkich polegającą na budowie dróg dla pieszych oraz dróg dla pieszych i rowerów na terenie województwa podkarpackiego. Szczegółowy podział pomocy finansowej przedstawiono w objaśnieniach do wykonania wydatków rozdziału 60013. 3) Powiat Leski w kwocie 9.225,00 zł z przeznaczeniem na realizację inwestycji pn. Budowa obwodnicy Leska w ciągu DW 894 od DK 84 w m. Postołów do DW 894 w m. Huzele. 4) Gminę Jedlicze w kwocie 25,000,00 zł z przeznaczeniem na realizację inwestycji pn. Opracowanie dokumentacji projektowej dla zadania pn. Przebudowa drogi wojewódzkiej Nr 990 Twierdza - Krosno w miejscowości Potok, polegająca na budowie drogi dla pieszych i zatoki przystankowej wraz z niezbędną infrastrukturą techniczną, 5) Powiat Łańcucki w kwocie 572.824,07 zł i Miasto Łańcut w kwocie 381.882,72 zł z przeznaczeniem na realizację zadania pn. Opracowanie dokumentacji projektowej dla zadania pn. Przebudowa drogi wojewódzkiej Nr 990 Twierdza - Krosno w miejscowości Potok, polegająca na budowie drogi dla pieszych i zatoki przystankowej wraz z niezbędną infrastrukturą techniczną.
A16: 750 | C16: ADMINISTRACJA PUBLICZNA | E16: =E17 -> 50000 | F16: =F17 -> 50000 | H16: =H17 -> 50000 | I16: =I17 -> 50000 | J16: =J17 -> 50000 | K16: =K17 -> 0
B17: 75095 | C17: Pozostała działalność | E17: =E18 -> 50000 | F17: =F18 -> 50000 | H17: =H18 -> 50000 | I17: =J17+K17 -> 50000 | J17: =J18 -> 50000 | K17: =K18 -> 0
D18: 2710 | E18: 50000 | F18: 50000 | H18: 50000 | I18: =SUM(J18:K18) -> 50000 | J18: 50000 | L18: Pomoc finansowa udzielona przez Gminę Trzebownisko z przeznaczeniem na pokrycie części kosztów zarządzania Podkarpackim Parkiem Naukowo-Technologicznym w Strefie S1 w Jasionce.
A19: 853 | C19: POZOSTAŁE ZADANIA W ZAKRESIE POLITYKI SPOŁECZNEJ | E19: =E20 -> 74000 | F19: =F20 -> 74000 | H19: =H20 -> 74000 | I19: =I20 -> 74000 | J19: =J20 -> 0 | K19: =K20 -> 74000
B20: 85311 | C20: Rehabilitacja zawodowa i społeczna osób niepełnosprawnych | E20: =E21 -> 74000 | F20: =F21 -> 74000 | H20: =H21 -> 74000 | I20: =J20+K20 -> 74000 | J20: =J21 -> 0 | K20: =K21 -> 74000
D21: 6300 | E21: 74000 | F21: 74000 | H21: 74000 | I21: =SUM(J21:K21) -> 74000 | J21: 0 | K21: 74000 | L21: Dotacje celowe otrzymane od jednostek samorządu terytorialnego z przeznaczeniem dla Zakładu Aktywności Zawodowej w Nowej Sarzynie prowadzonego przez Stowarzyszenie "Dobry Dom" na dofinansowanie w 2024 r. kosztów zakupu 9-cio osobowego busa przystosowanego do przewozu osób niepełnosprawnych, w tym od: a) Miasta Przeworsk - 10.000,-zł, b) Miasta Nowa Sarzyna - 14.000,-zł, c) Gminy Grodzisko Dolne - 14.000,-zł, d) Gminy Raniżów - 8.000,-zł, e) Gminy Jeżowe - 14.000,-zł d) Gminy Kuryłówka - 14.000,-zł
A22: 855 | C22: RODZINA | E22: =SUM(E23) -> 6278358 | F22: =SUM(F23) -> 6149283.9 | H22: =SUM(H23) -> 6278358 | I22: =SUM(I23) -> 6149283.9 | J22: =SUM(J23) -> 6149283.9 | K22: =SUM(K23,K23) -> 0
B23: 85510 | C23: Działalność placówek opiekuńczo-wychowawczych | E23: =SUM(E24) -> 6278358 | F23: =SUM(F24) -> 6149283.9 | H23: =H24 -> 6278358 | I23: =SUM(I24) -> 6149283.9 | J23: =SUM(J24) -> 6149283.9 | K23: =SUM(K24) -> 0
D24: 2320 | E24: 6278358 | F24: 6149283.9 | G24: 2360 | H24: 6278358 | I24: =SUM(J24:K26) -> 6149283.9 | J24: 6149283.9 | K24: 0 | L24: Dotacje celowe otrzymane z powiatów z przeznaczeniem na prowadzenie regionalnych placówek opiekuńczo - terapeutycznych na terenie województwa podkarpackiego, w tym z: -Powiatu Jarosławskiego-119.097,36 zł, -Powiatu Inowrocławskiego-238.194,72 zł, -Powiatu Zielonogórskiego-112.785,88 zł, -Gminy Siemianowice Śląskie-238.194,72 zł, -Powiatu Gliwickiego-157.875,02 zł, -Powiatu Grodziskiego-357.292,08 zł, -Powiatu Nowosolskiego-119.097,36 zł, -Powiatu Drawskiego-119.097,36 zł, -Powiatu Hrubieszowskiego-119.097,36 zł, -Powiatu Chodzieskiego-238.194,72 zł, -Miasta Lublin-863.611,02 zł, -Miasta Tychy-193.925,26 zł, -Powiatu Żyrardowskiego-238.194,72 zł, -Powiatu Strzyżowskiego- 119.097,36 zł, -Powiatu Kamieńskiego-1.988,63 zł, -Powiatu Gorzowskiego-110.574,53 zł, -Powiatu Lubaczowskiego-28.067,85 zł, -Powiatu Pruszkowskiego-258.147,72 zł, -Miasta Sopot-119.928,17 zł, -Powiatu Pilskiego-272.306,71 zł, -Powiatu Kluczborskiego-129.073,86 zł, -Miasta Przemyśl-104.159,75 zł, -Powiatu Rzeszowskiego-516.295,44 zł, -Powiatu Leżajskiego-258.147,72 zł, -Miasta Bydgoszcz-129.073,86 zł, -Powiatu Radzyńskiego-129.073,86 zł, -Powiatu Tomaszowskiego-129.073,86 zł, -Powiatu Strzeleckiego -122.812,59 zł, -Powiatu Przemyskiego-258.147,72 zł, -Powiatu Stalowowolskiego-219.582,80 zł, -Miasta Płock-129.073,86 zł.
A27: 921 | C27: KULTURA I OCHRONA DZIEDZICTWA NARODOWEGO | E27: =SUM(E28,E32,E30) -> 203000 | F27: =SUM(F28,F32,F30) -> 203000 | H27: =SUM(H28,H32,H30) -> 203000 | I27: =SUM(I28,I32,I30) -> 203000 | J27: =SUM(J28,J32,J30) -> 203000 | K27: =SUM(K28,K32,K30) -> 0
B28: 92108 | C28: Filharmonie, orkiestry, chóry i kapele | E28: =SUM(E29) -> 70000 | F28: =SUM(F29) -> 70000 | H28: =SUM(H29) -> 70000 | I28: =SUM(J28:K28) -> 70000 | J28: =SUM(J29) -> 70000 | K28: =SUM(K29) -> 0
D29: 2710 | E29: 70000 | F29: 70000 | G29: 2800 | H29: 70000 | I29: =J29 -> 70000 | J29: 70000 | K29: 0 | L29: Pomoc finansowa udzielona przez Gminę Miasto Rzeszów dla Filharmonii Podkarpackiej im. Artura Malawskiego w Rzeszowie z przeznaczeniem na organizację imprezy pn. „Muzyczny Festiwal w Łańcucie”.
B30: 92116 | C30: Biblioteki | E30: =SUM(E31:E31) -> 114000 | F30: =SUM(F31:F31) -> 114000 | H30: =SUM(H31:H31) -> 114000 | I30: =SUM(J30:K30) -> 114000 | J30: =SUM(J31:J31) -> 114000 | K30: =SUM(K31:K31) -> 0
D31: 2320 | E31: 114000 | F31: 114000 | G31: 2800 | H31: 114000 | I31: =J31 -> 114000 | J31: 114000 | K31: 0 | L31: Dotacja celowa otrzymana z Powiatu Rzeszowskiego dla Wojewódzkiej i Miejskiej Bibliotece Publicznej w Rzeszowie z przeznaczeniem narealizację zadania pn. „Wykonywanie zadań powiatowej biblioteki publicznej dla Powiatu Rzeszowskiego”.
B32: 92120 | C32: Ochrona zabytków i opieka nad zabytkami | E32: =SUM(E33) -> 19000 | F32: =SUM(F33) -> 19000 | H32: =SUM(H33) -> 19000 | I32: =SUM(J32:K32) -> 19000 | J32: =SUM(J33) -> 19000 | K32: =SUM(K33) -> 0
D33: 2710 | E33: 19000 | F33: 19000 | G33: 2800 | H33: 19000 | I33: =J33 -> 19000 | J33: 19000 | K33: 0 | L33: Pomoc finansowa udzielona przez Miasto Łańcut z przeznaczeniem na realizację zadania pn. "Dzieje Starego Zamku w Łańcucie - zapomniane dziedzictwo".
A34: OGÓŁEM | E34: =SUM(E7,E22,E27,E19,E16) -> 24741925 | F34: =SUM(F7,F22,F27,F19,F16) -> 23290899 | H34: =SUM(H7,H22,H27,H19,H16) -> 24741925 | I34: =SUM(I7,I22,I27,I19,I16) -> 23290899 | J34: =SUM(J7,J22,J27,J19,J16) -> 14581593 | K34: =SUM(K7,K22,K27,K19,K16) -> 8709305.7

Sheet dotacje udzielone innym jst
A2: Zestawienie wykonania planu dotacji udzielonych innym jednostkom samorządu terytorialnego i ich związkom na dofinansowanie własnych zadań bieżących oraz zadań inwestycyjnych i zakupów inwestycyjnych
I3: w złotych
A4: Dział | B4: Rozdział | C4: Nazwa | D4: Paragraf | E4: Wydatki | I4: Przeznaczenie
E5: Plan po zmianach | F5: Wykonanie | G5: w tym wydatki:
G6: bieżące | H6: majątkowe
A7: 010 | C7: ROLNICTWO I ŁOWIECTWO | E7: =SUM(E8) -> 22568673 | F7: =SUM(F8) -> 17312575 | G7: =SUM(G8) -> 3741272.7 | H7: =SUM(H8) -> 13571302
B8: 01042 | C8: Wyłączenie z produkcji gruntów rolnych | E8: =SUM(E9:E12) -> 22568673 | F8: =SUM(F9:F12) -> 17312575 | G8: =SUM(G9:G12) -> 3741272.7 | H8: =SUM(H9:H12) -> 13571302
D9: 2310 | E9: 5140851 | F9: =SUM(G9:H9) -> 3714135.1 | G9: 3714135.1 | H9: 0 | I9: Dotacje celowe dla gmin z przeznaczeniem na modernizację dróg dojazdowych do gruntów rolnych oraz renowację zbiorników wodnych służących małej retencji.
D10: 2320 | E10: 50000 | F10: =SUM(G10:H10) -> 27137.6 | G10: 27137.6 | H10: 0 | I10: Dotacje celowe dla powiatów z przeznaczeniem na zakup sprzętu informatycznego oraz oprogramowania niezbędnego do prowadzenia spraw ochrony gruntów rolnych.
D11: 6610 | E11: 17347822 | F11: =SUM(G11:H11) -> 13554188 | G11: 0 | H11: 13554188 | I11: Dotacje celowe dla gmin z przeznaczeniem na budowę i modernizację dróg dojazdowych do gruntów rolnych oraz budowę i renowację zbiorników wodnych służących małej retencji.
D12: 6620 | E12: 30000 | F12: =SUM(G12:H12) -> 17114 | G12: 0 | H12: 17114 | I12: Dotacja celowa dla Powiatu Sanockieg z przeznaczeniem na zakup sprzętu informatycznego oraz oprogramowania niezbędnego do prowadzenia spraw ochrony gruntów rolnych.
A13: 600 | C13: TRANSPORT I ŁĄCZNOŚĆ | E13: =SUM(E21,E14,E18,E23,E26) -> 21907636 | F13: =SUM(F21,F14,F18,F23,F26) -> 20054486 | G13: =SUM(G21,G14,G18,G23,G26) -> 14065291 | H13: =SUM(H21,H14,H18,H23,H26) -> 5989194.7
B14: 60003 | C14: Krajowe pasażerskie przewozy pasażerowe | E14: =SUM(E15:E17) -> 12365292 | F14: =SUM(F15:F17) -> 12365291 | G14: =SUM(G15:G17) -> 12365291 | H14: =SUM(H15:H17) -> 0
D15: 2310 | E15: 638344 | F15: =SUM(G15:H15) -> 638344.38 | G15: 638344.38 | H15: 0 | I15: Dotacje celowe dla gmin i powiatów oraz ich związków – organizatorów publicznego transportu zbiorowego na finansowanie wypłaty rekompensaty operatorom publicznego transportu zbiorowego z tytułu utraconych przychodów w związku ze stosowaniem ustawowych uprawnień do ulgowych przejazdów w przewozach o charakterze użyteczności publicznej.
D16: 2320 | E16: 3832695 | F16: =SUM(G16:H16) -> 3832694.8 | G16: 3832694.8 | H16: 0
D17: 2800 | E17: 7894253 | F17: =SUM(G17:H17) -> 7894252.1 | G17: 7894252.1 | H17: 0
B18: 60013 | C18: Drogi publiczne wojewódzkie | E18: =SUM(E19:E20) -> 5412344 | F18: =SUM(F19:F20) -> 5283873.3 | G18: =SUM(G19:G20) -> 0 | H18: =SUM(H19:H20) -> 5283873.3
D19: 6610 | E19: 4543479 | F19: =SUM(H19:H19) -> 4542829.5 | G19: 0 | H19: 4542829.5 | I19: Dotacje celowe dla gmin z przeznaczeniem na realizację powierzonego zadania pn. „Dofinansowanie zadań poprawiających stan techniczny oraz bezpieczeństwo ruchu na drogach wojewódzkich, realizowanych przez Gminy na terenie Województwa Podkarpackiego w ramach Rządowego Funduszu Polski Ład: Program Inwestycji Strategicznych oraz Funduszu Przeciwdziałania COVID-19”, w tym dla: 1) Gminy Jaśliska na realizację powierzonego zadania pn. „Budowa chodnika w ciągu drogi wojewódzkiej nr 897 Tylawa – Komańcza polegająca na budowie chodnika w miejscowości Daliowa, Posada Jaśliska oraz Budowa chodników w ciągu drogi wojewódzkiej nr 897 Tylawa – Komańcza polegająca na zaprojektowaniu i wykonaniu chodnika w m. Wola Niżna i Moszczaniec wraz z zatokami autobusowymi” – 253.000,00 zł, 2) Gminy Krzeszów na realizację powierzonego zadania pn. „Budowa ciągu pieszo – rowerowego w pasie drogi wojewódzkiej Nr 863 Kopki – Krzeszów -Tarnogród - Cieszanów wraz z przebudową infrastruktury towarzyszącej” – 1.173.673,00 zł, 3) Gminy Bojanów na realizację powierzonego zadania pn. „Budowa chodnika w ciągu drogi wojewódzkiej Nr 861 Bojanów – Kopki w km 5+740 do km 6+535 strona lewa oraz w km 5+770 do km 5+830 strona prawa w miejscowości Cisów Las" - 367.000,00 zł, 4) Gminy Jeżowe na realizację powierzonego zadania pn. „Budowa ciągu pieszo -rowerowego przy drodze wojewódzkiej nr 861 w miejscowości Jeżowe Kameralne, Jata, Sójkowa" – 251.350,50 zł, 5) Gminy Harasiuki na realizację powierzonego zadania pn. „Przebudowa drogi wojewódzkiej Nr 858 na terenie gminy Harasiuki” – 2.497.806,00 zł.
D20: 6610 | E20: 868865 | F20: =SUM(H20:H20) -> 741043.76 | G20: 0 | H20: 741043.76 | I20: Dotacje celowe dla Gmin z terenu Województwa Podkarpackiego na realizację zadań powierzonych, z tego dla: 1) Gminy Pysznica z przeznaczeniem na realizację powierzonego zadania pn. „Budowa przejścia dla pieszych przez drogę wojewódzką nr 855 Olbięcin - Stalowa Wola na odcinku pomiędzy ul. Kochanowskiego a ul. Isep w m. Brandwica wraz z budową ciągu pieszo - rowerowego od przejścia do ul. Kochanowskiego” - 137.725,20 zł, 2) Gminy Miasta Rzeszów na realizację powierzonego zadania pn. „Budowa DW w Rzeszowie na odcinku od ul. Warszawskiej do ul. Krakowskiej - połączenie DK 97 z DK 94" w ramach zadania inwestycyjnego pod nazwą „Budowa drogi wraz z wiaduktem (nad ul. Warszawską i torami kolejowymi) od ul. Warszawskiej do ul. Krakowskiej - 430.000,00 zł, 3) Gminy Kolbuszowa z przeznaczeniem na realizację powierzonego zadania pn. "Opracowanie dokumentacji rozbudowy drogi wojewódzkiej nr 875 Mielec – Kolbuszowa - Sokołów Małopolski - Leżajsk polegającej na budowie mostu w km 25+968 wraz z rozbudową dojazdów oraz rozbiórką, budową i przebudową infrastruktury technicznej, budowli i urządzeń budowlanych w m. Kolbuszowa Dolna” - 173.318,56 zł.
B21: 60014 | C21: Drogi publiczne powiatowe | E21: =SUM(E22:E22) -> 1000000 | F21: =SUM(F22:F22) -> 0 | G21: =SUM(G22:G22) -> 0 | H21: =SUM(H22:H22) -> 0
D22: 2710 | E22: 1000000 | F22: =SUM(G22:H22) -> 0 | G22: 0 | H22: 0 | I22: Dotacje celowe na pomoc finansową dla Powiatu Sanockiego na realizację zadania pn. „Remont odcinkowy dróg powiatowych ul. Dmowskiego, ul. Staszica i ul. Królowej Bony stanowiącej starodroże byłej drogi wojewódzkiej Nr 886 od ronda im. Zdzisława Beksińskiego do skrzyżowania z DK 28 w Sanoku”. Wydatki nie zostały zrealizowane w 2024r.
B23: 60016 | C23: Drogi publiczne gminne | E23: =SUM(E24:E25) -> 1430000 | F23: =SUM(F24:F25) -> 705321.48 | G23: =SUM(G24:G25) -> 0 | H23: =SUM(H24:H25) -> 705321.48
D24: 6300 | E24: 1000000 | F24: =SUM(G24:H24) -> 275321.48 | G24: 0 | H24: 275321.48 | I24: Dotacja celowa na pomoc finansową dla Gminy Solina z przeznaczeniem na realizację zadania pn.: „Budowa kładki rowerowo - pieszej nad Jeziorem Solińskim".
E25: 430000 | F25: =SUM(G25:H25) -> 430000 | G25: 0 | H25: 430000 | I25: Dotacja celowa na pomoc finansową dla Gminy i Miasta Kańczuga z przeznaczeniem na realizację zadania pn. "Rozbudowa drogi gminnej publicznej nr 110710R Niżatyce - Żuklin w m. Niżatyce".
B26: 60078 | C26: Usuwanie skutków klęsk żywiołowych | E26: =SUM(E27:E27) -> 1700000 | F26: =SUM(F27:F27) -> 1700000 | G26: =SUM(G27:G27) -> 1700000 | H26: =SUM(H27:H27) -> 0
D27: 2710 | E27: 1700000 | F27: =SUM(G27:H27) -> 1700000 | G27: 1700000 | H27: 0 | I27: Dotacja celowa na pomoc finansową dla województw na realizację zadań związanych z bieżącym usuwaniem skutków klęski żywiołowej w infrastrukturze dróg wojewódzkich wywołanej ulewnymi opadami deszczu we wrześniu 2024 r., w tym dla: - Województwa Opolskiego - 935.000,00 zł, - Województwa Dolnośląskiego w kwocie 765.000,00 zł
A28: 630 | E28: =SUM(E29,E34) -> 186684 | F28: =SUM(F29,F34) -> 176206.04 | G28: =SUM(G29,G34) -> 116206.05 | H28: =SUM(H29,H34) -> 59999.99
B29: 63003 | C29: Zadania w zakresie upowszechniania turystyki | E29: =SUM(E30:E33) -> 169279 | F29: =SUM(F30:F33) -> 158801.04 | G29: =SUM(G30:G33) -> 98801.05 | H29: =SUM(H30:H33) -> 59999.99
D30: 2710 | E30: 99279 | F30: =G30 -> 98801.05 | G30: 98801.05 | H30: 0 | I30: Dotacje celowe na pomoc finansową dla gmin na realizację zadań własnych w ramach konkursu „Czas na Podkarpackie – I edycja” w zakresie zagospodarowania i modernizacji przestrzeni dla rozwoju turystyki i infrastruktury turystycznej przy zachowaniu zasad zrównoważonego rozwoju, w tym dla: 1) Gminy Tarnowiec na zadanie pn. „Szlakiem kapliczek, krzyży i figur przydrożnych - modernizacja małej infrastruktury turystycznej” – 5.500,00 zł, 2) Gminy Żołynia na zadanie pn. „Zakup ulicznego systemu wystawienniczego oraz stojaków na rowery” – 8.024,00 zł, 3) Gminy Besko na zadanie pn. „Poprawa atrakcyjności infrastruktury turystycznej w Gminie Besko” – 9.000,00 zł, 4) Gminy Lutowiska na zadanie pn. „Poprawa stanu infrastruktury turystycznej w Gminie Lutowiska poprzez remont oznakowania fragmentu ścieżki historyczno-przyrodniczej Przysłup Caryński – Krywe nad Sanem” – 8.000,00 zł, 5) Gminy Kuryłówka na zadanie pn. „Rozwój infrastruktury turystycznej na terenie Gminy Kuryłówka” – 10.000,00 zł, 6) Gminy Sanok na zadanie pn. „Gmina Sanok przyjazna dla turystów” – 9.618,00 zł, 7) Gminy Boguchwała na zadanie pn. „Modernizacja ogólnodostępnej i niekomercyjnej infrastruktury turystycznej na terenie Gminy Boguchwała” – 9.883,00 zł, 8) Gminy Bukowsko na zadanie pn. „Na podkarpackim szlaku Dawnych Osad – Bełchówka” – 10.000,00 zł, 9) Gminy Lubenia na zadanie pn. „Odnowa pokrycia dachowego małej infrastruktury turystycznej na terenie Kaskady Solankowej w Sołonce” – 10.000,00 zł, 10) Gminy Dydnia na zadanie pn. „Poprawa oferty turystycznej w miejscowości Witryłów i Końskie” – 10.000,00 zł, 11) Gminy Komańcza na zadanie pn. „Utworzenie parku edukacyjnego przy szlakach turystycznych w miejscowości Komańcza” – 8.776,05 zł.
D32: 6300 | E32: 50000 | F32: =G32+H32 -> 39999.99 | G32: 0 | H32: 39999.99 | I32: Dotacje celowe na pomoc finansową dla gmin na realizację zadań własnych w ramach konkursu „Czas Na Podkarpackie – I edycja” w zakresie zagospodarowania i modernizacji przestrzeni dla rozwoju turystyki i infrastruktury turystycznej przy zachowaniu zasad zrównoważonego rozwoju, w tym dla: 1) Gminy Zarszyn na zadanie pn. „Poprawa i rozwój infrastruktury w miejscach atrakcyjnych turystycznie” – 10.000,00 zł, 2) Gminy Horyniec Zdrój na zadanie pn. „Budowa altany turystyczno-rekreacyjnej” – 10.000,00 zł, 3) Gminy Jarocin na zadanie pn. „Modernizacja "Historycznego szlaku rowerowego" – 9.999,99 zł, 4) Gminy Frysztak na zadanie pn. „Miejsce Przyjazne Rowerzystom w gminie Frysztak” – 10.000,00 zł.
E33: 20000 | F33: =G33+H33 -> 20000 | G33: 0 | H33: 20000 | I33: Dotacja celowa na pomoc finansową dla Gminy Cieszanów na zadanie pn. „Urządzenie zbiornika wodnego z nasadzeniem krzewów – etap I” w ramach „Podkarpackiego Programu Odnowy Wsi na lata 2021-2025”.
B34: 63095 | C34: Pozostała działalność | E34: =E35 -> 17405 | F34: =F35 -> 17405 | G34: =G35 -> 17405 | H34: =H35 -> 0
D35: 2710 | E35: 17405 | F35: =SUM(G35:H35) -> 17405 | G35: 17405 | H35: 0 | I35: Dotacja celowa na pomoc finansową dla Gminy Besko na zadanie pn. „Odnowienie i uzupełnienie oznaczeń turystycznych oraz wydanie folderów promujących miejscowość, widokówki, gadżety oraz stworzenie strony internetowej dla Beskidzkiego Centrum Dziedzictwa” w ramach „Podkarpackiego Programu Odnowy Wsi na lata 2021-2025”.
A36: 700 | C36: GOSPODARKA MIESZKANIOWA | E36: =SUM(E37,E41) -> 416488 | F36: =SUM(F37,F41) -> 411924 | G36: =SUM(G37,G41) -> 151592 | H36: =SUM(H37,H41) -> 260332
B37: 70005 | C37: Gospodarka gruntami i nieruchomościami | E37: =SUM(E38:E40) -> 369488 | F37: =SUM(F38:F40) -> 364924 | G37: =SUM(G38:G40) -> 136592 | H37: =SUM(H38:H40) -> 228332
D38: 2710 | E38: 139000 | F38: =SUM(G38:H38) -> 136592 | G38: 136592 | H38: 0 | I38: Dotacje celowe na pomoc finansową dla gmin w ramach „Podkarpackiego Programu Odnowy Wsi na lata 2021-2025”, w tym dla: 1) Gminy Brzostek na zadanie pn. „Doposażenie Domu Ludowego w Gorzejowej” – 17.840,00 zł, 2) Gminy Przemyśl na zadanie pn. „Ogrodzenie placu zabaw i budynku Świetlicy w Stanisławczyku oraz zakup i montaż urządzeń na plac zabaw” – 19.821,00 zł, 3) Miasta i Gminy Bircza na zadanie pn. „Uporządkowanie i zagospodarowanie ogólnodostępnej przestrzeni publicznej poprzez utworzenie miejsca rekreacji w sołectwie Rudawka – etap III – 19.931,00 zł, 4) Gminy Krasiczyn na zadanie pn. „Zakup oraz montaż urządzeń placu zabaw oraz siłowni zewnętrznej wraz z organizacją pikniku sportowo rodzinnego” – 20.000,00 zł, 5) Gminy Gorzyce na zadanie pn. „Doposażenie zaplecza kuchennego świetlicy wiejskiej w Gorzycach celem zaspokojenia społeczno – kulturowych potrzeb mieszkańców” – 9.000,00 zł, 6) Gminy Żurawica na zadanie pn. „Zakup wyposażenia placu zabaw w Maćkowicach na dz. nr ewid. 253 i 254 Etap I” – 20.000,00 zł, 7) Gminy Rokietnica na zadanie pn. „Organizacja szkoleń w Świetlicy Wiejskiej w Rokietnicy w ramach koncepcji „Uniwersytet Samorządności” – 15.000,00 zł, 8) Miasta i Gminy Kańczuga na zadanie pn. „Ogólnodostępne, bezpłatne szkolenia i warsztaty dla mieszkańców powiatu przeworskiego w ramach koncepcji „Uniwersytet Samorządności” – 15.000,00 zł.
D39: 6300 | E39: 230488 | F39: =SUM(G39:H39) -> 228332 | G39: 0 | H39: 228332 | I39: Dotacje celowe na pomoc finansową dla gmin w ramach „Podkarpackiego Programu Odnowy Wsi na lata 2021-2025”, w tym dla: 1) Gminy Narol na zadanie pn. „Przebudowa budynku świetlicy wiejskiej w miejscowości Lipie” – 17.844,00 zł, 2) Gminy Zarzecze na zadanie pn. „Modernizacja budynku remizy w Kisielowie wraz z dostawą i montażem klimatyzacji” – 20.000,00 zł, 3) Gminy Roźwienica na zadanie pn. „Modernizacja pomieszczeń w budynku WDK w Cząstkowicach” – 20.000,00 zł, 4) Gminy Orły na zadanie pn. „Zagospodarowanie centrum wsi i zorganizowanie imprezy w Ciemięrzowicach” – 20.000,00 zł, 5) Gminy Leżajsk na zadanie pn. „Oznakowanie ścieżki pieszo – rowerowej wraz z wykonaniem miejsc rekreacji i odpoczynku przy ujściu rzeki Wisłok do rzeki San oraz na działce nr ewid. 781/6 w miejscowości Dębno” – 20.000,00 zł, 6) Gminy Korczyna na zadanie pn. „Zagospodarowanie terenu wokół Ośrodka Zdrowia w Komborni” – 20.000,00 zł, 7) Gminy Przeworsk na zadanie pn. „Modernizacja placu zabaw przy WDK w Gorliczynie” – 20.000,00 zł, 8) Gminy Jarosław na zadanie pn. „Zagospodarowanie terenu przy świetlicy wiejskiej poprzez modernizację istniejącego placu zabaw. Zagospodarowanie terenu w centrum wsi na cele rekreacyjno – wypoczynkowe poprzez oczyszczenie oczka wodnego” – 20.000,00 zł, 9) Miasta i Gminy Kańczuga na zadanie pn. „Modernizacja zaplecza kuchennego w budynku OSP w Lipniku w celu poprawy uatrakcyjnienia, funkcjonowania miejsca spotkań, integracji mieszkańców i kultywowania tradycji” – 20.000,00 zł, 10) Gminy Fredropol na zadanie pn. „Zagospodarowanie placu po oczyszczalni ścieków wraz z modernizacją i rozbudową placu zabaw” – 20.000,00 zł, 11) Gminy Pawłosiów na zadanie pn. „Prace modernizacyjne altany tanecznej w Tywoni” – 10.488,00 zł, 12) Gminy Cmolas na zadanie pn. „Wykonanie brakującej i odnowienie istniejącej infrastruktury ścieżki edukacyjno – przyrodniczej „Po złoto na Górę” oraz tras rowerowych „Białe Góry” i „Diabli Kamień” – 20.000,00 zł.
B41: 70095 | C41: Pozostała działalność | E41: =SUM(E42:E43) -> 47000 | F41: =SUM(F42:F43) -> 47000 | G41: =SUM(G42:G43) -> 15000 | H41: =SUM(H42:H43) -> 32000
D42: 2710 | E42: 15000 | F42: =SUM(G42:H42) -> 15000 | G42: 15000 | H42: 0 | I42: Dotacja celowa na pomoc finansową dla Gminy Trzebownisko na zadanie pn. „Warsztaty „Dekoracyjne inspiracje III” – cykl zajęć praktycznych na potrzeby realizacji II etapu koncepcji "Uniwersytet Samorządności” w ramach „Podkarpackiego Programu Odnowy Wsi na lata 2021-2025”.
D43: 6300 | E43: 32000 | F43: =SUM(G43:H43) -> 32000 | G43: 0 | H43: 32000 | I43: Dotacje celowe na pomoc finansową dla gmin w ramach „Podkarpackiego Programu Odnowy Wsi na lata 2021-2025”, w tym dla: 1) Gminy Tryńcza na zadanie pn. „Utworzenie ogólnodostępnej zewnętrznej tężni solankowej” - 20.000,00 zł, 2) Gminy Dzikowiec na zadanie pn. „Doposażenie placu zabaw w Wilczej Woli” - 12.000,00 zł.
A44: 710 | C44: DZIAŁALNOŚĆ USŁUGOWA | E44: =E45 -> 184500 | F44: =F45 -> 0 | G44: =G45 -> 0 | H44: =H45 -> 0
B45: 71095 | C45: pozostała działalność | E45: =E46 -> 184500 | F45: =F46 -> 0 | G45: =G46 -> 0 | H45: =H46 -> 0
D46: 2710 | E46: 184500 | F46: =SUM(G46:H46) -> 0 | G46: 0 | H46: 0 | I46: Dotacja celowa na pomoc finansową dla Gminy Miasta Rzeszów na realizację zadania pn. „Usługa przygotowania i przeprowadzenia dwuetapowego, nieograniczonego, realizacyjnego konkursu na opracowanie koncepcji urbanistyczno-architektonicznej przedsięwzięcia inwestycyjnego „Biblioteka Nowa”. Wydatki nie zostały zrealizowane w 2024r.
A47: 750 | C47: ADMINISTRACJA PUBLICZNA | E47: =E48+E51 -> 363950 | F47: =F48+F51 -> 321956.84 | G47: =G48+G51 -> 321956.84 | H47: =H48+H51 -> 0
B48: 75075 | C48: Promocja jednostek samorządu terytorialnego | E48: =SUM(E49:E50) -> 348950 | F48: =SUM(F49:F50) -> 306956.84 | G48: =SUM(G49:G50) -> 306956.84 | H48: =SUM(H49:H50) -> 0
D49: 2330 | E49: 330000 | F49: =SUM(G49:H49) -> 297128.84 | G49: 297128.84 | H49: 0 | I49: Dotacja celowa na realizację zadania powierzonego Województwu Warmińsko – Mazurskiemu na dofinansowanie zadań związanych z funkcjonowaniem i działalnością Domu Polski Wschodniej w Brukseli.
D50: 2710 | E50: 18950 | F50: =SUM(G50:H50) -> 9828 | G50: 9828 | H50: 0 | I50: Dotacja celowa na pomoc finansową dla Gminy Strzyżów na zadanie pn. "Wykonanie oznakowania miejscowości poprzez numerację domów oraz tablice informacyjne w m. Żarnowa" w ramach „Podkarpackiego Programu Odnowy Wsi na lata 2021-2025.
B51: 75095 | C51: Pozostała działalność | E51: =E52 -> 15000 | F51: =F52 -> 15000 | G51: =G52 -> 15000 | H51: =H52 -> 0
D52: 2710 | E52: 15000 | F52: =SUM(G52:H52) -> 15000 | G52: 15000 | H52: 0 | I52: Dotacja celowa na pomoc finansową dla Gminy Dydnia na zadanie pn. „Uniwersytet Samorządności" w Gminie Dydnia – organizacja bezpłatnych wykładów, warsztatów i zajęć praktycznych dla mieszkańców powiatu brzozowskiego” w ramach „Podkarpackiego Programu Odnowy Wsi na lata 2021-2025”.
A53: 754 | C53: BEZPIECZEŃSTWO PUBLICZNE I OCHRONA PRZECIWPOŻAROWA | E53: =E54 -> 60000 | F53: =F54 -> 60000 | G53: =G54 -> 60000 | H53: =H54 -> 0
B54: 75412 | C54: Ochotnicze straże pożarne | E54: =SUM(E55:E55) -> 60000 | F54: =SUM(G54:H54) -> 60000 | G54: =SUM(G55:G55) -> 60000 | H54: =SUM(H55:H55) -> 0
D55: 2710 | E55: 60000 | F55: =SUM(G55:H55) -> 60000 | G55: 60000 | H55: 0 | I55: Dotacje celowe na pomoc finansową dla gmin w ramach „Podkarpackiego Programu Odnowy Wsi na lata 2021-2025”, w tym dla: 1) Gminy Chorkówka na zadanie pn. „Remont i wyposażenie pomieszczeń w budynku Domu Strażaka w Poraju” - 20.000,00 zł, 2) Gminy Hyżne na zadanie pn. „Remont Domu Strażaka w Szklarach i wyposażenie kuchni” - 20.000,00 zł, 3) Miasta i Gminy Dubiecko – Remont remizy OSP w Drohobyczyce etap IV poprzez remont pomieszczeń na I piętrze wraz z klatką schodową oraz malowanie dachu remizy - 20.000,00 zł.
A56: 801 | C56: OŚWIATA I WYCHOWANIE | E56: =E57+E59 -> 40000 | F56: =F57+F59 -> 40000 | G56: =G57+G59 -> 20000 | H56: =H57+H59 -> 20000
B57: 80101 | C57: Szkoły podstawowe | E57: =SUM(E58:E58) -> 20000 | F57: =SUM(F58:F58) -> 20000 | G57: =SUM(G58:G58) -> 20000 | H57: =SUM(H58:H58) -> 0
D58: 2710 | E58: 20000 | F58: =SUM(G58:H58) -> 20000 | G58: 20000 | H58: 0 | I58: Dotacja celowa na pomoc finansową dla Gminy Nozdrzec na zadanie pn. „Poprawa jakości budynków użyteczności publicznej w miejscowości Wesoła” w ramach „Podkarpackiego Programu Odnowy Wsi na lata 2021-2025”.
B59: 80195 | C59: Pozostała działalność | E59: =SUM(E60:E60) -> 20000 | F59: =SUM(F60:F60) -> 20000 | G59: =SUM(G60:G60) -> 0 | H59: =SUM(H60:H60) -> 20000
D60: 6300 | E60: 20000 | F60: =SUM(G60:H60) -> 20000 | G60: 0 | H60: 20000 | I60: Dotacja celowa na pomoc finansową dla Gminy Olszanica na zadanie pn. „Budowa wieloetapowego kompleksu rekreacyjnego dla najmłodszych mieszkańców miejscowości poprzez wybudowanie placu zabaw - etap II” w ramach „Podkarpackiego Programu Odnowy Wsi na lata 2021-2025”.
A61: 851 | C61: OCHRONA ZDROWIA | E61: =E62 -> 0 | F61: =F62 -> 0 | G61: =G62 -> 0 | H61: =H62 -> 0
B62: 85154 | C62: Przeciwdziałanie alkoholizmowi | E62: =SUM(E63:E63) -> 0 | F62: =SUM(F63:F63) -> 0 | G62: =SUM(G63:G63) -> 0 | H62: =SUM(H63:H63) -> 0
A64: 853 | C64: POZOSTAŁE ZADANIA W ZAKRESIE POLITYKI SPOŁECZNEJ | E64: =SUM(E65) -> 13250 | F64: =SUM(F65) -> 13250 | G64: =SUM(G65) -> 13250 | H64: =SUM(H65) -> 0
B65: 85395 | C65: Pozostała działalność | E65: =SUM(E66) -> 13250 | F65: =SUM(F66) -> 13250 | G65: =SUM(G66) -> 13250 | H65: =SUM(H66) -> 0
D66: 2710 | E66: 13250 | F66: =SUM(G66:H66) -> 13250 | G66: 13250 | H66: 0 | I66: Dotacja celowa na pomoc finansową dla Gminy Sędziszów Małopolski na realizację zadania pn. „Inicjatywy edukacyjne dla mieszkańców powiatu ropczycko – sędziszowskiego w ramach koncepcji "Uniwersytet Samorządności" 2024 rok” w ramach Podkarpackiego Programu Odnowy Wsi na lata 2021-2025.
A67: 854 | C67: EDUKACYJNA OPIEKA WYCHOWAWCZA | E67: =SUM(E68) -> 185000 | F67: =SUM(F68) -> 185000 | G67: =SUM(G68) -> 185000 | H67: =SUM(H68) -> 0
B68: 85420 | C68: Młodzieżowe ośrodki wychowawcze | E68: =SUM(E69:E69) -> 185000 | F68: =SUM(F69:F69) -> 185000 | G68: =SUM(G69:G69) -> 185000 | H68: =SUM(H69:H69) -> 0
D69: 2710 | E69: 185000 | F69: =SUM(G69:H69) -> 185000 | G69: 185000 | H69: 0 | I69: Dotacja celowa na pomoc finansową dla Powiatu Lubaczowskiego z przeznaczeniem na remont i wyposażenie pracowni zajęć praktycznych dla kierunku murarz-tynkarz w Szkole Branżowej I stopnia w Młodzieżowym Ośrodku Wychowawczym w Lubaczowie.
A70: 900 | C70: GOSPODARKA KOMUNALNA I OCHRONA ŚRODOWISKA | E70: =SUM(E71) -> 199200 | F70: =SUM(F71) -> 199200 | G70: =SUM(G71) -> 39600 | H70: =SUM(H71) -> 159600
B71: 90095 | C71: Pozostała działalność | E71: =SUM(E72:E73) -> 199200 | F71: =SUM(F72:F73) -> 199200 | G71: =SUM(G72:G73) -> 39600 | H71: =SUM(H72:H73) -> 159600
D72: 2710 | E72: 39600 | F72: =SUM(G72:H72) -> 39600 | G72: 39600 | H72: 0 | I72: Dotacje celowe na pomoc finansową dla gmin w ramach „Podkarpackiego Programu Odnowy Wsi na lata 2021-2025”, w tym dla: 1) Gminy Miejsce Piastowe na zadanie pn. „Zagospodarowanie terenu oraz poprawa estetyki wokół Domu Ludowego w Łężanach” – 19.600,00 zł, 2) Gminy Jeżowe na zadanie pn. „Zagospodarowanie mienia gminnego w celu utrzymania estetyki sołectwa w Cholewianej Górze” – 20.000,00 zł.
D73: 6300 | E73: 159600 | F73: =SUM(G73:H73) -> 159600 | G73: 0 | H73: 159600 | I73: Dotacje celowe na pomoc finansową dla gmin w ramach „Podkarpackiego Programu Odnowy Wsi na lata 2021-2025”, w tym dla: 1) Gminy Wiśniowa na zadanie pn. „Zagospodarowanie przestrzeni publicznej w Markuszowej oraz rozwój wykorzystania terenu dla działalności sportowo – rekreacyjnej. Przystań Kajakowa przy szlaku wodnym na rzece Wisłok wraz z organizacją spływu kajakowego” – 20.000,00 zł, 2) Gminy Krzeszów na zadanie pn. „Budowa placu zabaw i zagospodarowanie terenu na działce gminnej w miejscowości Kamionka Dolna” – 20.000,00 zł, 3) Gminy Tuszów Narodowy na zadanie pn. „Wykonanie wiaty z grillem, stołami i ławkami wraz z zagospodarowaniem terenu w sołectwie Malinie – etap I: wykonanie wiaty wraz z zagospodarowaniem terenu” – 20.000,00 zł, 4) Gminy Ropczyce na zadanie pn. „Zagospodarowanie przestrzeni publicznej w miejscowości Mała na cele społeczne” – 20.000,00 zł, 5) Gminy Nowa Sarzyna na zadanie pn. „Utworzenie miejsca odpoczynku i zabawy w rejonie miejscowości Wola Zarczycka (Borki) – etap II przygotowanie terenu” – 20.000,00 zł, 6) Gminy Krasne na zadanie pn. „Modernizacja placu zabaw przy obiekcie sportowym Crasnovii w Krasnem w ramach zadania budżetowego „Doposażenie i modernizacja placów zabaw na terenie sołectwa Krasne” – 20.000,00 zł, 7) Gminy Solina na zadanie pn. „Zakup wyposażenia do świetlicy wiejskiej w Bóbrce” – 19.600,00 zł, 8) Gminy Kołaczyce na zadanie pn. „Utworzenie miejsca rekreacji i wypoczynku dla mieszkańców na działce nr 425/2 w Lublicy” – 20.000,00 zł.
A74: 921 | C74: KULTURA I OCHRONA DZIEDZICTWA NARODOWEGO | E74: =SUM(E75,E77,E81,E84) -> 2796032 | F74: =SUM(F75,F77,F81,F84) -> 2790010 | G74: =SUM(G75,G77,G81,G84) -> 499330 | H74: =SUM(H75,H77,H81,H84) -> 2290680
B75: 92105 | C75: Pozostałe zadania w zakresie kultury | E75: =SUM(E76:E76) -> 20000 | F75: =SUM(F76:F76) -> 20000 | G75: =SUM(G76:G76) -> 20000 | H75: =SUM(H76:H76) -> 0
D76: 2710 | E76: 20000 | F76: =SUM(G76:H76) -> 20000 | G76: 20000 | H76: 0 | I76: Dotacja celowa na pomoc finansową dla Gminy Trzebownisko na zadanie pn. "Opracowanie i wydanie publikacji pt. "Kuchnia dworska dla Ciebie. Śladami łąckiej szlachty" oraz organizacja wieczoru autorskiego" w ramach „Podkarpackiego Programu Odnowy Wsi na lata 2021-2025.
B77: 92109 | C77: Domy i ośrodki kultury, świetlice i kluby | E77: =SUM(E78:E80) -> 419376 | F77: =SUM(F78:F80) -> 414884 | G77: =SUM(G78:G80) -> 215204 | H77: =SUM(H78:H80) -> 199680
D78: 2710 | E78: 219376 | F78: =SUM(G78:H78) -> 215204 | G78: 215204 | H78: 0 | I78: Dotacje celowe na pomoc finansową dla gmin w ramach „Podkarpackiego Programu Odnowy Wsi na lata 2021-2025”, w tym dla: 1) Gminy Pysznica na realizację zadania pn. Remont pomieszczeń w świetlicy wiejskiej w Sudołach w celu dostosowania dla osób ze szczególnymi potrzebami – 20 000,00 zł, 2) Gminy Gać na realizację zadania pn. Nowoczesna świetlica poprzez wykonanie remontu i doposażenie świetlicy wiejskiej - etap drugi – 20.000,00 zł, 3) Gminy Przecław na realizację zadania pn. Remont sanitariów w Domu Ludowym w Podolu – 20.000,00 zł, 4) Gmina Sędziszów Małopolski na realizację zadania pn. Doposażenie Domu Ludowego w Cierpiszu oraz zakup namiotu ogrodowego – 20.000,00 zł, 5) Gminy Jedlicze na realizację zadania pn. Doposażenie pomieszczenia świetlicy w Domu Ludowym w Piotrówce w celu utworzenia centrum integracji organizacji działających w sołectwie – 5.100,00 zł, 6) Gminy Zagórz na realizację zadania pn. Wyposażenie budynku Świetlicy Wiejskiej – 18.069,00 zł, 7) Gminy Grębów na realizację zadania pn. Remont domu Ludowego w Zabrniu - etap IV – 19.434,00 zł, 8) Gminy Borowa na realizację zadania pn. Remont i poprawa funkcjonalności zaplecza gastronomicznego w budynku Ochotniczej Straży Pożarnej w Surowej w którym spotykają się mieszkańcy sołectwa – 19.342,00 zł, 9) Gminy Czarna na realizację zadania pn. Organizacja zajęć edukacyjnych dla mieszkańców powiatu bieszczadzkiego w ramach koncepcji "Uniwersytet Samorządności" – 14.976,00 zł, 10) Gminy Rymanów na realizację zadania pn. Organizacja warsztatów, szkoleń i konferencji w Gminnym Ośrodku Kultury w Rymanowie w ramach inicjatywy "Uniwersytet Samorządności" – 15.000,00 zł,
I79: 11) Gminy Horyniec- Zdrój na realizację zadania pn. Uniwersytet Samorządności dla mieszkańców powiatu lubaczowskiego - pobudzić lokalną społeczność do działania – 15.000,00 zł 12) Gminy Bircza na realizację zadania pn. Organizacja inicjatyw edukacyjnych dla mieszkańców powiatu przemyskiego w ramach II etapu koncepcji "Uniwersytet Samorządności" – 15.000,00 zł 13) Gminy Pysznica - Szkolenia w ramach inicjatywy "Uniwersytet Samorządności" w Sudołach w powiecie stalowowolskim – 13.283,00 zł.
D80: 6300 | E80: 200000 | F80: =SUM(G80:H80) -> 199680 | G80: 0 | H80: 199680 | I80: Dotacje celowe na pomoc finansową dla gmin w ramach „Podkarpackiego Programu Odnowy Wsi na lata 2021-2025, w tym dla: 1) Gminy Osiek Jasielski na realizację zadania pn. Budowa placu zabaw przy Domu Ludowym w miejscowości Czekaj – 20.000,00 zł, 2) Gminy Lesko na realizację zadania pn. Wykonanie wentylacji mechanicznej w pomieszczeniach podpiwniczenia świetlicy wiejskiej w Jankowcach – 20.000,00 zł, 3) Gminy Błażowa na realizację zadania pn. Zagospodarowanie terenu obok Domu Ludowego w Kąkolówce na działkach nr 1692 oraz 1693 – 20.000,00 zł, 4) Gminy Dębowiec na realizację zadania pn. Modernizacja pomieszczeń w Domu Ludowym w Radości celem zaspokojenia potrzeb społecznych mieszkańców (etap I) – 20.000,00 zł, 5) Gminy Czarna na realizację zadania pn. Świecimy przykładem - montaż oświetlenia solarnego w otoczeniu świetlicy wiejskiej w Czarnej Dolnej, wykonanie instalacji elektrycznej we wiacie grillowej wraz z organizacją Dożynek – 20.000,00 zł, 6) Gminy Lutowiska na realizację zadania pn. Doposażenie budynku Remizo-Świetlicy w Chmielu w sprzęt kuchenny, sprzęt niezbędny do utrzymania terenów zielonych, garaż blaszany, oraz zagospodarowanie przestrzeni przy budynku na potrzeby promocji lokalnych produktów turystycznych oraz organizacji spotkań, imprez i wydarzeń – 20.000,00 zł, 7) Gminy Sanok na realizację zadania pn. Zagospodarowanie placu wokół WDK w Lisznej na cele związane z organizacją i prowadzeniem imprez plenerowych – 20.000,00 zł, 8) Gminy Skołyszyn na realizację zadania pn. Zakup niezbędnego wyposażenia Domu Ludowego w Bączalu Górnym – 20.000,00 zł, 9) Gminy Tarnowiec na realizację zadania pn. Modernizacja pomieszczenia Domu Ludowego wraz z zakupem wyposażenia w Roztokach – 20.000,00 zł, 10) Gminy Tyrawa Wołoska na realizację zadania pn. Przygotowanie miejsca do atrakcyjnego, aktywnego i bezpiecznego spędzania czasu w przestrzeni wokół świetlicy wiejskiej etap III - utwardzenie terenu przed świetlicą wiejską i odmalowanie ogrodzenia – 19.680,00 zł.
B81: 92116 | C81: Biblioteki | E81: =SUM(E82:E83) -> 29585 | F81: =SUM(F82:F83) -> 29569 | G81: =SUM(G82:G83) -> 9569 | H81: =SUM(H82:H83) -> 20000
D82: 2710 | E82: 9585 | F82: =SUM(G82:H82) -> 9569 | G82: 9569 | H82: 0 | I82: Dotacja celowa na pomoc finansową dla Gminy Wiśniowa na zadanie pn. Organizacja wykładów i zajęć praktycznych w ramach realizowanej koncepcji w ramach „Podkarpackiego Programu Odnowy Wsi na lata 2021-2025”
D83: 6300 | E83: 20000 | F83: =SUM(G83:H83) -> 20000 | G83: 0 | H83: 20000 | I83: Dotacja celowa na pomoc finansową dla Gminy Raniżów na zadanie pn. Wykonanie placu zabaw z elementami skateparku przy Gminnej Bibliotece Publicznej w Raniżowie w ramach realizowanej koncepcji w ramach „Podkarpackiego Programu Odnowy Wsi na lata 2021-2025”
B84: 92195 | C84: Pozostała działalność | E84: =SUM(E85:E88) -> 2327071 | F84: =SUM(F85:F88) -> 2325557 | G84: =SUM(G85:G88) -> 254557 | H84: =SUM(H85:H88) -> 2071000
D85: 2710 | E85: 256071 | F85: =G85+H85 -> 254557 | G85: 254557 | H85: 0 | I85: Dotacje celowe na pomoc finansową dla gmin w ramach „Podkarpackiego Programu Odnowy Wsi na lata 2021-2025”, w tym dla: 1) Gminy Żyraków na zadanie: Organizacja i przeprowadzenie 6 otwartych inicjatyw edukacyjnych w utworzonej sali szkoleniowej w Budynku Wielofunkcyjnym w Wiewiórce w ramach koncepcji "Uniwersytet Samorządności" – 15.000,00 zł, 2) Gminy Kolbuszowa na zadanie: Warsztaty ekologiczne dla mieszkańców powiatu kolbuszowskiego w ramach koncepcji "Uniwersytet Samorządności" – 12.550,00 zł, 3) Gminy Kuryłówka na zadanie: Przeprowadzenie warsztatów edukacyjnych dla mieszkańców powiatu leżajskiego w ramach inicjatywy "Uniwersytet Samorządności"– 15.000,00 zł, 4) Gminy Łańcut na zadanie: Zdobądź niezbędną wiedzę i praktyczne umiejętności w zakresie zdrowia, rękodzieła i gastronomii" - bezpłatne szkolenia skierowane do mieszkańców powiatu łańcuckiego – 14 885,00 zł, 5) Gminy Mielec na zadanie: Przeprowadzenie w 2024 roku 6 inicjatyw edukacyjnych dla mieszkańców powiatu mieleckiego w ramach II etapu koncepcji "Uniwersytet Samorządności" – 15.000,00 zł, 6) Gminy Bukowsko na zadanie: Inicjatywy edukacyjne "Uniwersytet Samorządności" w miejscowości Bukowsko dla mieszkańców powiatu sanockiego - edycja 2024 r. – 14.999,00 zł, 7) Gminy Baranów Sandomierski na zadanie: Organizacja ogólnodostępnych zajęć dla mieszkańców powiatu tarnobrzeskiego w ramach koncepcji "Uniwersytet Samorządności" – 14.052,00 zł, 8) Gminy Pilzno na zadanie: "Dobrków - wieś miodem płynąca" - impreza integracyjna "Miodobranie", warsztay dla dzieci i seniorów oraz warszaty kulinarne – 19.500,00 zł, 9) Gminy Nowa Dęba na zadanie: Doposażenie Centrum Kultury Lasowiackiej w Cyganach - 19.800,00 zł, 10) Gminy Kuryłówka na zadanie: Remont kuchni wraz z wyposażeniem w Wiejskim Domu Ludowym - etap I – 20.000,00 zł, 11) Gminy Stubno na zadanie: Zakup wyposażenia do pomieszczeń zabytkowego dworu w Stubnie do pełnienia funkcji kulturalnych i edukacyjnych – 20 000,00 zł, 12) Gminy Łańcut na zadanie: Prace remontowe pomieszczeń w Ośrodku Kultury na potrzeby świetlicy wiejskiej wraz z zakupem wyposażenia – 20.000,00 zł, 13) Gminy Rymanów na zadanie: Odnowienie pomnika, zakup strojów dla KGW, druk folderu promocyjnego, organizacja wydarzenia upamiętniającego pacyfikację mieszkańców Królika Polskiego w czasie II Wojny Światowej – 13.771,00 zł, 14) Gminy Grodzisko Dolne na zadanie: Organizacja wydarzenia promującego Grodzisko Górne i tożsamość wiejską podczas Gminnych Dożynek w 2024 roku – 20.000,00 zł, 15) Gminy Świlcza na zadanie: Zachowanie tradycji w świlczańskiej wsi – 20.000, 00 zł.
D87: 6300 | E87: 71000 | F87: =G87+H87 -> 71000 | G87: 0 | H87: 71000 | I87: Dotacje celowe na pomoc finansową dla gmin w ramach „Podkarpackiego Programu Odnowy Wsi na lata 2021-2025", w tym dla: 1) Gminy Baranów Sandomierski na zadanie: Utworzenie miejsca integracji i aktywizacji społeczno - kulturalnej mieszkańców wsi Marki poprzez zagospodarowanie terenu wokół budynku użyteczności publicznej - etap I – 20.000,00 zł, 2) Gminy Bukowsko na zadanie: Zagospodarowanie placu przy Domu Kultury w Nowotańcu - etap II – 20.000,00 zł, 3) Gminy Stary Dzików na zadanie: Zagospodarowanie placu obok świetlicy w Nowym Dzikowie - etap I. Budowa zbiornika wodnego i ogrodzenia zagrody wiejskiej – 20.000,00 zł, 4) Gmina Jaśliska na zadanie: Wykonanie nawierzchni bezpiecznej oraz remont i doposażenie placu zabaw znajdującego się na działce nr ewid. 3447/1 w miejscowości Posada Jaśliska – 11.000,00 zł.
E88: 2000000 | F88: 2000000 | G88: 0 | H88: 2000000 | I88: Dotacja celowa na pomoc finansową dla Gminy Miasta Sanok na realizację przebudowy I piętra budynku szkoły przy ul. Lipińskiego 63 w Sanoku.
A89: 926 | C89: KULTURA FIZYCZNA | E89: =SUM(E90,E94,E96) -> 1461114 | F89: =SUM(F90,F94,F96) -> 440587 | G89: =SUM(G90,G94,G96) -> 72000 | H89: =SUM(H90,H94,H96) -> 368587
B90: 92601 | C90: Obiekty sportowe | E90: =SUM(E91:E93) -> 1060000 | F90: =SUM(F91:F93) -> 40000 | G90: =SUM(G91:G93) -> 20000 | H90: =SUM(H91:H93) -> 20000
D91: 2710 | E91: 20000 | F91: =SUM(G91:H91) -> 20000 | G91: 20000 | H91: 0 | I91: Dotacja celowa na pomoc finansową dla Gminy Dydnia na zadanie pn. „Remont trybun wraz z pomieszczeniami technicznymi w miejscowości Niebocko” w ramach „Podkarpackiego Programu Odnowy Wsi na lata 2021-2025”.
D92: 6300 | E92: 1000000 | F92: =SUM(G92:H92) -> 0 | G92: 0 | H92: 0 | I92: Dotacja celowa na pomoc finansową dla Gminy Miasta Rzeszów na dofinansowanie zadania "Budowa Podkarpackiego Centrum Lekkoatletycznego przy ul. Wyspiańskiego 22 w Rzeszowie".
E93: 40000 | F93: =SUM(G93:H93) -> 20000 | G93: 0 | H93: 20000 | I93: Dotacja celowa na pomoc finansową dla Gminy Frysztak na zadanie pn. „Budowa placu zabaw dla dzieci” w ramach „Podkarpackiego Programu Odnowy Wsi na lata 2021-2025”. Planwana dotacja celowa na pomoc finansową dla Gminy Rokietnica na realizację zadania pn. „Aktywnie i zdrowo – Zagospodarowanie przestrzeni wokół stawu w Centrum Gminy Rokietnica – etap III poprzez budowę alejki spacerowej” w ramach „Podkarpackiego Programu Odnowy Wsi na lata 2021-2025” w kwocie 20.000,- zł nie została zrealizowana w 2024r.
B94: 92605 | C94: Obiekty sportowe | E94: =SUM(E95:E95) -> 200000 | F94: =SUM(F95:F95) -> 200000 | G94: =SUM(G95:G95) -> 0 | H94: =SUM(H95:H95) -> 200000
D95: 6300 | E95: 200000 | F95: =SUM(G95:H95) -> 200000 | G95: 0 | H95: 200000 | I95: Dotacja celowa na pomoc finansową dla Gminy Zagórz na zakup mobilnego systemu do naśnieżania (pompa mobilna wraz z armatką) oraz pojazdu użytkowo transportowego.
B96: 92695 | C96: Pozostała działalność | E96: =SUM(E97:E98) -> 201114 | F96: =SUM(F97:F98) -> 200587 | G96: =SUM(G97:G98) -> 52000 | H96: =SUM(H97:H98) -> 148587
D97: 2710 | E97: 52000 | F97: =SUM(G97:H97) -> 52000 | G97: 52000 | H97: 0 | I97: Dotacje celowe na pomoc finansową dla gmin w ramach „Podkarpackiego Programu Odnowy Wsi na lata 2021-2025", w tym dla: 1) Gminy Tyczyn na zadanie pn. „Remont pomieszczeń w budynku zaplecza socjalno – sanitarnego LKS START Borek Stary” - 20.000,00 zł, 2) Gminy Chmielnik na zadanie pn. „Organizacja wydarzenia sportowo – kulturalnego „Chmielnik biega”” - 20.000,00 zł, 3) Gminy Głogów Małopolski na zadanie pn. „Doposażenie kompleksu rekreacyjnego „Rajska Dolina” w Pogwizdowie Starym – etap III” - 12.000,00 zł.
D98: 6300 | E98: 149114 | F98: =SUM(G98:H98) -> 148587 | G98: 0 | H98: 148587 | I98: Dotacje celowe na pomoc finansową dla gmin w ramach „Podkarpackiego Programu Odnowy Wsi na lata 2021-2025", w tym dla: 1) Gminy Brzozów na zadanie pn. „Budowa trybun na stadionie GKS Górnik Grabownica” - 20.000,00 zł, 2) Gminy Kolbuszowa na zadanie pn. „Modernizacja boiska sportowego przy Szkole Podstawowej w Bukowcu” - 11.522,00 zł, 3) Gminy Lubenia na zadanie pn. „Budowa sceny wraz z zagospodarowaniem terenu w miejscowości Straszydle – Etap I” (opracowanie dokumentacji projektowej) - 20.000,00 zł, 4) Gminy Rakszawa na zadanie pn. „Integracja społeczności Sołectwa Rakszawa Dolna poprze stworzenia miejsca spotkań i wypoczynku w plenerze” - 20.000,00 zł, 5) Gminy Mielec na zadanie pn. „Modernizacja obiektu LKS w tym wykonanie ogrodzenia” - 20.000,00 zł, 6) Gminy Iwierzyce na zadanie pn. „Budowa strefy rekreacyjnej w miejscowości Będzienica” - 20.000,00 zł, 7) Gminy Dębica na zadanie pn. „Wykonanie infrastruktury sportowo – rekreacyjnej we wsi Braciejowa – etap II” - 19.065,00 zł, 8) Gminy Markowa na zadanie pn. „Modernizacja placu zabaw z miejscowości Tarnawka” - 18.000,00 zł.
A99: WYDATKI OGÓŁEM | E99: =SUM(E7,E13,E36,E47,E53,E56,E61,E64,E67,E70,E74,E89,E44,E28) -> 50382527 | F99: =SUM(F7,F13,F36,F47,F53,F56,F61,F64,F67,F70,F74,F89,F44,F28) -> 42005194 | G99: =SUM(G7,G13,G36,G47,G53,G56,G61,G64,G67,G70,G74,G89,G44,G28) -> 19285499 | H99: =SUM(H7,H13,H36,H47,H53,H56,H61,H64,H67,H70,H74,H89,H44,H28) -> 22719696

Sheet przych i rozch.
A1: Zestawienie wykonania planu przychodów i rozchodów budżetu
A4: 1. PRZYCHODY
D5: w złotych
A6: Źródło przychodu | B6: Plan po zmianach | C6: Wykonanie | D6: % wykonania (3:2)
A7: 1. | B7: 2. | C7: 3. | D7: 4.
A8: Spłata udzielonych z budżetu pożyczek | B8: 691872 | C8: 870522.31 | D8: =C8/B8*100 -> 125.82129
A9: Nadwyżka z lat ubiegłych | B9: 36897727 | C9: 3.6400016e+08 | D9: =C9/B9*100 -> 986.51107
A10: Wolne środki jako nadwyżka środków pieniężnych na rachunku bieżącym budżetu jednostki samorządu terytorialnego wynikające z rozliczeń wyemitowanych papierów wartościowych, kredytów, pożyczek z lat ubiegłych | B10: 0 | C10: 1.8101956e+08 | D10: -
A11: Niewykorzystane środki na rachunku bieżącym budżetu, wynikające z rozliczenia dochodów i wydatków nimi finansowanych związane ze szczególnymi zasadami wykonywania budżetu określonymi w odrębnych ustawach | B11: 25643044 | C11: 54307355 | D11: =C11/B11*100 -> 211.78202
A12: Niewykorzystane środki pieniężne na rachunku bieżącym budżetu, wynikające z rozliczenia środków określonych w art. 5 ust. 1 pkt 2 ustawy o finansach publicznych i dotacji na realizację programu, projektu lub zadania finansowanego z udziałem tych środków | B12: 15475474 | C12: 19488263 | D12: =C12/B12*100 -> 125.92999
A13: OGÓŁEM | B13: =SUM(B8:B12) -> 78708117 | C13: =SUM(C8:C12) -> 6.1968586e+08 | D13: =C13/B13*100 -> 787.32141
A16: 2. ROZCHODY
D17: w złotych
A18: Przeznaczenie rozchodu | B18: Plan po zmianach | C18: Wykonanie | D18: % wykonania (3:2)
A19: 1. | B19: 2. | C19: 3. | D19: 4.
A20: Spłaty rat pożyczki długoterminowej z Banku Rozwoju Rady Europy (CEB) | B20: 20560000 | C20: 20560000 | D20: =C20/B20*100 -> 100
A21: Wykup obligacji | B21: 12000000 | C21: 12000000 | D21: =C21/B21*100 -> 100
A22: Udzielone pożyczki | B22: 4337727 | C22: 1191422.4 | D22: =C22/B22*100 -> 27.466515
A23: OGÓŁEM | B23: =SUM(B20:B22) -> 36897727 | C23: =SUM(C20:C22) -> 33751422 | D23: =C23/B23*100 -> 91.472904
J328: =G328/D328 -> #DIV/0!

Sheet wyodrębniony rachunek
B1: Zestawienie wykonania planu dochodów gromadzonych na wyodrębnionym rachunku przez wojewódzkie oświatowe jednostki budżetowe, oraz wydatków nimi finansowanych
H2: w złotych
A3: Lp. | B3: Dział | C3: Rozdział | D3: Nazwa jednostki | E3: Dochody | G3: Wydatki
E4: Plan | F4: Wykonanie | G4: Plan | H4: Wykonanie
A5: 1 | B5: 2 | C5: 3 | D5: 4 | E5: 5 | F5: 6 | G5: 7 | H5: 8
A6: 1 | B6: 801 | C6: 80102 | D6: Zespół Szkół przy Klinicznym Szpitalu Wojewódzkim Nr 2 w Rzeszowie | E6: 16847 | F6: 11519.5 | G6: 16847 | H6: 11519.5
A7: 2 | B7: 801 | C7: 80102 | D7: Zespół Szkół Specjalnych w Rymanowie Zdroju | E7: 3000 | F7: 811.59 | G7: 3000 | H7: 811.59
A8: 3 | B8: 801 | C8: 80130 | D8: Medyczno - Społeczne Centrum Kształcenia Zawodowego i Ustawicznego w Przemyślu | E8: 72000 | F8: 38135.04 | G8: 72000 | H8: 38104.14
A9: 4 | B9: 801 | C9: 80130 | D9: Medyczno - Społeczne Centrum Kształcenia Zawodowego i Ustawicznego w Jaśle | E9: 9866 | F9: 4403.23 | G9: 9866 | H9: 4403.23
A10: 5 | B10: 801 | C10: 80130 | D10: Medyczno - Społeczne Centrum Kształcenia Zawodowego i Ustawicznego w Sanoku | E10: 1500 | F10: 310.57 | G10: 1500 | H10: 310.57
A11: 6 | B11: 801 | C11: 80130 | D11: Medyczno - Społeczne Centrum Kształcenia Zawodowego i Ustawicznego w Mielcu | E11: 83000 | F11: 80199.07 | G11: 83000 | H11: 80199.07
A12: 7 | B12: 801 | C12: 80130 | D12: Medyczno - Społeczne Centrum Kształcenia Zawodowego i Ustawicznego w Rzeszowie | E12: 273231 | F12: 157111.66 | G12: 273231 | H12: 157111.66
A13: 8 | B13: 854 | C13: 85410 | E13: 389940 | F13: 130236.74 | G13: 389940 | H13: 130236.74
A14: 9 | B14: 801 | C14: 80146 | D14: Podkarpacki Zespół Placówek Wojewódzkich w Rzeszowie | E14: 1575193 | F14: 896432.24 | G14: 1575193 | H14: 895155.92
A15: 10 | C15: 80147 | E15: 333150 | F15: 229833.37 | G15: 333150 | H15: 229728.95
A16: 11 | B16: 854 | C16: 85417 | E16: 2137334 | F16: 1683958.6 | G16: 2137334 | H16: 1683260.1
A17: RAZEM | E17: =SUM(E6:E16) -> 4895061 | F17: =SUM(F6:F16) -> 3232951.6 | G17: =SUM(G6:G16) -> 4895061 | H17: =SUM(H6:H16) -> 3230841.5
