Workbook
Name nowwa: #REF!
Name nowwa: #REF!
Name nowwa: #REF!
Name nowwa: #REF!
Name nowwa: #REF!
Name Obszar_1093uku: #REF!
Name Obszar_1093uku: #REF!
Name Obszar_1093uku: #REF!
Name Obszar_1093uku: #REF!
Name Obszar_1093uku: #REF!
Name Obszar_1093uku: #REF!
Name Obszar_1093uku: #REF!
Name q: #REF!
Name q: #REF!
Name q: #REF!
Name wydatki: #REF!
Name wydatki: #REF!
Name wydatki: #REF!

Sheet dochody
A1: Zestawienie wykonania planu dochodów województwa (według działów, rozdziałów, paragrafów klasyfikacji budżetowej oraz źródeł pochodzenia i rodzajów dochodów)
H2: w złotych
A3: Dział | B3: Rozdz. | C3: Źródło pochodzenia | D3: Paragraf | E3: Plan wg uchwały budżetowej | F3: Plan po zmianach | G3: Wykonanie | H3: % wykonania (7:6)
A5: 1. | B5: 2. | C5: 3. | D5: 4. | E5: 5. | F5: 6. | G5: 7. | H5: 8.
A6: 010 | C6: ROLNICTWO I ŁOWIECTWO | E6: =SUM(E7,E14,E21,E26,) -> 36583500 | F6: =SUM(F7,F14,F21,F26,) -> 26776567 | G6: =SUM(G7,G14,G21,G26,) -> 42912230 | H6: =G6/F6 -> 1.6026039
B7: 01004 | C7: Biura geodezji i terenów rolnych | E7: =SUM(E8,E12) -> 9855500 | F7: =SUM(F8,F12) -> 5500 | G7: =SUM(G8,G12) -> 9215194.1 | H7: =G7/F7 -> 1675.4898
B8: a) dochody bieżące, w tym: | E8: =SUM(E9:E11) -> 9855500 | F8: =SUM(F9:F11) -> 5500 | G8: =SUM(G9:G11) -> 9148100.6 | H8: =G8/F8 -> 1663.291
C9: Dochody realizowane przez Podkarpackie Biuro Geodezji i Terenów Rolnych w Rzeszowie | D9: 0830 | E9: 9850000 | F9: 0 | G9: 9143666.8
D10: 0940 | E10: 0 | F10: 0 | G10: 805.84
D11: 0970 | E11: 5500 | F11: 5500 | G11: 3627.9 | H11: =G11/F11 -> 0.65961818
B12: b) dochody majątkowe, w tym: | E12: =SUM(E13) -> 0 | F12: =SUM(F13) -> 0 | G12: =SUM(G13) -> 67093.49
C13: Dochody realizowane przez Podkarpackie Biuro Geodezji i Terenów Rolnych w Rzeszowie | D13: 0870 | E13: 0 | F13: 0 | G13: 67093.49
B14: 01041 | C14: Program Rozwoju Obszarów Wiejskich | E14: =SUM(E15,E20) -> 10060000 | F14: =SUM(F15,F20) -> 10060000 | G14: =SUM(G15,G20) -> 10246352 | H14: =G14/F14 -> 1.018524
B15: a) dochody bieżące, w tym: | E15: =SUM(E16:E19) -> 10060000 | F15: =SUM(F16:F19) -> 10060000 | G15: =SUM(G16:G19) -> 10246352 | H15: =G15/F15 -> 1.018524
C16: Dotacja celowa z budżetu państwa na finansowanie wydatków objętych Pomocą Techniczną Programu Rozwoju Obszarów Wiejskich na lata 2014 - 2020 | D16: 2058 | E16: 6401000 | F16: 6401000 | G16: 6277869 | H16: =G16/F16 -> 0.98076379
C17: Dotacja celowa z budżetu państwa na współfinansowanie wydatków objętych Pomocą Techniczną Programu Rozwoju Obszarów Wiejskich na lata 2014 - 2020 | D17: 2059 | E17: 3659000 | F17: 3659000 | G17: 3588349.4 | H17: =G17/F17 -> 0.98069129
C18: Środki otrzymane z Agencji Restrukturyzacji i Modernizacji Rolnictwa jako refundacja wydatków poniesionych ze środków własnych na finansowanie wydatków objętych Pomocą Techniczną Programu Rozwoju Obszarów Wiejskich na lata 2014-2020 | D18: 2708 | E18: 0 | F18: 0 | G18: 241876.59
C19: Środki otrzymane z Agencji Restrukturyzacji i Modernizacji Rolnictwa jako refundacja wydatków poniesionych ze środków własnych na współfinansowanie wydatków objętych Pomocą Techniczną Programu Rozwoju Obszarów Wiejskich na lata 2014-2020 | D19: 2709 | E19: 0 | F19: 0 | G19: 138256.52
B20: b) dochody majątkowe | E20: 0 | F20: 0 | G20: 0
B21: 01042 | C21: Wyłączenie z produkcji gruntów rolnych | E21: =SUM(E25,E22) -> 13000000 | F21: =SUM(F25,F22) -> 13000000 | G21: =SUM(G25,G22) -> 21513483 | H21: =G21/F21 -> 1.6548833
B22: a) dochody bieżące, w tym: | E22: =SUM(E23:E24) -> 13000000 | F22: =SUM(F23:F24) -> 13000000 | G22: =SUM(G23:G24) -> 21513483 | H22: =G22/F22 -> 1.6548833
C23: Wpływy z tytułu opłat za wyłączenie z produkcji gruntów rolnych | D23: 0690 | E23: 13000000 | F23: 13000000 | G23: 21275765 | H23: =G23/F23 -> 1.6365973
C24: Odsetki z tytułu nieterminowej wpłaty opłat za wyłączenie z produkcji gruntów rolnych | D24: 0910 | E24: 0 | F24: 0 | G24: 237717.87
B25: b) dochody majątkowe | E25: 0 | F25: 0 | G25: 0
B26: 01095 | C26: Pozostała działalność | E26: =E27+E31 -> 3668000 | F26: =F27+F31 -> 3711067 | G26: =G27+G31 -> 1937201.4 | H26: =G26/F26 -> 0.52200658
B27: a) dochody bieżące, w tym: | E27: =SUM(E28:E30) -> 3668000 | F27: =SUM(F28:F30) -> 3711067 | G27: =SUM(G28:G30) -> 1937201.4 | H27: =G27/F27 -> 0.52200658
C28: Odsetki od zwrotu dotacji niewykorzystanej, nienależnie pobranej na realizację zadań w ramach Programu "Podkarpacki Naturalny Wypas III" | D28: 0900 | E28: 0 | F28: 0 | G28: 135.18
C29: Dotacje celowe otrzymane z budżetu państwa na zadania bieżące z zakresu administracji rządowej oraz inne zadania zlecone ustawami realizowane przez samorząd województwa | D29: 2210 | E29: 3668000 | F29: 3711067 | G29: 1925238.2 | H29: =G29/F29 -> 0.51878293
C30: Zwrot nienależnie pobranej dotacji na realizację zadania w ramach Programu "Podkarpacki Naturalny Wypas III" | D30: 2910 | E30: 0 | F30: 0 | G30: 11827.99
B31: b) dochody majątkowe | E31: 0 | F31: 0 | G31: 0
A32: 050 | C32: RYBOŁÓWSTWO I RYBACTWO | E32: =SUM(E33) -> 140000 | F32: =SUM(F33) -> 140000 | G32: =SUM(G33) -> 130808.97 | H32: =G32/F32 -> 0.93434979
B33: 05011 | C33: Program Operacyjny Zrównoważony rozwój sektora rybołówstwa i nadbrzeżnych obszarów rybackich 2007 - 2013, Program Operacyjny Rybactwo i Morze 2014 - 2020 oraz Program Fundusze Europejskie dla Rybactwa | E33: =SUM(E34,E37) -> 140000 | F33: =SUM(F34,F37) -> 140000 | G33: =SUM(G34,G37) -> 130808.97 | H33: =G33/F33 -> 0.93434979
B34: a) dochody bieżące, w tym: | E34: =SUM(E35:E36) -> 140000 | F34: =SUM(F35:F36) -> 140000 | G34: =SUM(G35:G36) -> 130808.97 | H34: =G34/F34 -> 0.93434979
C35: Dotacja celowa z budżetu państwa na finansowanie wydatków objętych Pomocą Techniczną Programu Fundusze Europejskie dla Rybactwa 2021-2027 | D35: 2058 | E35: 98000 | F35: 98000 | G35: 91566.06 | H35: =G35/F35 -> 0.93434755
C36: Dotacja celowa z budżetu państwa na współfinansowanie wydatków objętych Pomocą Techniczną Programu Fundusze Europejskie dla Rybactwa 2021-2027 | D36: 2059 | E36: 42000 | F36: 42000 | G36: 39242.91 | H36: =G36/F36 -> 0.934355
B37: b) dochody majątkowe | E37: 0 | F37: 0 | G37: 0
A38: 100 | C38: GÓRNICTWO I KOPALNICTWO | E38: =SUM(E39) -> 2632 | F38: =SUM(F39) -> 2632 | G38: =SUM(G39) -> 3186.77 | H38: =G38/F38 -> 1.2107789
B39: 10095 | C39: Pozostała działalność | E39: =SUM(E42,E40) -> 2632 | F39: =SUM(F42,F40) -> 2632 | G39: =SUM(G42,G40) -> 3186.77 | H39: =G39/F39 -> 1.2107789
B40: a) dochody bieżące, w tym: | E40: =SUM(E41:E41) -> 2632 | F40: =SUM(F41:F41) -> 2632 | G40: =SUM(G41:G41) -> 3186.77 | H40: =G40/F40 -> 1.2107789
C41: 5% dochodów uzyskiwanych na rzecz budżetu państwa w związku z realizacją zadań z zakresu administracji rządowej oraz innych zadań zleconych ustawami | D41: 2360 | E41: 2632 | F41: 2632 | G41: 3186.77 | H41: =G41/F41 -> 1.2107789
...

Sheet wydatki 
A1: Zestawienie wykonania planu wydatków województwa (według działów, rozdziałów, paragrafów klasyfikacji budżetowej oraz rodzajów wydatków)
H2: w złotych
A3: Dział | B3: Rozdział | C3: Paragraf | D3: Wyszczególnienie | E3: Plan wg uchwały budżetowej | F3: Plan po zmianach | G3: Wykonanie | H3: % wykonania (7:6)
A4: 1. | B4: 2. | C4: 3. | D4: 4. | E4: 5. | F4: 6. | G4: 7. | H4: 8. | U4: RG | V4: WODGIK | W4: PBGITR | X4: OS | Y4: ZPK | Z4: ZKPK | AA4: OW | AB4: DT | AC4: PZDW | AD4: EN | AE4: JO | AF4: DO | AG4: PG | AH4: SI | AI4: NW | AJ4: BI | AK4: BO | AL4: REZERWY | AM4: OBSŁUGA
A5: 010 | D5: Rolnictwo i łowiectwo | E5: =SUM(E6,E44,E75,E90,) -> 60295466 | F5: =SUM(F6,F44,F75,F90,) -> 68080061 | G5: =SUM(G6,G44,G75,G90,) -> 58913545 | H5: =G5/F5 -> 0.86535682
B6: 01004 | D6: Biura geodezji i terenów rolnych | E6: =E7+E41 -> 26937751 | F6: =F7+F41 -> 25251820 | G6: =G7+G41 -> 23951074 | H6: =G6/F6 -> 0.94848902 | J6: KS | K6: KZ | L6: OR | M6: RR | N6: RP | O6: WUP-RP | P6: GR | Q6: WUP-GR | R6: WP | S6: OZ | T6: ROPS
C7: wydatki bieżące: | E7: =E8+E38 -> 22053351 | F7: =F8+F38 -> 21186970 | G7: =G8+G38 -> 20085996 | H7: =G7/F7 -> 0.94803534 | I7: =SUM(J7:AM7) -> 0
C8: wydatki jednostek budżetowych w tym na: | E8: =E9+E17 -> 21887551 | F8: =F9+F17 -> 21039170 | G8: =G9+G17 -> 19959430 | H8: =G8/F8 -> 0.94867955 | I8: =SUM(J8:AM8) -> 0
C9: - wynagrodzenia i składki od nich naliczane | E9: =SUM(E10:E15) -> 16626117 | F9: =SUM(F10:F15) -> 16917407 | G9: =SUM(G10:G15) -> 16694347 | H9: =G9/F9 -> 0.98681474 | I9: =SUM(J9:AM9) -> 0
C10: 4010 | D10: Wynagrodzenia osobowe pracowników | E10: =I10 -> 12692189 | F10: 13221457 | G10: 13116049 | H10: =G10/F10 -> 0.99202751 | I10: =SUM(J10:AM10) -> 12692189 | W10: 12692189
C11: 4040 | D11: Dodatkowe wynagrodzenie roczne | E11: =I11 -> 916964 | F11: 888080 | G11: 888079.85 | H11: =G11/F11 -> 0.99999983 | I11: =SUM(J11:AM11) -> 916964 | W11: 916964
C12: 4110 | D12: Składki na ubezpieczenia społeczne | E12: =I12 -> 2362313 | F12: 2395988 | G12: 2302932.8 | H12: =G12/F12 -> 0.96116207 | I12: =SUM(J12:AM12) -> 2362313 | W12: 2362313
C13: 4120 | D13: Składki na Fundusz Pracy oraz Fundusz Solidarnościowy | E13: =I13 -> 310122 | F13: 314923 | G13: 298855.8 | H13: =G13/F13 -> 0.94898054 | I13: =SUM(J13:AM13) -> 310122 | W13: 310122
C14: 4170 | D14: Wynagrodzenia bezosobowe | E14: =I14 -> 250000 | F14: 0 | G14: 0 | I14: =SUM(J14:AM14) -> 250000 | W14: 250000
C15: 4710 | D15: Wpłaty na PPK finansowane przez podmiot zatrudniający | E15: =I15 -> 94529 | F15: 96959 | G15: 88429.07 | H15: =G15/F15 -> 0.91202539 | I15: =SUM(J15:AM15) -> 94529 | W15: 94529
I16: =SUM(J16:AM16) -> 0
C17: - wydatki związane z realizacją zadań statutowych jednostek budżetowych | E17: =SUM(E18:E36) -> 5261434 | F17: =SUM(F18:F36) -> 4121763 | G17: =SUM(G18:G36) -> 3265083.8 | H17: =G17/F17 -> 0.7921571 | I17: =SUM(J17:AM17) -> 0
C18: 4140 | D18: Wpłaty na Państwowy Fundusz Rehabilitacji Osób Niepełnosprawnych | E18: =I18 -> 200000 | F18: 200000 | G18: 177885 | H18: =G18/F18 -> 0.889425 | I18: =SUM(J18:AM18) -> 200000 | W18: 200000
C19: 4210 | D19: Zakup materiałów i wyposażenia | E19: =I19 -> 1835500 | F19: 1073919 | G19: 800564.38 | H19: =G19/F19 -> 0.74546067 | I19: =SUM(J19:AM19) -> 1835500 | W19: 1835500
C20: 4220 | D20: Zakup środków żywności | E20: =I20 -> 7500 | F20: 7500 | G20: 7221.63 | H20: =G20/F20 -> 0.962884 | I20: =SUM(J20:AM20) -> 7500 | W20: 7500
C21: 4260 | D21: Zakup energii | E21: =I21 -> 641834 | F21: 441834 | G21: 256423.58 | H21: =G21/F21 -> 0.58036181 | I21: =SUM(J21:AM21) -> 641834 | W21: 641834
C22: 4270 | D22: Zakup usług remontowych | E22: =I22 -> 467000 | F22: 367000 | G22: 356896.97 | H22: =G22/F22 -> 0.97247131 | I22: =SUM(J22:AM22) -> 467000 | W22: 467000
C23: 4280 | D23: Zakup usług zdrowotnych | E23: =I23 -> 32000 | F23: 19000 | G23: 14551 | H23: =G23/F23 -> 0.76584211 | I23: =SUM(J23:AM23) -> 32000 | W23: 32000
C24: 4300 | D24: Zakup usług pozostałych | E24: =I24 -> 809200 | F24: 689200 | G24: 586263.5 | H24: =G24/F24 -> 0.8506435 | I24: =SUM(J24:AM24) -> 809200 | W24: 809200
C25: 4360 | D25: Opłaty z tytułu zakupu usług telekomunikacyjnych | E25: =I25 -> 46600 | F25: 46600 | G25: 32207.33 | H25: =G25/F25 -> 0.69114442 | I25: =SUM(J25:AM25) -> 46600 | W25: 46600
C26: 4390 | D26: Zakup usług obejmujących wykonanie ekspertyz, analiz i opinii | E26: =I26 -> 33000 | F26: 33000 | G26: 12526.22 | H26: =G26/F26 -> 0.37958242 | I26: =SUM(J26:AM26) -> 33000 | W26: 33000
C27: 4400 | D27: Opłaty za administrowanie i czynsze za budynki, lokale i pomieszczenia garażowe | E27: =I27 -> 331000 | F27: 331000 | G27: 288934.94 | H27: =G27/F27 -> 0.87291523 | I27: =SUM(J27:AM27) -> 331000 | W27: 331000
C28: 4410 | D28: Podróże służbowe krajowe | E28: =I28 -> 10000 | F28: 10000 | G28: 3899.35 | H28: =G28/F28 -> 0.389935 | I28: =SUM(J28:AM28) -> 10000 | W28: 10000
C29: 4420 | D29: Podróże służbowe zagraniczne | E29: 0 | F29: 1200 | G29: 593.23 | H29: =G29/F29 -> 0.49435833
C30: 4430 | D30: Różne opłaty i składki | E30: =I30 -> 272000 | F30: 262000 | G30: 186631.06 | H30: =G30/F30 -> 0.71233229 | I30: =SUM(J30:AM30) -> 272000 | W30: 272000
C31: 4440 | D31: Odpisy na zakładowy fundusz świadczeń socjalnych | E31: =I31 -> 243000 | F31: 306010 | G31: 294069.25 | H31: =G31/F31 -> 0.96097922 | I31: =SUM(J31:AM31) -> 243000 | W31: 243000
C32: 4480 | D32: Podatek od nieruchomości | E32: =I32 -> 14700 | F32: 14700 | G32: 13329 | H32: =G32/F32 -> 0.90673469 | I32: =SUM(J32:AM32) -> 14700 | W32: 14700
C33: 4520 | D33: Opłaty na rzecz budżetów jednostek samorządu terytorialnego | E33: =I33 -> 4800 | F33: 4800 | G33: 3817.4 | H33: =G33/F33 -> 0.79529167 | I33: =SUM(J33:AM33) -> 4800 | W33: 4800
C34: 4530 | D34: Podatek od towarów i usług (VAT) | E34: =I34 -> 300 | F34: 300 | G34: 216 | H34: =G34/F34 -> 0.72 | I34: =SUM(J34:AM34) -> 300 | W34: 300
C35: 4610 | D35: Koszty postępowania sądowego i prokuratorskiego | E35: 0 | F35: 700 | G35: 500 | H35: =G35/F35 -> 0.71428571
C36: 4700 | D36: Szkolenia pracowników niebędących członkami korpusu służby cywilnej | E36: =I36 -> 313000 | F36: 313000 | G36: 228553.98 | H36: =G36/F36 -> 0.73020441 | I36: =SUM(J36:AM36) -> 313000 | W36: 313000
I37: =SUM(J37:AM37) -> 0
C38: świadczenia na rzecz osób fizycznych: | E38: =SUM(E39) -> 165800 | F38: =SUM(F39) -> 147800 | G38: =SUM(G39) -> 126566 | H38: =G38/F38 -> 0.85633288 | I38: =SUM(J38:AM38) -> 0
C39: 3020 | D39: Wydatki osobowe niezaliczone do wynagrodzeń | E39: =I39 -> 165800 | F39: 147800 | G39: 126566 | H39: =G39/F39 -> 0.85633288 | I39: =SUM(J39:AM39) -> 165800 | W39: 165800
I40: =SUM(J40:AM40) -> 0
...

Sheet adm.rząd.doch. 
A1: Zestawienie wykonania planu dochodów i wydatków zadań z zakresu administracji rządowej wykonywanych przez samorząd województwa
A2: I. DOCHODY | H2: w złotych
A3: Dział | B3: Rozdział | C3: Paragraf | D3: Nazwa | E3: Plan wg uchwały budżetowej | F3: Plan po zmianach | G3: Wykonanie | H3: % wykonania (7:6)
A4: 1. | B4: 2. | C4: 3. | D4: 4. | E4: 5. | F4: 6. | G4: 7. | H4: 8.
A5: 010 | B5: ROLNICTWO I ŁOWIECTWO | E5: =SUM(E6,E9) -> 3668000 | F5: =SUM(F6,F9) -> 3711067 | G5: =SUM(G6,G9) -> 1925238.2 | H5: =G5/F5 -> 0.51878293
B6: 01078 | C6: Usuwanie skutków klęsk żywiołowych | E6: =SUM(E7:E8) -> 0 | F6: =SUM(F7:F8) -> 0 | G6: =SUM(G7:G8) -> 0 | H6: =G6/F6 -> #DIV/0!
C7: 6510 | E7: 0 | H7: =G7/F7 -> #DIV/0!
C8: 6513 | E8: 0 | H8: =G8/F8 -> #DIV/0!
B9: 01095 | C9: Pozostała działalność | E9: =SUM(E10) -> 3668000 | F9: =SUM(F10) -> 3711067 | G9: =SUM(G10) -> 1925238.2 | H9: =G9/F9 -> 0.51878293
C10: 2210 | E10: 3668000 | F10: 3711067 | G10: 1925238.2 | H10: =G10/F10 -> 0.51878293
A11: 600 | B11: TRANSPORT I ŁĄCZNOŚĆ | E11: =SUM(E12,E14) -> 61527000 | F11: =SUM(F12,F14) -> 77849250 | G11: =SUM(G12,G14) -> 77844440 | H11: =G11/F11 -> 0.99993821
B12: 60003 | C12: Krajowe pasażerskie przewozy autobusowe | E12: =SUM(E13) -> 61207000 | F12: =SUM(F13) -> 77560977 | G12: =SUM(G13) -> 77560977 | H12: =G12/F12 -> 1
C13: 2210 | E13: 61207000 | F13: 77560977 | G13: 77560977 | H13: =G13/F13 -> 1
B14: 60095 | C14: Pozostała działalność | E14: =SUM(E15) -> 320000 | F14: =SUM(F15) -> 288273 | G14: =SUM(G15) -> 283462.86 | H14: =G14/F14 -> 0.98331394
C15: 2210 | E15: 320000 | F15: 288273 | G15: 283462.86 | H15: =G15/F15 -> 0.98331394
A16: 630 | B16: TURYSTYKA | E16: =SUM(E17) -> 64000 | F16: =SUM(F17) -> 71358 | G16: =SUM(G17) -> 71358 | H16: =G16/F16 -> 1
B17: 63095 | C17: Pozostała działalność | E17: =SUM(E18) -> 64000 | F17: =SUM(F18) -> 71358 | G17: =SUM(G18) -> 71358 | H17: =G17/F17 -> 1
C18: 2210 | E18: 64000 | F18: 71358 | G18: 71358 | H18: =G18/F18 -> 1
A19: 710 | B19: DZIAŁALNOŚĆ USŁUGOWA | E19: =SUM(E20) -> 370000 | F19: =SUM(F20) -> 403807 | G19: =SUM(G20) -> 403807 | H19: =G19/F19 -> 1
B20: 71012 | C20: Ośrodki dokumentacji geodezyjnej i kartograficznej | E20: =SUM(E21) -> 370000 | F20: =SUM(F21) -> 403807 | G20: =SUM(G21) -> 403807 | H20: =G20/F20 -> 1
C21: 2210 | E21: 370000 | F21: 403807 | G21: 403807 | H21: =G21/F21 -> 1
A22: 750 | B22: ADMINISTRACJA PUBLICZNA | E22: =SUM(E23,E25,E27) -> 602000 | F22: =SUM(F23,F25,F27) -> 658321 | G22: =SUM(G23,G25,G27) -> 640959.82 | H22: =G22/F22 -> 0.97362809
B23: 75011 | C23: Urzędy wojewódzkie | E23: =SUM(E24) -> 310000 | F23: =SUM(F24) -> 344217 | G23: =SUM(G24) -> 344217 | H23: =G23/F23 -> 1
C24: 2210 | E24: 310000 | F24: 344217 | G24: 344217 | H24: =G24/F24 -> 1
B25: 75046 | C25: Komisje egzaminacyjne | E25: =SUM(E26) -> 20000 | F25: =SUM(F26) -> 20000 | G25: =SUM(G26) -> 2639.96 | H25: =G25/F25 -> 0.131998
C26: 2210 | E26: 20000 | F26: 20000 | G26: 2639.96 | H26: =G26/F26 -> 0.131998
B27: 75084 | C27: Funkcjonowanie wojewódzkich rad dialogu społecznego | E27: =SUM(E28:E28) -> 272000 | F27: =SUM(F28:F28) -> 294104 | G27: =SUM(G28:G28) -> 294102.86 | H27: =G27/F27 -> 0.99999612
C28: 2210 | E28: 272000 | F28: 294104 | G28: 294102.86 | H28: =G28/F28 -> 0.99999612
A29: 751 | B29: URZĘDY NACZELNYCH ORGANÓW WŁADZY PAŃSTWOWEJ, KONTROLI I OCHRONY PRAWA ORAZ SĄDOWNICTWA | E29: =SUM(E30,E35,E37) -> 0 | F29: =F30 -> 2182150 | G29: =G30 -> 1556709.3 | H29: =G29/F29 -> 0.71338326
B30: 75109 | C30: Wybory do rad gmin, rad powiatów i sejmików województw, wybory wójtów, burmistrzów i prezydentów miast oraz referenda gminne, powiatowe i wojewódzkie | E30: =SUM(E31) -> 0 | F30: =SUM(F31) -> 2182150 | G30: =SUM(G31) -> 1556709.3 | H30: =G30/F30 -> 0.71338326
C31: 2210 | E31: 0 | F31: 2182150 | G31: 1556709.3 | H31: =G31/F31 -> 0.71338326
A32: 752 | B32: OBRONA NARODOWA | E32: =SUM(E33,E35,E37) -> 0 | F32: =F33 -> 5000 | G32: =G33 -> 5000 | H32: =G32/F32 -> 1
B33: 75212 | C33: Pozostałe wydatki obronne | E33: =SUM(E34) -> 0 | F33: =SUM(F34) -> 5000 | G33: =SUM(G34) -> 5000 | H33: =G33/F33 -> 1
C34: 2210 | E34: 0 | F34: 5000 | G34: 5000 | H34: =G34/F34 -> 1
A35: 801 | B35: OŚWIATA I WYCHOWANIE | E35: =SUM(E36) -> 0 | F35: =SUM(F36) -> 15088 | G35: =SUM(G36) -> 14870.94 | H35: =G35/F35 -> 0.98561373
B36: 80153 | C36: Zapewnienie uczniom prawa do bezpłatnego dostępu do podręczników, materiałów edukacyjnych lub materiałów ćwiczeniowych | E36: =SUM(E37) -> 0 | F36: =SUM(F37) -> 15088 | G36: =SUM(G37) -> 14870.94 | H36: =G36/F36 -> 0.98561373
C37: 2210 | E37: 0 | F37: 15088 | G37: 14870.94 | H37: =G37/F37 -> 0.98561373
A38: 851 | B38: OCHRONA ZDROWIA | E38: =SUM(E39,E41) -> 27595000 | F38: =SUM(F39,F41) -> 33349968 | G38: =SUM(G39,G41) -> 31808502 | H38: =G38/F38 -> 0.95377908
B39: 85157 | C39: Staże i specjalizacje medyczne | E39: =SUM(E40) -> 27555000 | F39: =SUM(F40) -> 33278368 | G39: =SUM(G40) -> 31742242 | H39: =G39/F39 -> 0.95384009
C40: 2210 | E40: 27555000 | F40: 33278368 | G40: 31742242 | H40: =G40/F40 -> 0.95384009
...

Sheet adm.rzad.wyd.
A1: II. WYDATKI
N2: w złotych
A3: Dział | B3: Rozdział | C3: Nazwa | D3: Paragraf | E3: Plan wg uchwały budżetowej | F3: Plan po zmianach | G3: Wykonanie | H3: Wydatki bieżące | I3: z tego: | N3: Wydatki majątkowe | O3: % wykonania (7:6)
I4: Wydatki jednostek budżetowych | J4: w tym: | L4: Dotacje na zadania bieżące | M4: Świadczenia na rzecz osób fizycznych
J5: wynagro- dzenia i składki od nich naliczane | K5: wydatki związane z realizacją ich statutowych zadań
A6: 1. | B6: 2. | C6: 3. | D6: 4. | E6: 5. | F6: 6. | G6: 7. | H6: 8. | I6: 9. | J6: 10. | K6: 11. | L6: 12. | M6: 13. | N6: 14. | O6: 15.
A7: 010 | B7: ROLNICTWO I ŁOWIECTWO | E7: =SUM(E8) -> 3668000 | F7: =SUM(F8) -> 3711067 | G7: =SUM(G8) -> 1925238.2 | H7: =SUM(H8) -> 1925238.2 | I7: =SUM(J7:K7) -> 1897302 | J7: =SUM(J8) -> 1897302 | K7: =SUM(K8) -> 0 | L7: 0 | M7: =SUM(M8) -> 27936.22 | N7: =SUM(N8) -> 0 | O7: =G7/F7 -> 0.51878293
B8: 01095 | C8: Pozostała działalność | D8: razem | E8: =SUM(E9:E14) -> 3668000 | F8: =SUM(F9:F14) -> 3711067 | G8: =SUM(H8,N8) -> 1925238.2 | H8: =SUM(I8,L8,M8) -> 1925238.2 | I8: =SUM(J8:K8) -> 1897302 | J8: =SUM(J9:J14) -> 1897302 | K8: =SUM(K9:K14) -> 0 | L8: =SUM(L9:L14) -> 0 | M8: =SUM(M9:M14) -> 27936.22 | N8: =SUM(N9:N14) -> 0 | O8: =G8/F8 -> 0.51878293
D9: 3020 | E9: 0 | F9: 28635 | G9: =H9+N9 -> 27936.22 | H9: =I9+L9+M9 -> 27936.22 | I9: =J9+K9 -> 0 | M9: 27936.22 | O9: =G9/F9 -> 0.975597
D10: 4010 | E10: 331023 | F10: 371205 | G10: =H10+N10 -> 371205 | H10: =I10+L10+M10 -> 371205 | I10: =J10+K10 -> 371205 | J10: 371205 | O10: =G10/F10 -> 1
D11: 4110 | E11: 56902 | F11: 63767 | G11: =H11+N11 -> 63767 | H11: =I11+L11+M11 -> 63767 | I11: =J11+K11 -> 63767 | J11: 63767 | O11: =G11/F11 -> 1
D12: 4120 | E12: 8110 | F12: 9095 | G12: =H12+N12 -> 9095 | H12: =I12+L12+M12 -> 9095 | I12: =J12+K12 -> 9095 | J12: 9095 | O12: =G12/F12 -> 1
D13: 4590 | E13: 3267000 | F13: 3238365 | G13: =H13+N13 -> 1453235 | H13: =I13+L13+M13 -> 1453235 | I13: =J13+K13 -> 1453235 | J13: 1453235 | O13: =G13/F13 -> 0.44875577
D14: 4710 | E14: 4965 | F14: 0 | G14: =H14+N14 -> 0 | H14: =I14+L14+M14 -> 0 | I14: =J14+K14 -> 0 | J14: 0
A15: 600 | B15: TRANSPORT I ŁĄCZNOŚĆ | E15: =SUM(E16,E21) -> 61527000 | F15: =SUM(F16,F21) -> 77849250 | G15: =SUM(G16,G21) -> 77844440 | H15: =SUM(H16,H21) -> 77844440 | I15: =SUM(I16,I21) -> 283462.86 | J15: =J16+J21 -> 283462.86 | K15: =SUM(K16,K21) -> 0 | L15: =SUM(L16,L21) -> 77560977 | M15: 0 | N15: 0 | O15: =G15/F15 -> 0.99993821
B16: 60003 | C16: Krajowe pasażerskie przewozy autobusowe | D16: razem | E16: =SUM(E17:E20) -> 61207000 | F16: =SUM(F17:F20) -> 77560977 | G16: =SUM(H16,N16) -> 77560977 | H16: =SUM(I16,L16,M16) -> 77560977 | I16: 0 | J16: 0 | K16: 0 | L16: =SUM(L17:L20) -> 77560977 | M16: 0 | N16: 0 | O16: =G16/F16 -> 1
D17: 2310 | E17: 700000 | F17: 638344 | G17: =H17+N17 -> 638344.38 | H17: =I17+L17+M17 -> 638344.38 | L17: 638344.38 | O17: =G17/F17 -> 1.0000006
D18: 2320 | E18: 5300000 | F18: 3832695 | G18: =H18+N18 -> 3832694.8 | H18: =I18+L18+M18 -> 3832694.8 | L18: 3832694.8 | O18: =G18/F18 -> 0.99999995
D19: 2630 | E19: 51207000 | F19: 65195685 | G19: =H19+N19 -> 65195686 | H19: =I19+L19+M19 -> 65195686 | L19: 65195686 | O19: =G19/F19 -> 1
D20: 2800 | E20: 4000000 | F20: 7894253 | G20: =H20+N20 -> 7894252.1 | H20: =I20+L20+M20 -> 7894252.1 | L20: 7894252.1 | O20: =G20/F20 -> 0.99999989
B21: 60095 | C21: Pozostała działalność | D21: razem | E21: =SUM(E22:E26) -> 320000 | F21: =SUM(F22:F26) -> 288273 | G21: =SUM(H21,N21) -> 283462.86 | H21: =SUM(I21,L21,M21) -> 283462.86 | I21: =SUM(J21:K21) -> 283462.86 | J21: =SUM(J22:J26) -> 283462.86 | K21: =SUM(K22:K26) -> 0 | L21: 0 | M21: 0 | N21: 0 | O21: =G21/F21 -> 0.98331394
D22: 4010 | E22: 123824 | F22: 139829 | G22: =H22+N22 -> 139829 | H22: =I22+L22+M22 -> 139829 | I22: =J22+K22 -> 139829 | J22: 139829 | O22: =G22/F22 -> 1
D23: 4110 | E23: 21286 | F23: 24018 | G23: =H23+N23 -> 24018 | H23: =I23+L23+M23 -> 24018 | I23: =J23+K23 -> 24018 | J23: 24018 | O23: =G23/F23 -> 1
D24: 4120 | E24: 3033 | F24: 3426 | G24: =H24+N24 -> 3426 | H24: =I24+L24+M24 -> 3426 | I24: =J24+K24 -> 3426 | J24: 3426 | O24: =G24/F24 -> 1
D25: 4300 | E25: 170000 | F25: 121000 | G25: =H25+N25 -> 116189.86 | H25: =I25+L25+M25 -> 116189.86 | I25: =J25+K25 -> 116189.86 | J25: 116189.86 | O25: =G25/F25 -> 0.96024678
D26: 4710 | E26: 1857 | F26: 0
A27: 630 | B27: TURYSTYKA | E27: =SUM(E28) -> 64000 | F27: =SUM(F28) -> 71358 | G27: =SUM(G28) -> 71358 | H27: =SUM(H28) -> 71358 | I27: =SUM(I28) -> 71358 | J27: =SUM(J28) -> 71358 | K27: =SUM(K28) -> 0 | L27: 0 | M27: 0 | N27: 0 | O27: =G27/F27 -> 1
B28: 63095 | C28: Pozostała działalność | D28: razem | E28: =SUM(E29:E32) -> 64000 | F28: =SUM(F29:F32) -> 71358 | G28: =SUM(H28,N28) -> 71358 | H28: =SUM(I28,L28,M28) -> 71358 | I28: =SUM(J28:K28) -> 71358 | J28: =SUM(J29:J32) -> 71358 | K28: =SUM(K29:K32) -> 0 | L28: 0 | M28: 0 | N28: 0 | O28: =G28/F28 -> 1
D29: 4010 | E29: 52832 | F29: 59650 | G29: =H29+N29 -> 59650 | H29: =I29+L29+M29 -> 59650 | I29: =J29+K29 -> 59650 | J29: 59650 | O29: =G29/F29 -> 1
D30: 4110 | E30: 9082 | F30: 10246 | G30: =H30+N30 -> 10246 | H30: =I30+L30+M30 -> 10246 | I30: =J30+K30 -> 10246 | J30: 10246 | O30: =G30/F30 -> 1
D31: 4120 | E31: 1294 | F31: 1462 | G31: =H31+N31 -> 1462 | H31: =I31+L31+M31 -> 1462 | I31: =J31+K31 -> 1462 | J31: 1462 | O31: =G31/F31 -> 1
D32: 4710 | E32: 792 | F32: 0
A33: 710 | B33: DZIAŁALNOŚĆ USŁUGOWA | E33: =E34 -> 370000 | F33: =F34 -> 403807 | G33: =G34 -> 403807 | H33: =H34 -> 403807 | I33: =I34 -> 403807 | J33: =J34 -> 343807 | K33: =K34 -> 60000 | L33: 0 | M33: 0 | N33: =N34 -> 0 | O33: =G33/F33 -> 1
B34: 71012 | C34: Ośrodki dokumentacji geodezyjnej i kartograficznej | D34: razem | E34: =SUM(E35:E38) -> 370000 | F34: =SUM(F35:F38) -> 403807 | G34: =SUM(H34,N34) -> 403807 | H34: =SUM(I34,L34,M34) -> 403807 | I34: =SUM(J34:K34) -> 403807 | J34: =SUM(J35:J38) -> 343807 | K34: =SUM(K35:K38) -> 60000 | L34: 0 | M34: 0 | N34: 0 | O34: =G34/F34 -> 1
D35: 4010 | E35: 257520 | F35: 285650 | G35: =H35+N35 -> 285650 | H35: =I35+L35+M35 -> 285650 | I35: =J35+K35 -> 285650 | J35: 285650 | O35: =G35/F35 -> 1
D36: 4110 | E36: 46170 | F36: 51217 | G36: =H36+N36 -> 51217 | H36: =I36+L36+M36 -> 51217 | I36: =J36+K36 -> 51217 | J36: 51217 | O36: =G36/F36 -> 1
D37: 4120 | E37: 6310 | F37: 6940 | G37: =H37+N37 -> 6940 | H37: =I37+L37+M37 -> 6940 | I37: =J37+K37 -> 6940 | J37: 6940 | O37: =G37/F37 -> 1
D38: 4300 | E38: 60000 | F38: 60000 | G38: =H38+N38 -> 60000 | H38: =I38+L38+M38 -> 60000 | I38: =J38+K38 -> 60000 | K38: 60000 | O38: =G38/F38 -> 1
A39: 750 | B39: ADMINISTRACJA PUBLICZNA | E39: =SUM(E40,E45,E51) -> 602000 | F39: =SUM(F40,F45,F51) -> 658321 | G39: =SUM(G40,G45,G51) -> 640959.82 | H39: =SUM(H40,H45,H51) -> 640959.82 | I39: =SUM(I40,I45,I51) -> 632376.22 | J39: =SUM(J40,J45,J51) -> 596527 | K39: =SUM(K40,K45,K51) -> 35849.22 | L39: 0 | M39: =SUM(M40,M45,M51) -> 8583.6 | N39: =SUM(N40,N45,N51) -> 0 | O39: =G39/F39 -> 0.97362809
B40: 75011 | C40: Urzędy wojewódzkie | D40: razem | E40: =SUM(E41:E44) -> 310000 | F40: =SUM(F41:F44) -> 344217 | G40: =SUM(H40,N40) -> 344217 | H40: =SUM(I40,L40,M40) -> 344217 | I40: =SUM(J40:K40) -> 344217 | J40: =SUM(J41:J44) -> 344217 | K40: =SUM(K42:K44) -> 0 | L40: 0 | M40: 0 | N40: 0 | O40: =SUM(G40/F40) -> 1
...

Sheet ustawy szczegól.
A2: Zestawienie wykonania planu dochodów i wydatków związanych ze szczególnymi zasadami wykonywania budżetu województwa wynikającymi z odrębnych ustaw
L3: w złotych
A4: Dział | B4: Rozdział | C4: Nazwa | D4: Paragraf | E4: Dochody | G4: Paragraf | H4: Wydatki | L4: Ustawa
H5: Plan po zmianach | I5: Wykonanie | J5: w tym wydatki:
E6: Plan po zmianach | F6: Wykonanie | J6: bieżące | K6: majątkowe
A7: 010 | C7: ROLNICTWO I ŁOWIECTWO | E7: =SUM(E8) -> 13000000 | F7: =SUM(F8) -> 21513483 | H7: =SUM(H8) -> 23168673 | I7: =SUM(I8) -> 17765993 | J7: =SUM(J8) -> 3838659.8 | K7: =SUM(K8) -> 13927334 | L7: Ustawa z dnia 3 lutego 1995r. o ochronie gruntów rolnych i leśnych (z późn. zm.)
B8: 01042 | C8: Wyłączenie z produkcji gruntów rolnych | E8: =SUM(E9:E15) -> 13000000 | F8: =SUM(F9:F15) -> 21513483 | H8: =SUM(H9:H15) -> 23168673 | I8: =SUM(I9:I15) -> 17765993 | J8: =SUM(J9:J15) -> 3838659.8 | K8: =SUM(K9:K15) -> 13927334
D9: 0690 | E9: 13000000 | F9: 21275765 | G9: 2310 | H9: 5140851 | I9: =J9+K9 -> 3714135.1 | J9: 3714135.1
D10: 0910 | E10: 0 | F10: 237717.87 | G10: 2320 | H10: 50000 | I10: =J10+K10 -> 27137.6 | J10: 27137.6
G11: 4210 | H11: 130000 | I11: =J11+K11 -> 97387.02 | J11: 97387.02
G12: 4300 | H12: 30000 | I12: =J12+K12 -> 0 | J12: 0
G13: 6060 | H13: 440000 | I13: =J13+K13 -> 356031.94 | K13: 356031.94
G14: 6610 | H14: 17347822 | I14: =J14+K14 -> 13554188 | K14: 13554188
G15: 6620 | H15: 30000 | I15: =J15+K15 -> 17114 | K15: 17114
A16: 600 | C16: TRANSPORT I ŁĄCZNOŚĆ | E16: =SUM(E17,E21) -> 6875000 | F16: =SUM(F17,F21) -> 6875000 | H16: =SUM(H17,H21) -> 16703847 | I16: =SUM(I17,I21) -> 12883904 | J16: =SUM(J17,J21) -> 11545723 | K16: =SUM(K17,K21) -> 1338181 | L16: Ustawa z dnia 16 grudnia 2005r. o Funduszu Kolejowym
B17: 60001 | C17: Krajowe pasażerskie przewozy kolejowe | E17: =SUM(E18:E19) -> 6875000 | F17: =SUM(F18:F19) -> 6875000 | H17: =SUM(H18:H20) -> 15677666 | I17: =SUM(I18:I20) -> 11857723 | J17: =SUM(J18:J20) -> 11545723 | K17: =SUM(K18:K20) -> 312000
D18: 2170 | E18: 5375000 | F18: 5375000 | G18: 2830 | H18: 3830000 | I18: =J18+K18 -> 3830000 | J18: 3830000
D19: 6350 | E19: 1500000 | F19: 1500000 | G19: 4270 | H19: 11463906 | I19: =J19+K19 -> 7715723 | J19: 7715723
G20: 6060 | H20: 383760 | I20: =J20+K20 -> 312000 | K20: 312000
B21: 60013 | C21: Drogi publiczne wojewódzkie | E21: =SUM(E23:E23) -> 0 | F21: =SUM(F23:F23) -> 0 | H21: =SUM(H22:H23) -> 1026181 | I21: =SUM(I22:I23) -> 1026181 | J21: =SUM(J23) -> 0 | K21: =SUM(K22:K23) -> 1026181 | L21: Ustawa z dnia 31 marca 2020 r. o zmianie ustawy o szczególnych rozwiązaniach związanych z zapobieganiem, przeciwdziałaniem i zwalczaniem COVID-19, innych chorób zakaźnych oraz wywołanych nimi sytuacji kryzysowych oraz niektórych innych ustaw (z późn. zm.)
E22: 0 | G22: 6050 | H22: 135046 | I22: =SUM(J22:K22) -> 135046 | K22: 135046
E23: 0 | G23: 6100 | H23: 891135 | I23: =SUM(J23:K23) -> 891135 | K23: 891135
A24: 756 | C24: DOCHODY OD OSÓB PRAWNYCH, OD OSÓB FIZYCZNYCH I OD INNYCH JEDNOSTEK NIEPOSIADAJĄCYCH OSOBOWOŚCI PRAWNEJ ORAZ WYDATKI ZWIĄZANE Z ICH POBOREM | E24: =SUM(E25) -> 1105000 | F24: =SUM(F25) -> 5619000 | H24: =SUM(H25) -> 0 | I24: =SUM(I25) -> 0 | J24: =SUM(J25) -> 0 | K24: =SUM(K25) -> 0 | L24: Ustawa z dnia 26 października 1982 r. o wychowaniu w trzeźwości i przeciwdziałaniu alkoholizmowi (z późn. zm.)
B25: 75618 | C25: Wpływy z innych opłat stanowiących dochody jednostek samorządu terytorialnego na podstawie ustaw | E25: =SUM(E26:E26) -> 1105000 | F25: =SUM(F26:F26) -> 5619000 | H25: =SUM(H26:H26) -> 0 | I25: =SUM(I26:I26) -> 0 | J25: =SUM(J26:J26) -> 0 | K25: =SUM(K26:K26) -> 0
D26: 0480 | E26: 1105000 | F26: 5619000
D27: 0690 | E27: 0 | F27: 40
A28: 758 | C28: RÓŻNE ROZLICZENIA | E28: =SUM(E29) -> 940433 | F28: =SUM(F29) -> 1227894.5 | H28: =SUM(H29) -> 0 | I28: =SUM(I29) -> 0 | J28: =SUM(J29) -> 0 | K28: =SUM(K29) -> 0 | L28: Ustawa z dnia 31 marca 2020 r. o zmianie ustawy o szczególnych rozwiązaniach związanych z zapobieganiem, przeciwdziałaniem i zwalczaniem COVID-19, innych chorób zakaźnych oraz wywołanych nimi sytuacji kryzysowych oraz niektórych innych ustaw (z późn. zm.)
B29: 75814 | C29: Różne rozliczenia finansowe | E29: =SUM(E30:E30) -> 940433 | F29: =SUM(F30:F30) -> 1227894.5 | H29: =SUM(H30:H30) -> 0 | I29: =SUM(I30:I30) -> 0 | J29: =SUM(J30:J30) -> 0 | K29: =SUM(K30:K30) -> 0
D30: 0920 | E30: 940433 | F30: 1227894.5
A31: 851 | C31: OCHRONA ZDROWIA | E31: =E37+E39+E32 -> 0 | F31: =F37+F39+F32 -> 461 | H31: =H37+H39+H32+H35 -> 7129042 | I31: =I37+I39+I32+I35 -> 7056817 | J31: =J37+J39+J32 -> 879101.43 | K31: =SUM(K39,K37,K35,K32) -> 6174040.3
B32: 85111 | C32: Szpitale ogólne | E32: =SUM(E34:E34) -> 0 | F32: =SUM(F34:F34) -> 0 | H32: =SUM(H33:H34) -> 995378 | I32: =SUM(I33:I34) -> 995377.16 | J32: =SUM(J33:J34) -> 0 | K32: =SUM(K33:K34) -> 995377.16
G33: 6220 | H33: 937366 | I33: 937365.28 | K33: 937365.28
G34: 6750 | H34: 58012 | I34: 58011.88 | K34: 58011.88
B35: 85112 | C35: Szpitale kliniczne | E35: =SUM(E36:E36) -> 0 | F35: =SUM(F36:F36) -> 0 | H35: =H36 -> 5178664 | I35: =I36 -> 5178663.2 | J35: =SUM(J36) -> 0 | K35: =K36 -> 5178663.2
G36: 6750 | H36: 5178664 | I36: 5178663.2 | K36: 5178663.2
B37: 85153 | C37: Zwalczanie narkomanii | E37: =SUM(E38:E38) -> 0 | F37: =SUM(F38:F38) -> 461 | H37: =SUM(H38:H38) -> 250000 | I37: =SUM(I38:I38) -> 208045.45 | J37: =SUM(J38:J38) -> 208045.45 | K37: =SUM(K38:K38) -> 0 | L37: Ustawa z dnia 26 października 1982 r. o wychowaniu w trzeźwości i przeciwdziałaniu alkoholizmowi (z późn. zm.)
D38: 0920 | E38: 0 | F38: 461 | G38: 2360 | H38: 250000 | I38: 208045.45 | J38: 208045.45
B39: 85154 | C39: Przeciwdziałanie alkoholizmowi | E39: =SUM(E40:E43) -> 0 | F39: =SUM(F40:F43) -> 0 | H39: =SUM(H40:H43) -> 705000 | I39: =SUM(I40:I43) -> 674731.18 | J39: =SUM(J40:J43) -> 671055.98 | K39: =SUM(K40:K43) -> 0
G40: 2360 | H40: 640000 | I40: 632986.88 | J40: 632986.88
G41: 4190 | H41: 42000 | I41: 31020.6 | J41: 31020.6
...

Sheet dotacjena podst. porozumień 
A2: Zestawienie wykonania planu dochodów i wydatków związanych z realizacją zadań wykonywanych w drodze umów lub porozumień między jednostkami samorządu terytorialnego na dofinansowanie własnych zadań bieżących oraz zadań inwestycyjnych i zakupów inwestycyjnych
L3: w złotych
A4: Dział | B4: Rozdział | C4: Nazwa | D4: Paragraf | E4: Dochody - otrzymane dotacje | G4: Paragraf | H4: Wydatki | L4: Przeznaczenie
H5: Plan po zmianach | I5: Wykonanie | J5: w tym wydatki:
E6: Plan po zmianach | F6: Wykonanie | J6: bieżące | K6: majątkowe
A7: 600 | C7: TRANSPORT I ŁĄCZNOŚĆ | E7: =SUM(E8,E11) -> 18136567 | F7: =SUM(F8,F11) -> 16814615 | H7: =SUM(H8,H11) -> 18136567 | I7: =SUM(I8,I11) -> 16814615 | J7: =SUM(J8,J11) -> 8179309 | K7: =SUM(K8,K11) -> 8635305.7
B8: 60001 | C8: Krajowe pasażerskie przewozy kolejowe | E8: =SUM(E9:E10) -> 6210227 | F8: =SUM(F9:F10) -> 6210226.1 | H8: =SUM(H9:H10) -> 6210227 | I8: =SUM(I9:I10) -> 6210226.1 | J8: =SUM(J9:J10) -> 6210226.1 | K8: =SUM(K9:K10) -> 0
D9: 2330 | E9: 84880 | F9: 84879.1 | G9: 2830 | H9: 84880 | I9: =J9 -> 84879.1 | J9: 84879.1 | K9: 0 | L9: Dotacja celowa otrzymana od Województwa Świętokrzyskiego z przeznaczeniem na realizację zadania pn.: "Organizowanie kolejowych przewozów pasażerskich realizowanych w ramach przewozów wojewódzkich".
D10: 2710 | E10: 6125347 | F10: 6125347 | G10: 2830 | H10: 6125347 | I10: =J10 -> 6125347 | J10: 6125347 | K10: 0 | L10: Pomoc finansowa udzielona przez jednostki samorządu terytorialnego z przeznaczeniem na realizację zadania pn.: "Organizowanie kolejowych przewozów pasażerskich realizowanych w ramach Podmiejskiej Kolei Aglomeracyjnej - PKA".
B11: 60013 | C11: Drogi publiczne wojewódzkie | E11: =SUM(E12:E15) -> 11926340 | F11: =SUM(F12:F15) -> 10604389 | H11: =SUM(H12:H15) -> 11926340 | I11: =SUM(I12:I15) -> 10604389 | J11: =SUM(J12:J15) -> 1969082.9 | K11: =SUM(K12:K15) -> 8635305.7
D12: 2710 | E12: 2101830 | F12: 1969082.9 | G12: 4270 | H12: 2101830 | I12: =J12+K12 -> 1969082.9 | J12: 1969082.9 | K12: 0 | L12: Pomoc finansowa udzielona przez: 1) jednostki samorządu terytorialnego w kwocie 1.869.082,89 zł z przeznaczeniem na: 1) remonty chodników przy drogach wojewódzkich w kwocie 698.254,55 zł, 2) odnowy dróg wojewódzkich - 1.170.828,34 zł. Szczegółowy podział pomocy finansowej przedstawiono w objaśnieniach do wykonania wydatków rozdziału 60013. 3) pomoc finansowa udzielona przez Gminę Lubaczów z przeznaczeniem na realizację zadania pn. „Odnowa nawierzchni drogi wojewódzkiej Nr 867 Sieniawa – Wola Mołodycka – Oleszyce – Lubaczów - Podemszczyzna – Werchrata – Hrebenne na odcinku Basznia Dolna – Horyniec Zdrój oraz na odcinku w m. Dobra i w m. Mołodycz" w kwocie 100.000,00 zł.
B13: 60013 | D13: 6300 | E13: 9824510 | F13: 8635305.7 | G13: 6050 | H13: 9824510 | I13: =J13+K13 -> 8635305.7 | J13: 0 | K13: 8635305.7 | L13: Pomoc finansowa udzielona przez: 1) jednostki samorządu terytorialnego w kwocie 6.124.707,82 zł z przeznaczeniem na: a) budowę chodników przy drogach wojewódzkich w kwocie 4.167.484,56 zł, b) przebudowy dróg wojewódzkich w kwocie 1.957.223,26 zł. Szczegółowy podział pomocy finansowej przedstawiono w objaśnieniach do wykonania wydatków rozdziału 60013. 2) jednostki samorządu terytorialnego w kwocie 1.521.666,13 zł, z przeznaczeniem na realizację inwestycji pn. Poprawa bezpieczeństwa niechronionych uczestników ruchu poprzez rozbudowę/przebudowę odcinków dróg wojewódzkich polegającą na budowie dróg dla pieszych oraz dróg dla pieszych i rowerów na terenie województwa podkarpackiego. Szczegółowy podział pomocy finansowej przedstawiono w objaśnieniach do wykonania wydatków rozdziału 60013. 3) Powiat Leski w kwocie 9.225,00 zł z przeznaczeniem na realizację inwestycji pn. Budowa obwodnicy Leska w ciągu DW 894 od DK 84 w m. Postołów do DW 894 w m. Huzele. 4) Gminę Jedlicze w kwocie 25,000,00 zł z przeznaczeniem na realizację inwestycji pn. Opracowanie dokumentacji projektowej dla zadania pn. Przebudowa drogi wojewódzkiej Nr 990 Twierdza - Krosno w miejscowości Potok, polegająca na budowie drogi dla pieszych i zatoki przystankowej wraz z niezbędną infrastrukturą techniczną, 5) Powiat Łańcucki w kwocie 572.824,07 zł i Miasto Łańcut w kwocie 381.882,72 zł z przeznaczeniem na realizację zadania pn. Opracowanie dokumentacji projektowej dla zadania pn. Przebudowa drogi wojewódzkiej Nr 990 Twierdza - Krosno w miejscowości Potok, polegająca na budowie drogi dla pieszych i zatoki przystankowej wraz z niezbędną infrastrukturą techniczną.
A16: 750 | C16: ADMINISTRACJA PUBLICZNA | E16: =E17 -> 50000 | F16: =F17 -> 50000 | H16: =H17 -> 50000 | I16: =I17 -> 50000 | J16: =J17 -> 50000 | K16: =K17 -> 0
B17: 75095 | C17: Pozostała działalność | E17: =E18 -> 50000 | F17: =F18 -> 50000 | H17: =H18 -> 50000 | I17: =J17+K17 -> 50000 | J17: =J18 -> 50000 | K17: =K18 -> 0
D18: 2710 | E18: 50000 | F18: 50000 | H18: 50000 | I18: =SUM(J18:K18) -> 50000 | J18: 50000 | L18: Pomoc finansowa udzielona przez Gminę Trzebownisko z przeznaczeniem na pokrycie części kosztów zarządzania Podkarpackim Parkiem Naukowo-Technologicznym w Strefie S1 w Jasionce.
A19: 853 | C19: POZOSTAŁE ZADANIA W ZAKRESIE POLITYKI SPOŁECZNEJ | E19: =E20 -> 74000 | F19: =F20 -> 74000 | H19: =H20 -> 74000 | I19: =I20 -> 74000 | J19: =J20 -> 0 | K19: =K20 -> 74000
B20: 85311 | C20: Rehabilitacja zawodowa i społeczna osób niepełnosprawnych | E20: =E21 -> 74000 | F20: =F21 -> 74000 | H20: =H21 -> 74000 | I20: =J20+K20 -> 74000 | J20: =J21 -> 0 | K20: =K21 -> 74000
D21: 6300 | E21: 74000 | F21: 74000 | H21: 74000 | I21: =SUM(J21:K21) -> 74000 | J21: 0 | K21: 74000 | L21: Dotacje celowe otrzymane od jednostek samorządu terytorialnego z przeznaczeniem dla Zakładu Aktywności Zawodowej w Nowej Sarzynie prowadzonego przez Stowarzyszenie "Dobry Dom" na dofinansowanie w 2024 r. kosztów zakupu 9-cio osobowego busa przystosowanego do przewozu osób niepełnosprawnych, w tym od: a) Miasta Przeworsk - 10.000,-zł, b) Miasta Nowa Sarzyna - 14.000,-zł, c) Gminy Grodzisko Dolne - 14.000,-zł, d) Gminy Raniżów - 8.000,-zł, e) Gminy Jeżowe - 14.000,-zł d) Gminy Kuryłówka - 14.000,-zł
A22: 855 | C22: RODZINA | E22: =SUM(E23) -> 6278358 | F22: =SUM(F23) -> 6149283.9 | H22: =SUM(H23) -> 6278358 | I22: =SUM(I23) -> 6149283.9 | J22: =SUM(J23) -> 6149283.9 | K22: =SUM(K23,K23) -> 0
B23: 85510 | C23: Działalność placówek opiekuńczo-wychowawczych | E23: =SUM(E24) -> 6278358 | F23: =SUM(F24) -> 6149283.9 | H23: =H24 -> 6278358 | I23: =SUM(I24) -> 6149283.9 | J23: =SUM(J24) -> 6149283.9 | K23: =SUM(K24) -> 0
D24: 2320 | E24: 6278358 | F24: 6149283.9 | G24: 2360 | H24: 6278358 | I24: =SUM(J24:K26) -> 6149283.9 | J24: 6149283.9 | K24: 0 | L24: Dotacje celowe otrzymane z powiatów z przeznaczeniem na prowadzenie regionalnych placówek opiekuńczo - terapeutycznych na terenie województwa podkarpackiego, w tym z: -Powiatu Jarosławskiego-119.097,36 zł, -Powiatu Inowrocławskiego-238.194,72 zł, -Powiatu Zielonogórskiego-112.785,88 zł, -Gminy Siemianowice Śląskie-238.194,72 zł, -Powiatu Gliwickiego-157.875,02 zł, -Powiatu Grodziskiego-357.292,08 zł, -Powiatu Nowosolskiego-119.097,36 zł, -Powiatu Drawskiego-119.097,36 zł, -Powiatu Hrubieszowskiego-119.097,36 zł, -Powiatu Chodzieskiego-238.194,72 zł, -Miasta Lublin-863.611,02 zł, -Miasta Tychy-193.925,26 zł, -Powiatu Żyrardowskiego-238.194,72 zł, -Powiatu Strzyżowskiego- 119.097,36 zł, -Powiatu Kamieńskiego-1.988,63 zł, -Powiatu Gorzowskiego-110.574,53 zł, -Powiatu Lubaczowskiego-28.067,85 zł, -Powiatu Pruszkowskiego-258.147,72 zł, -Miasta Sopot-119.928,17 zł, -Powiatu Pilskiego-272.306,71 zł, -Powiatu Kluczborskiego-129.073,86 zł, -Miasta Przemyśl-104.159,75 zł, -Powiatu Rzeszowskiego-516.295,44 zł, -Powiatu Leżajskiego-258.147,72 zł, -Miasta Bydgoszcz-129.073,86 zł, -Powiatu Radzyńskiego-129.073,86 zł, -Powiatu Tomaszowskiego-129.073,86 zł, -Powiatu Strzeleckiego -122.812,59 zł, -Powiatu Przemyskiego-258.147,72 zł, -Powiatu Stalowowolskiego-219.582,80 zł, -Miasta Płock-129.073,86 zł.
A27: 921 | C27: KULTURA I OCHRONA DZIEDZICTWA NARODOWEGO | E27: =SUM(E28,E32,E30) -> 203000 | F27: =SUM(F28,F32,F30) -> 203000 | H27: =SUM(H28,H32,H30) -> 203000 | I27: =SUM(I28,I32,I30) -> 203000 | J27: =SUM(J28,J32,J30) -> 203000 | K27: =SUM(K28,K32,K30) -> 0
B28: 92108 | C28: Filharmonie, orkiestry, chóry i kapele | E28: =SUM(E29) -> 70000 | F28: =SUM(F29) -> 70000 | H28: =SUM(H29) -> 70000 | I28: =SUM(J28:K28) -> 70000 | J28: =SUM(J29) -> 70000 | K28: =SUM(K29) -> 0
D29: 2710 | E29: 70000 | F29: 70000 | G29: 2800 | H29: 70000 | I29: =J29 -> 70000 | J29: 70000 | K29: 0 | L29: Pomoc finansowa udzielona przez Gminę Miasto Rzeszów dla Filharmonii Podkarpackiej im. Artura Malawskiego w Rzeszowie z przeznaczeniem na organizację imprezy pn. „Muzyczny Festiwal w Łańcucie”.
B30: 92116 | C30: Biblioteki | E30: =SUM(E31:E31) -> 114000 | F30: =SUM(F31:F31) -> 114000 | H30: =SUM(H31:H31) -> 114000 | I30: =SUM(J30:K30) -> 114000 | J30: =SUM(J31:J31) -> 114000 | K30: =SUM(K31:K31) -> 0
D31: 2320 | E31: 114000 | F31: 114000 | G31: 2800 | H31: 114000 | I31: =J31 -> 114000 | J31: 114000 | K31: 0 | L31: Dotacja celowa otrzymana z Powiatu Rzeszowskiego dla Wojewódzkiej i Miejskiej Bibliotece Publicznej w Rzeszowie z przeznaczeniem narealizację zadania pn. „Wykonywanie zadań powiatowej biblioteki publicznej dla Powiatu Rzeszowskiego”.
B32: 92120 | C32: Ochrona zabytków i opieka nad zabytkami | E32: =SUM(E33) -> 19000 | F32: =SUM(F33) -> 19000 | H32: =SUM(H33) -> 19000 | I32: =SUM(J32:K32) -> 19000 | J32: =SUM(J33) -> 19000 | K32: =SUM(K33) -> 0
D33: 2710 | E33: 19000 | F33: 19000 | G33: 2800 | H33: 19000 | I33: =J33 -> 19000 | J33: 19000 | K33: 0 | L33: Pomoc finansowa udzielona przez Miasto Łańcut z przeznaczeniem na realizację zadania pn. "Dzieje Starego Zamku w Łańcucie - zapomniane dziedzictwo".
A34: OGÓŁEM | E34: =SUM(E7,E22,E27,E19,E16) -> 24741925 | F34: =SUM(F7,F22,F27,F19,F16) -> 23290899 | H34: =SUM(H7,H22,H27,H19,H16) -> 24741925 | I34: =SUM(I7,I22,I27,I19,I16) -> 23290899 | J34: =SUM(J7,J22,J27,J19,J16) -> 14581593 | K34: =SUM(K7,K22,K27,K19,K16) -> 8709305.7

Sheet dotacje udzielone innym jst
A2: Zestawienie wykonania planu dotacji udzielonych innym jednostkom samorządu terytorialnego i ich związkom na dofinansowanie własnych zadań bieżących oraz zadań inwestycyjnych i zakupów inwestycyjnych
I3: w złotych
A4: Dział | B4: Rozdział | C4: Nazwa | D4: Paragraf | E4: Wydatki | I4: Przeznaczenie
E5: Plan po zmianach | F5: Wykonanie | G5: w tym wydatki:
G6: bieżące | H6: majątkowe
A7: 010 | C7: ROLNICTWO I ŁOWIECTWO | E7: =SUM(E8) -> 22568673 | F7: =SUM(F8) -> 17312575 | G7: =SUM(G8) -> 3741272.7 | H7: =SUM(H8) -> 13571302
B8: 01042 | C8: Wyłączenie z produkcji gruntów rolnych | E8: =SUM(E9:E12) -> 22568673 | F8: =SUM(F9:F12) -> 17312575 | G8: =SUM(G9:G12) -> 3741272.7 | H8: =SUM(H9:H12) -> 13571302
D9: 2310 | E9: 5140851 | F9: =SUM(G9:H9) -> 3714135.1 | G9: 3714135.1 | H9: 0 | I9: Dotacje celowe dla gmin z przeznaczeniem na modernizację dróg dojazdowych do gruntów rolnych oraz renowację zbiorników wodnych służących małej retencji.
D10: 2320 | E10: 50000 | F10: =SUM(G10:H10) -> 27137.6 | G10: 27137.6 | H10: 0 | I10: Dotacje celowe dla powiatów z przeznaczeniem na zakup sprzętu informatycznego oraz oprogramowania niezbędnego do prowadzenia spraw ochrony gruntów rolnych.
D11: 6610 | E11: 17347822 | F11: =SUM(G11:H11) -> 13554188 | G11: 0 | H11: 13554188 | I11: Dotacje celowe dla gmin z przeznaczeniem na budowę i modernizację dróg dojazdowych do gruntów rolnych oraz budowę i renowację zbiorników wodnych służących małej retencji.
D12: 6620 | E12: 30000 | F12: =SUM(G12:H12) -> 17114 | G12: 0 | H12: 17114 | I12: Dotacja celowa dla Powiatu Sanockieg z przeznaczeniem na zakup sprzętu informatycznego oraz oprogramowania niezbędnego do prowadzenia spraw ochrony gruntów rolnych.
A13: 600 | C13: TRANSPORT I ŁĄCZNOŚĆ | E13: =SUM(E21,E14,E18,E23,E26) -> 21907636 | F13: =SUM(F21,F14,F18,F23,F26) -> 20054486 | G13: =SUM(G21,G14,G18,G23,G26) -> 14065291 | H13: =SUM(H21,H14,H18,H23,H26) -> 5989194.7
B14: 60003 | C14: Krajowe pasażerskie przewozy pasażerowe | E14: =SUM(E15:E17) -> 12365292 | F14: =SUM(F15:F17) -> 12365291 | G14: =SUM(G15:G17) -> 12365291 | H14: =SUM(H15:H17) -> 0
D15: 2310 | E15: 638344 | F15: =SUM(G15:H15) -> 638344.38 | G15: 638344.38 | H15: 0 | I15: Dotacje celowe dla gmin i powiatów oraz ich związków – organizatorów publicznego transportu zbiorowego na finansowanie wypłaty rekompensaty operatorom publicznego transportu zbiorowego z tytułu utraconych przychodów w związku ze stosowaniem ustawowych uprawnień do ulgowych przejazdów w przewozach o charakterze użyteczności publicznej.
D16: 2320 | E16: 3832695 | F16: =SUM(G16:H16) -> 3832694.8 | G16: 3832694.8 | H16: 0
D17: 2800 | E17: 7894253 | F17: =SUM(G17:H17) -> 7894252.1 | G17: 7894252.1 | H17: 0
B18: 60013 | C18: Drogi publiczne wojewódzkie | E18: =SUM(E19:E20) -> 5412344 | F18: =SUM(F19:F20) -> 5283873.3 | G18: =SUM(G19:G20) -> 0 | H18: =SUM(H19:H20) -> 5283873.3
D19: 6610 | E19: 4543479 | F19: =SUM(H19:H19) -> 4542829.5 | G19: 0 | H19: 4542829.5 | I19: Dotacje celowe dla gmin z przeznaczeniem na realizację powierzonego zadania pn. „Dofinansowanie zadań poprawiających stan techniczny oraz bezpieczeństwo ruchu na drogach wojewódzkich, realizowanych przez Gminy na terenie Województwa Podkarpackiego w ramach Rządowego Funduszu Polski Ład: Program Inwestycji Strategicznych oraz Funduszu Przeciwdziałania COVID-19”, w tym dla: 1) Gminy Jaśliska na realizację powierzonego zadania pn. „Budowa chodnika w ciągu drogi wojewódzkiej nr 897 Tylawa – Komańcza polegająca na budowie chodnika w miejscowości Daliowa, Posada Jaśliska oraz Budowa chodników w ciągu drogi wojewódzkiej nr 897 Tylawa – Komańcza polegająca na zaprojektowaniu i wykonaniu chodnika w m. Wola Niżna i Moszczaniec wraz z zatokami autobusowymi” – 253.000,00 zł, 2) Gminy Krzeszów na realizację powierzonego zadania pn. „Budowa ciągu pieszo – rowerowego w pasie drogi wojewódzkiej Nr 863 Kopki – Krzeszów -Tarnogród - Cieszanów wraz z przebudową infrastruktury towarzyszącej” – 1.173.673,00 zł, 3) Gminy Bojanów na realizację powierzonego zadania pn. „Budowa chodnika w ciągu drogi wojewódzkiej Nr 861 Bojanów – Kopki w km 5+740 do km 6+535 strona lewa oraz w km 5+770 do km 5+830 strona prawa w miejscowości Cisów Las" - 367.000,00 zł, 4) Gminy Jeżowe na realizację powierzonego zadania pn. „Budowa ciągu pieszo -rowerowego przy drodze wojewódzkiej nr 861 w miejscowości Jeżowe Kameralne, Jata, Sójkowa" – 251.350,50 zł, 5) Gminy Harasiuki na realizację powierzonego zadania pn. „Przebudowa drogi wojewódzkiej Nr 858 na terenie gminy Harasiuki” – 2.497.806,00 zł.
D20: 6610 | E20: 868865 | F20: =SUM(H20:H20) -> 741043.76 | G20: 0 | H20: 741043.76 | I20: Dotacje celowe dla Gmin z terenu Województwa Podkarpackiego na realizację zadań powierzonych, z tego dla: 1) Gminy Pysznica z przeznaczeniem na realizację powierzonego zadania pn. „Budowa przejścia dla pieszych przez drogę wojewódzką nr 855 Olbięcin - Stalowa Wola na odcinku pomiędzy ul. Kochanowskiego a ul. Isep w m. Brandwica wraz z budową ciągu pieszo - rowerowego od przejścia do ul. Kochanowskiego” - 137.725,20 zł, 2) Gminy Miasta Rzeszów na realizację powierzonego zadania pn. „Budowa DW w Rzeszowie na odcinku od ul. Warszawskiej do ul. Krakowskiej - połączenie DK 97 z DK 94" w ramach zadania inwestycyjnego pod nazwą „Budowa drogi wraz z wiaduktem (nad ul. Warszawską i torami kolejowymi) od ul. Warszawskiej do ul. Krakowskiej - 430.000,00 zł, 3) Gminy Kolbuszowa z przeznaczeniem na realizację powierzonego zadania pn. "Opracowanie dokumentacji rozbudowy drogi wojewódzkiej nr 875 Mielec – Kolbuszowa - Sokołów Małopolski - Leżajsk polegającej na budowie mostu w km 25+968 wraz z rozbudową dojazdów oraz rozbiórką, budową i przebudową infrastruktury technicznej, budowli i urządzeń budowlanych w m. Kolbuszowa Dolna” - 173.318,56 zł.
B21: 60014 | C21: Drogi publiczne powiatowe | E21: =SUM(E22:E22) -> 1000000 | F21: =SUM(F22:F22) -> 0 | G21: =SUM(G22:G22) -> 0 | H21: =SUM(H22:H22) -> 0
D22: 2710 | E22: 1000000 | F22: =SUM(G22:H22) -> 0 | G22: 0 | H22: 0 | I22: Dotacje celowe na pomoc finansową dla Powiatu Sanockiego na realizację zadania pn. „Remont odcinkowy dróg powiatowych ul. Dmowskiego, ul. Staszica i ul. Królowej Bony stanowiącej starodroże byłej drogi wojewódzkiej Nr 886 od ronda im. Zdzisława Beksińskiego do skrzyżowania z DK 28 w Sanoku”. Wydatki nie zostały zrealizowane w 2024r.
B23: 60016 | C23: Drogi publiczne gminne | E23: =SUM(E24:E25) -> 1430000 | F23: =SUM(F24:F25) -> 705321.48 | G23: =SUM(G24:G25) -> 0 | H23: =SUM(H24:H25) -> 705321.48
D24: 6300 | E24: 1000000 | F24: =SUM(G24:H24) -> 275321.48 | G24: 0 | H24: 275321.48 | I24: Dotacja celowa na pomoc finansową dla Gminy Solina z przeznaczeniem na realizację zadania pn.: „Budowa kładki rowerowo - pieszej nad Jeziorem Solińskim".
E25: 430000 | F25: =SUM(G25:H25) -> 430000 | G25: 0 | H25: 430000 | I25: Dotacja celowa na pomoc finansową dla Gminy i Miasta Kańczuga z przeznaczeniem na realizację zadania pn. "Rozbudowa drogi gminnej publicznej nr 110710R Niżatyce - Żuklin w m. Niżatyce".
B26: 60078 | C26: Usuwanie skutków klęsk żywiołowych | E26: =SUM(E27:E27) -> 1700000 | F26: =SUM(F27:F27) -> 1700000 | G26: =SUM(G27:G27) -> 1700000 | H26: =SUM(H27:H27) -> 0
D27: 2710 | E27: 1700000 | F27: =SUM(G27:H27) -> 1700000 | G27: 1700000 | H27: 0 | I27: Dotacja celowa na pomoc finansową dla województw na realizację zadań związanych z bieżącym usuwaniem skutków klęski żywiołowej w infrastrukturze dróg wojewódzkich wywołanej ulewnymi opadami deszczu we wrześniu 2024 r., w tym dla: - Województwa Opolskiego - 935.000,00 zł, - Województwa Dolnośląskiego w kwocie 765.000,00 zł
A28: 630 | E28: =SUM(E29,E34) -> 186684 | F28: =SUM(F29,F34) -> 176206.04 | G28: =SUM(G29,G34) -> 116206.05 | H28: =SUM(H29,H34) -> 59999.99
B29: 63003 | C29: Zadania w zakresie upowszechniania turystyki | E29: =SUM(E30:E33) -> 169279 | F29: =SUM(F30:F33) -> 158801.04 | G29: =SUM(G30:G33) -> 98801.05 | H29: =SUM(H30:H33) -> 59999.99
D30: 2710 | E30: 99279 | F30: =G30 -> 98801.05 | G30: 98801.05 | H30: 0 | I30: Dotacje celowe na pomoc finansową dla gmin na realizację zadań własnych w ramach konkursu „Czas na Podkarpackie – I edycja” w zakresie zagospodarowania i modernizacji przestrzeni dla rozwoju turystyki i infrastruktury turystycznej przy zachowaniu zasad zrównoważonego rozwoju, w tym dla: 1) Gminy Tarnowiec na zadanie pn. „Szlakiem kapliczek, krzyży i figur przydrożnych - modernizacja małej infrastruktury turystycznej” – 5.500,00 zł, 2) Gminy Żołynia na zadanie pn. „Zakup ulicznego systemu wystawienniczego oraz stojaków na rowery” – 8.024,00 zł, 3) Gminy Besko na zadanie pn. „Poprawa atrakcyjności infrastruktury turystycznej w Gminie Besko” – 9.000,00 zł, 4) Gminy Lutowiska na zadanie pn. „Poprawa stanu infrastruktury turystycznej w Gminie Lutowiska poprzez remont oznakowania fragmentu ścieżki historyczno-przyrodniczej Przysłup Caryński – Krywe nad Sanem” – 8.000,00 zł, 5) Gminy Kuryłówka na zadanie pn. „Rozwój infrastruktury turystycznej na terenie Gminy Kuryłówka” – 10.000,00 zł, 6) Gminy Sanok na zadanie pn. „Gmina Sanok przyjazna dla turystów” – 9.618,00 zł, 7) Gminy Boguchwała na zadanie pn. „Modernizacja ogólnodostępnej i niekomercyjnej infrastruktury turystycznej na terenie Gminy Boguchwała” – 9.883,00 zł, 8) Gminy Bukowsko na zadanie pn. „Na podkarpackim szlaku Dawnych Osad – Bełchówka” – 10.000,00 zł, 9) Gminy Lubenia na zadanie pn. „Odnowa pokrycia dachowego małej infrastruktury turystycznej na terenie Kaskady Solankowej w Sołonce” – 10.000,00 zł, 10) Gminy Dydnia na zadanie pn. „Poprawa oferty turystycznej w miejscowości Witryłów i Końskie” – 10.000,00 zł, 11) Gminy Komańcza na zadanie pn. „Utworzenie parku edukacyjnego przy szlakach turystycznych w miejscowości Komańcza” – 8.776,05 zł.
D32: 6300 | E32: 50000 | F32: =G32+H32 -> 39999.99 | G32: 0 | H32: 39999.99 | I32: Dotacje celowe na pomoc finansową dla gmin na realizację zadań własnych w ramach konkursu „Czas Na Podkarpackie – I edycja” w zakresie zagospodarowania i modernizacji przestrzeni dla rozwoju turystyki i infrastruktury turystycznej przy zachowaniu zasad zrównoważonego rozwoju, w tym dla: 1) Gminy Zarszyn na zadanie pn. „Poprawa i rozwój infrastruktury w miejscach atrakcyjnych turystycznie” – 10.000,00 zł, 2) Gminy Horyniec Zdrój na zadanie pn. „Budowa altany turystyczno-rekreacyjnej” – 10.000,00 zł, 3) Gminy Jarocin na zadanie pn. „Modernizacja "Historycznego szlaku rowerowego" – 9.999,99 zł, 4) Gminy Frysztak na zadanie pn. „Miejsce Przyjazne Rowerzystom w gminie Frysztak” – 10.000,00 zł.
E33: 20000 | F33: =G33+H33 -> 20000 | G33: 0 | H33: 20000 | I33: Dotacja celowa na pomoc finansową dla Gminy Cieszanów na zadanie pn. „Urządzenie zbiornika wodnego z nasadzeniem krzewów – etap I” w ramach „Podkarpackiego Programu Odnowy Wsi na lata 2021-2025”.
B34: 63095 | C34: Pozostała działalność | E34: =E35 -> 17405 | F34: =F35 -> 17405 | G34: =G35 -> 17405 | H34: =H35 -> 0
D35: 2710 | E35: 17405 | F35: =SUM(G35:H35) -> 17405 | G35: 17405 | H35: 0 | I35: Dotacja celowa na pomoc finansową dla Gminy Besko na zadanie pn. „Odnowienie i uzupełnienie oznaczeń turystycznych oraz wydanie folderów promujących miejscowość, widokówki, gadżety oraz stworzenie strony internetowej dla Beskidzkiego Centrum Dziedzictwa” w ramach „Podkarpackiego Programu Odnowy Wsi na lata 2021-2025”.
A36: 700 | C36: GOSPODARKA MIESZKANIOWA | E36: =SUM(E37,E41) -> 416488 | F36: =SUM(F37,F41) -> 411924 | G36: =SUM(G37,G41) -> 151592 | H36: =SUM(H37,H41) -> 260332
B37: 70005 | C37: Gospodarka gruntami i nieruchomościami | E37: =SUM(E38:E40) -> 369488 | F37: =SUM(F38:F40) -> 364924 | G37: =SUM(G38:G40) -> 136592 | H37: =SUM(H38:H40) -> 228332
D38: 2710 | E38: 139000 | F38: =SUM(G38:H38) -> 136592 | G38: 136592 | H38: 0 | I38: Dotacje celowe na pomoc finansową dla gmin w ramach „Podkarpackiego Programu Odnowy Wsi na lata 2021-2025”, w tym dla: 1) Gminy Brzostek na zadanie pn. „Doposażenie Domu Ludowego w Gorzejowej” – 17.840,00 zł, 2) Gminy Przemyśl na zadanie pn. „Ogrodzenie placu zabaw i budynku Świetlicy w Stanisławczyku oraz zakup i montaż urządzeń na plac zabaw” – 19.821,00 zł, 3) Miasta i Gminy Bircza na zadanie pn. „Uporządkowanie i zagospodarowanie ogólnodostępnej przestrzeni publicznej poprzez utworzenie miejsca rekreacji w sołectwie Rudawka – etap III – 19.931,00 zł, 4) Gminy Krasiczyn na zadanie pn. „Zakup oraz montaż urządzeń placu zabaw oraz siłowni zewnętrznej wraz z organizacją pikniku sportowo rodzinnego” – 20.000,00 zł, 5) Gminy Gorzyce na zadanie pn. „Doposażenie zaplecza kuchennego świetlicy wiejskiej w Gorzycach celem zaspokojenia społeczno – kulturowych potrzeb mieszkańców” – 9.000,00 zł, 6) Gminy Żurawica na zadanie pn. „Zakup wyposażenia placu zabaw w Maćkowicach na dz. nr ewid. 253 i 254 Etap I” – 20.000,00 zł, 7) Gminy Rokietnica na zadanie pn. „Organizacja szkoleń w Świetlicy Wiejskiej w Rokietnicy w ramach koncepcji „Uniwersytet Samorządności” – 15.000,00 zł, 8) Miasta i Gminy Kańczuga na zadanie pn. „Ogólnodostępne, bezpłatne szkolenia i warsztaty dla mieszkańców powiatu przeworskiego w ramach koncepcji „Uniwersytet Samorządności” – 15.000,00 zł.
D39: 6300 | E39: 230488 | F39: =SUM(G39:H39) -> 228332 | G39: 0 | H39: 228332 | I39: Dotacje celowe na pomoc finansową dla gmin w ramach „Podkarpackiego Programu Odnowy Wsi na lata 2021-2025”, w tym dla: 1) Gminy Narol na zadanie pn. „Przebudowa budynku świetlicy wiejskiej w miejscowości Lipie” – 17.844,00 zł, 2) Gminy Zarzecze na zadanie pn. „Modernizacja budynku remizy w Kisielowie wraz z dostawą i montażem klimatyzacji” – 20.000,00 zł, 3) Gminy Roźwienica na zadanie pn. „Modernizacja pomieszczeń w budynku WDK w Cząstkowicach” – 20.000,00 zł, 4) Gminy Orły na zadanie pn. „Zagospodarowanie centrum wsi i zorganizowanie imprezy w Ciemięrzowicach” – 20.000,00 zł, 5) Gminy Leżajsk na zadanie pn. „Oznakowanie ścieżki pieszo – rowerowej wraz z wykonaniem miejsc rekreacji i odpoczynku przy ujściu rzeki Wisłok do rzeki San oraz na działce nr ewid. 781/6 w miejscowości Dębno” – 20.000,00 zł, 6) Gminy Korczyna na zadanie pn. „Zagospodarowanie terenu wokół Ośrodka Zdrowia w Komborni” – 20.000,00 zł, 7) Gminy Przeworsk na zadanie pn. „Modernizacja placu zabaw przy WDK w Gorliczynie” – 20.000,00 zł, 8) Gminy Jarosław na zadanie pn. „Zagospodarowanie terenu przy świetlicy wiejskiej poprzez modernizację istniejącego placu zabaw. Zagospodarowanie terenu w centrum wsi na cele rekreacyjno – wypoczynkowe poprzez oczyszczenie oczka wodnego” – 20.000,00 zł, 9) Miasta i Gminy Kańczuga na zadanie pn. „Modernizacja zaplecza kuchennego w budynku OSP w Lipniku w celu poprawy uatrakcyjnienia, funkcjonowania miejsca spotkań, integracji mieszkańców i kultywowania tradycji” – 20.000,00 zł, 10) Gminy Fredropol na zadanie pn. „Zagospodarowanie placu po oczyszczalni ścieków wraz z modernizacją i rozbudową placu zabaw” – 20.000,00 zł, 11) Gminy Pawłosiów na zadanie pn. „Prace modernizacyjne altany tanecznej w Tywoni” – 10.488,00 zł, 12) Gminy Cmolas na zadanie pn. „Wykonanie brakującej i odnowienie istniejącej infrastruktury ścieżki edukacyjno – przyrodniczej „Po złoto na Górę” oraz tras rowerowych „Białe Góry” i „Diabli Kamień” – 20.000,00 zł.
B41: 70095 | C41: Pozostała działalność | E41: =SUM(E42:E43) -> 47000 | F41: =SUM(F42:F43) -> 47000 | G41: =SUM(G42:G43) -> 15000 | H41: =SUM(H42:H43) -> 32000
D42: 2710 | E42: 15000 | F42: =SUM(G42:H42) -> 15000 | G42: 15000 | H42: 0 | I42: Dotacja celowa na pomoc finansową dla Gminy Trzebownisko na zadanie pn. „Warsztaty „Dekoracyjne inspiracje III” – cykl zajęć praktycznych na potrzeby realizacji II etapu koncepcji "Uniwersytet Samorządności” w ramach „Podkarpackiego Programu Odnowy Wsi na lata 2021-2025”.
D43: 6300 | E43: 32000 | F43: =SUM(G43:H43) -> 32000 | G43: 0 | H43: 32000 | I43: Dotacje celowe na pomoc finansową dla gmin w ramach „Podkarpackiego Programu Odnowy Wsi na lata 2021-2025”, w tym dla: 1) Gminy Tryńcza na zadanie pn. „Utworzenie ogólnodostępnej zewnętrznej tężni solankowej” - 20.000,00 zł, 2) Gminy Dzikowiec na zadanie pn. „Doposażenie placu zabaw w Wilczej Woli” - 12.000,00 zł.
...

Sheet przych i rozch.
A1: Zestawienie wykonania planu przychodów i rozchodów budżetu
A4: 1. PRZYCHODY
D5: w złotych
A6: Źródło przychodu | B6: Plan po zmianach | C6: Wykonanie | D6: % wykonania (3:2)
A7: 1. | B7: 2. | C7: 3. | D7: 4.
A8: Spłata udzielonych z budżetu pożyczek | B8: 691872 | C8: 870522.31 | D8: =C8/B8*100 -> 125.82129
A9: Nadwyżka z lat ubiegłych | B9: 36897727 | C9: 3.6400016e+08 | D9: =C9/B9*100 -> 986.51107
A10: Wolne środki jako nadwyżka środków pieniężnych na rachunku bieżącym budżetu jednostki samorządu terytorialnego wynikające z rozliczeń wyemitowanych papierów wartościowych, kredytów, pożyczek z lat ubiegłych | B10: 0 | C10: 1.8101956e+08 | D10: -
A11: Niewykorzystane środki na rachunku bieżącym budżetu, wynikające z rozliczenia dochodów i wydatków nimi finansowanych związane ze szczególnymi zasadami wykonywania budżetu określonymi w odrębnych ustawach | B11: 25643044 | C11: 54307355 | D11: =C11/B11*100 -> 211.78202
A12: Niewykorzystane środki pieniężne na rachunku bieżącym budżetu, wynikające z rozliczenia środków określonych w art. 5 ust. 1 pkt 2 ustawy o finansach publicznych i dotacji na realizację programu, projektu lub zadania finansowanego z udziałem tych środków | B12: 15475474 | C12: 19488263 | D12: =C12/B12*100 -> 125.92999
A13: OGÓŁEM | B13: =SUM(B8:B12) -> 78708117 | C13: =SUM(C8:C12) -> 6.1968586e+08 | D13: =C13/B13*100 -> 787.32141
A16: 2. ROZCHODY
D17: w złotych
A18: Przeznaczenie rozchodu | B18: Plan po zmianach | C18: Wykonanie | D18: % wykonania (3:2)
A19: 1. | B19: 2. | C19: 3. | D19: 4.
A20: Spłaty rat pożyczki długoterminowej z Banku Rozwoju Rady Europy (CEB) | B20: 20560000 | C20: 20560000 | D20: =C20/B20*100 -> 100
A21: Wykup obligacji | B21: 12000000 | C21: 12000000 | D21: =C21/B21*100 -> 100
A22: Udzielone pożyczki | B22: 4337727 | C22: 1191422.4 | D22: =C22/B22*100 -> 27.466515
A23: OGÓŁEM | B23: =SUM(B20:B22) -> 36897727 | C23: =SUM(C20:C22) -> 33751422 | D23: =C23/B23*100 -> 91.472904
J328: =G328/D328 -> #DIV/0!

Sheet wyodrębniony rachunek
